BEGIN:VCALENDAR
VERSION:2.0
PRODID:-//Park District of Oak Park - ECPv5.14.1//NONSGML v1.0//EN
CALSCALE:GREGORIAN
METHOD:PUBLISH
X-WR-CALNAME:Park District of Oak Park
X-ORIGINAL-URL:https://pdop.org
X-WR-CALDESC:Events for Park District of Oak Park
REFRESH-INTERVAL;VALUE=DURATION:PT1H
X-Robots-Tag:noindex
X-PUBLISHED-TTL:PT1H
BEGIN:VTIMEZONE
TZID:America/Chicago
BEGIN:DAYLIGHT
TZOFFSETFROM:-0600
TZOFFSETTO:-0500
TZNAME:CDT
DTSTART:20260308T080000
END:DAYLIGHT
BEGIN:STANDARD
TZOFFSETFROM:-0500
TZOFFSETTO:-0600
TZNAME:CST
DTSTART:20261101T070000
END:STANDARD
END:VTIMEZONE
BEGIN:VEVENT
DTSTART;TZID=America/Chicago:20260111T150000
DTEND;TZID=America/Chicago:20260111T170000
DTSTAMP:20260422T201857
CREATED:20250815T164751Z
LAST-MODIFIED:20250815T164751Z
UID:1825355-1768143600-1768150800@pdop.org
SUMMARY:My Doll and Me Skate
DESCRIPTION:Spend a charming afternoon at the rink with your favorite doll or stuffed animal! Stop by our DIY Doll Salon to pamper your special friend and enjoy a skate together. Every participant receives a raffle ticket for a chance to win a coveted 2026 American Girl Doll of the Year! \nSkate rentals are included in the registration fee.
URL:https://pdop.org/event/my-doll-and-me-skate/
LOCATION:Ridgeland Common Recreation Complex\, 415 Lake St\, Oak Park\, IL\, 60302\, United States
ATTACH;FMTTYPE=image/jpeg:https://pdop.org/wp-content/uploads/2024/11/doll-and-me-scaled.jpg
END:VEVENT
BEGIN:VEVENT
DTSTART;TZID=America/Chicago:20260214T193000
DTEND;TZID=America/Chicago:20260214T213000
DTSTAMP:20260422T201857
CREATED:20251030T200219Z
LAST-MODIFIED:20251030T200219Z
UID:2052286-1771097400-1771104600@pdop.org
SUMMARY:Teen Night at the Rink: Valentine's Day
DESCRIPTION:Grab your friends and celebrate Valentine’s Day with pizza and an on-ice obstacle course. It’s the perfect way to hang out and make some memories.
URL:https://pdop.org/event/teen-night-at-the-rink-valentines-day/
LOCATION:Ridgeland Common Recreation Complex\, 415 Lake St\, Oak Park\, IL\, 60302\, United States
ATTACH;FMTTYPE=image/jpeg:https://pdop.org/wp-content/uploads/2025/10/54A2492.jpg
END:VEVENT
BEGIN:VEVENT
DTSTART;TZID=America/Chicago:20260410T183000
DTEND;TZID=America/Chicago:20260410T201500
DTSTAMP:20260422T201857
CREATED:20260302T212131Z
LAST-MODIFIED:20260302T212131Z
UID:2323355-1775845800-1775852100@pdop.org
SUMMARY:School of Rock Rocks the Rink
DESCRIPTION:Join us for a rockin’ concert on the ice with guest stars from School of Rock! Skate under multicolor lights while enjoying live music. Skate rental included. Open to all ages. \nFree with rink pass!
URL:https://pdop.org/event/school-of-rock-rocks-the-rink/
LOCATION:Ridgeland Common Recreation Complex\, 415 Lake St\, Oak Park\, IL\, 60302\, United States
ATTACH;FMTTYPE=image/jpeg:https://pdop.org/wp-content/uploads/2025/08/54A2270.jpg
END:VEVENT
END:VCALENDAR