BEGIN:VCALENDAR
VERSION:2.0
PRODID:-//Park District of Oak Park - ECPv5.14.1//NONSGML v1.0//EN
CALSCALE:GREGORIAN
METHOD:PUBLISH
X-WR-CALNAME:Park District of Oak Park
X-ORIGINAL-URL:https://pdop.org
X-WR-CALDESC:Events for Park District of Oak Park
REFRESH-INTERVAL;VALUE=DURATION:PT1H
X-Robots-Tag:noindex
X-PUBLISHED-TTL:PT1H
BEGIN:VTIMEZONE
TZID:America/Chicago
BEGIN:DAYLIGHT
TZOFFSETFROM:-0600
TZOFFSETTO:-0500
TZNAME:CDT
DTSTART:20260308T080000
END:DAYLIGHT
BEGIN:STANDARD
TZOFFSETFROM:-0500
TZOFFSETTO:-0600
TZNAME:CST
DTSTART:20261101T070000
END:STANDARD
END:VTIMEZONE
BEGIN:VEVENT
DTSTART;TZID=America/Chicago:20260605T090000
DTEND;TZID=America/Chicago:20260605T100000
DTSTAMP:20260422T161147
CREATED:20260219T060650Z
LAST-MODIFIED:20260219T060650Z
UID:2311642-1780650000-1780653600@pdop.org
SUMMARY:Nia (Friday)
DESCRIPTION:This unique fitness class blends dance\, martial arts\, and healing to achieve your fitness goals and express yourself through movement and sensation. Come experience Nia in this barefoot\, aerobic\, movement based class. Appropriate for all fitness levels; no dance experience necessary.
URL:https://pdop.org/event/nia-friday-23/
END:VEVENT
BEGIN:VEVENT
DTSTART;TZID=America/Chicago:20260605T090000
DTEND;TZID=America/Chicago:20260605T100000
DTSTAMP:20260422T161147
CREATED:20260219T060650Z
LAST-MODIFIED:20260219T060650Z
UID:2311643-1780650000-1780653600@pdop.org
SUMMARY:BODYPUMP (Friday)
DESCRIPTION: LesMills BODYPUMP(TM) is the original barbell class that strengthens your entire body. This workout challenges all your major muscle groups by using the best weight room exercises\, like squats\, presses\, lifts and curls. Great music\, awesome instructors and your choice of weight inspires you to get the results you came for and fast!
URL:https://pdop.org/event/bodypump-friday-23/
END:VEVENT
BEGIN:VEVENT
DTSTART;TZID=America/Chicago:20260605T090000
DTEND;TZID=America/Chicago:20260605T100000
DTSTAMP:20260422T161147
CREATED:20260420T062225Z
LAST-MODIFIED:20260420T062225Z
UID:2364288-1780650000-1780653600@pdop.org
SUMMARY:Nia (Friday)
DESCRIPTION:This unique fitness class blends dance\, martial arts\, and healing to achieve your fitness goals and express yourself through movement and sensation. Come experience Nia in this barefoot\, aerobic\, movement based class. Appropriate for all fitness levels; no dance experience necessary.
URL:https://pdop.org/event/nia-friday-48/
CATEGORIES:Fitness Dropin
END:VEVENT
BEGIN:VEVENT
DTSTART;TZID=America/Chicago:20260605T090000
DTEND;TZID=America/Chicago:20260605T100000
DTSTAMP:20260422T161147
CREATED:20260420T062226Z
LAST-MODIFIED:20260420T062226Z
UID:2364289-1780650000-1780653600@pdop.org
SUMMARY:BODYPUMP (Friday)
DESCRIPTION: LesMills BODYPUMP(TM) is the original barbell class that strengthens your entire body. This workout challenges all your major muscle groups by using the best weight room exercises\, like squats\, presses\, lifts and curls. Great music\, awesome instructors and your choice of weight inspires you to get the results you came for and fast!
URL:https://pdop.org/event/bodypump-friday-48/
CATEGORIES:Fitness Dropin
END:VEVENT
BEGIN:VEVENT
DTSTART;TZID=America/Chicago:20260605T093000
DTEND;TZID=America/Chicago:20260605T101500
DTSTAMP:20260422T161147
CREATED:20260219T060650Z
LAST-MODIFIED:20260219T060650Z
UID:2311644-1780651800-1780654500@pdop.org
SUMMARY:Pilates (Friday)
DESCRIPTION:Experience a dynamic Pilates class designed to strengthen your core\, improve flexibility\, and enhance overall body awareness.
URL:https://pdop.org/event/pilates-friday-18/
END:VEVENT
BEGIN:VEVENT
DTSTART;TZID=America/Chicago:20260605T093000
DTEND;TZID=America/Chicago:20260605T130000
DTSTAMP:20260422T161147
CREATED:20260420T062226Z
LAST-MODIFIED:20260420T062226Z
UID:2364290-1780651800-1780664400@pdop.org
SUMMARY:Top Golf
DESCRIPTION:School’s out! Come with us to learn a new skill to show off this summer at Top Golf in Schamburg\, IL. Join us for a morning of private golf lessons taught bya certified professional. Players of all skill levels are welcomed. Group lessons include a drink and shared appetizer.
URL:https://pdop.org/event/top-golf/
CATEGORIES:Teen Programs
END:VEVENT
BEGIN:VEVENT
DTSTART;TZID=America/Chicago:20260605T100000
DTEND;TZID=America/Chicago:20260605T123000
DTSTAMP:20260422T161147
CREATED:20260420T062226Z
LAST-MODIFIED:20260420T062226Z
UID:2364291-1780653600-1780662600@pdop.org
SUMMARY:Top Golf
DESCRIPTION:School’s out! Come with us to learn a new skill to show off this summer at Top Golf in Schamburg\, IL. Join us for a morning of private golf lessons taught bya certified professional. Players of all skill levels are welcomed. Group lessons include a drink and shared appetizer.
URL:https://pdop.org/event/top-golf-2/
CATEGORIES:Teen Programs
END:VEVENT
BEGIN:VEVENT
DTSTART;TZID=America/Chicago:20260605T113000
DTEND;TZID=America/Chicago:20260605T130000
DTSTAMP:20260422T161147
CREATED:20260420T062226Z
LAST-MODIFIED:20260420T062226Z
UID:2364292-1780659000-1780664400@pdop.org
SUMMARY:Noon Skate
DESCRIPTION:Noon Skate:$12 SKATES INCLUDED! \nMondays\, Wednesdays and Fridays ONLY! \nPre-Registration and Walk-Ins accepted. \nRink Membership are available under the "Membership/Passes" tab.
URL:https://pdop.org/event/noon-skate-90/
END:VEVENT
BEGIN:VEVENT
DTSTART;TZID=America/Chicago:20260605T120000
DTEND;TZID=America/Chicago:20260605T124500
DTSTAMP:20260422T161147
CREATED:20260420T062227Z
LAST-MODIFIED:20260420T062227Z
UID:2364293-1780660800-1780663500@pdop.org
SUMMARY:Conservatory Yoga (Friday)
DESCRIPTION:Reconnect with nature and yourself in this calming yoga class set within the beauty of the Conservatory\, where gentle movement and mindful breathing cultivate balance\, relaxation\, and a sense of inner peace. \nWe will be under the tent in the garden weather permitting; class will be inside otherwise. Please bring a yoga mat\, water bottle\, and towel if preferred.
URL:https://pdop.org/event/conservatory-yoga-friday-2/
CATEGORIES:Fitness Dropin
END:VEVENT
BEGIN:VEVENT
DTSTART;TZID=America/Chicago:20260605T130000
DTEND;TZID=America/Chicago:20260605T134500
DTSTAMP:20260422T161147
CREATED:20260420T062227Z
LAST-MODIFIED:20260420T062227Z
UID:2364294-1780664400-1780667100@pdop.org
SUMMARY:Pilates (Friday)
DESCRIPTION:Experience a dynamic Pilates class designed to strengthen your core\, improve flexibility\, and enhance overall body awareness.
URL:https://pdop.org/event/pilates-friday-34/
CATEGORIES:Fitness Dropin
END:VEVENT
BEGIN:VEVENT
DTSTART;TZID=America/Chicago:20260605T164500
DTEND;TZID=America/Chicago:20260605T181500
DTSTAMP:20260422T161147
CREATED:20260420T062227Z
LAST-MODIFIED:20260420T062227Z
UID:2364295-1780677900-1780683300@pdop.org
SUMMARY:All Ages Stick & Puck
DESCRIPTION:All players must pre-register at least 1 hour prior to the session. \nGear Requirements 18 & Up: Helmet\, elbow pads\, gloves\, shin pads\, hockey skates \nGear Requirements 17 & Under: Full gear – helmet w/ full face shield\, chest pad\, elbow pads\, hockey gloves\, hockey pants\, shin pads\, skates \nStick & Puck is for open hockey and skill practice only. \nScrimmages of any sort are strictly prohibited.  \nCoaching and instruction of any sort is strictly prohibited during Skills & Drills sessions.
URL:https://pdop.org/event/all-ages-stick-puck-30/
END:VEVENT
BEGIN:VEVENT
DTSTART;TZID=America/Chicago:20260605T173000
DTEND;TZID=America/Chicago:20260605T183000
DTSTAMP:20260422T161147
CREATED:20260219T060651Z
LAST-MODIFIED:20260219T060651Z
UID:2311645-1780680600-1780684200@pdop.org
SUMMARY:Power Vinyasa (Friday)
DESCRIPTION:Improve your flexibility\, strength\, balance\, and mental stillness with this challenging yet accessible yoga class. Explore breath to movement and learn more about your personal yoga practice.
URL:https://pdop.org/event/power-vinyasa-friday-23/
END:VEVENT
BEGIN:VEVENT
DTSTART;TZID=America/Chicago:20260605T173000
DTEND;TZID=America/Chicago:20260605T183000
DTSTAMP:20260422T161147
CREATED:20260420T062228Z
LAST-MODIFIED:20260420T062228Z
UID:2364296-1780680600-1780684200@pdop.org
SUMMARY:Power Vinyasa (Friday)
DESCRIPTION:Improve your flexibility\, strength\, balance\, and mental stillness with this challenging yet accessible yoga class. Explore breath to movement and learn more about your personal yoga practice.
URL:https://pdop.org/event/power-vinyasa-friday-48/
CATEGORIES:Fitness Dropin
END:VEVENT
BEGIN:VEVENT
DTSTART;TZID=America/Chicago:20260605T180000
DTEND;TZID=America/Chicago:20260605T200000
DTSTAMP:20260422T161147
CREATED:20260420T062228Z
LAST-MODIFIED:20260420T062228Z
UID:2364297-1780682400-1780689600@pdop.org
SUMMARY:Scrunchies & Reusable Bags
DESCRIPTION:Get creative while learning to sew with sustainability in mind! In this beginner-friendly class\, participants will make their own stylish fabric scrunchies and a reusable tote bag\, perfect for everyday use or gifting. Our instructor will teach basic sewing machine techniques\, fabric cutting\, and simple finishing methods. You’ll leave with two handmade projects and the skills to keep creating at home. No sewing experience necessary
URL:https://pdop.org/event/scrunchies-reusable-bags/
CATEGORIES:Arts & Crafts
END:VEVENT
BEGIN:VEVENT
DTSTART;TZID=America/Chicago:20260605T183000
DTEND;TZID=America/Chicago:20260605T201500
DTSTAMP:20260422T161147
CREATED:20260420T062229Z
LAST-MODIFIED:20260420T062229Z
UID:2364299-1780684200-1780690500@pdop.org
SUMMARY:Public Skate
DESCRIPTION:Public Skate:$12 SKATES INCLUDED \nPre-Registration and Walk-Ins accepted. \nRink Membership are available under the "Membership/Passes"  tab.
URL:https://pdop.org/event/public-skate-49/
END:VEVENT
BEGIN:VEVENT
DTSTART;TZID=America/Chicago:20260605T183000
DTEND;TZID=America/Chicago:20260605T203000
DTSTAMP:20260422T161147
CREATED:20260420T062229Z
LAST-MODIFIED:20260420T062229Z
UID:2364298-1780684200-1780691400@pdop.org
SUMMARY:Enameling June 5-26
DESCRIPTION:Whether you're a beginner or have some experience\, this workshop covers essential techniques\, from preparing metals to applying powdered glass enamel and firing. Explore different techniques – such as cloisonné\, sgraffito\, and stenciling – and create your unique pieces. Guided by an experienced instructor\, you’ll gain hands-on practice\, learn about color layering\, and create wearable art. All materials are included\, so just bring your creativity!
URL:https://pdop.org/event/enameling-june-5-26/
CATEGORIES:Arts & Crafts
END:VEVENT
BEGIN:VEVENT
DTSTART;TZID=America/Chicago:20260606T071500
DTEND;TZID=America/Chicago:20260606T081500
DTSTAMP:20260422T161147
CREATED:20260219T060651Z
LAST-MODIFIED:20260219T060651Z
UID:2311646-1780730100-1780733700@pdop.org
SUMMARY:BODYPUMP (Saturday)
DESCRIPTION: LesMills BODYPUMP(TM) is the original barbell class that strengthens your entire body. This workout challenges all your major muscle groups by using the best weight room exercises\, like squats\, presses\, lifts and curls. Great music\, awesome instructors and your choice of weight inspires you to get the results you came for and fast! \n 
URL:https://pdop.org/event/bodypump-saturday-23/
END:VEVENT
BEGIN:VEVENT
DTSTART;TZID=America/Chicago:20260606T071500
DTEND;TZID=America/Chicago:20260606T081500
DTSTAMP:20260422T161147
CREATED:20260420T062230Z
LAST-MODIFIED:20260420T062230Z
UID:2364300-1780730100-1780733700@pdop.org
SUMMARY:BODYPUMP (Saturday)
DESCRIPTION: LesMills BODYPUMP(TM) is the original barbell class that strengthens your entire body. This workout challenges all your major muscle groups by using the best weight room exercises\, like squats\, presses\, lifts and curls. Great music\, awesome instructors and your choice of weight inspires you to get the results you came for and fast! \n 
URL:https://pdop.org/event/bodypump-saturday-45/
CATEGORIES:Fitness Dropin
END:VEVENT
BEGIN:VEVENT
DTSTART;TZID=America/Chicago:20260606T080000
DTEND;TZID=America/Chicago:20260606T084500
DTSTAMP:20260422T161147
CREATED:20260219T060651Z
LAST-MODIFIED:20260219T060651Z
UID:2311647-1780732800-1780735500@pdop.org
SUMMARY:BOOTCAMP: Strength Training (Saturday)
DESCRIPTION:This strength training class will help to sculpt your physique\, build muscle\, and enhance overall strength through dynamic workouts that combine resistance training\, functional movements\, and high-intensity exercises in a motivating group setting!
URL:https://pdop.org/event/bootcamp-strength-training-saturday-21/
END:VEVENT
BEGIN:VEVENT
DTSTART;TZID=America/Chicago:20260606T080000
DTEND;TZID=America/Chicago:20260606T084500
DTSTAMP:20260422T161147
CREATED:20260420T062230Z
LAST-MODIFIED:20260420T062230Z
UID:2364301-1780732800-1780735500@pdop.org
SUMMARY:BOOTCAMP: Strength Training (Saturday)
DESCRIPTION:This strength training class will help to sculpt your physique\, build muscle\, and enhance overall strength through dynamic workouts that combine resistance training\, functional movements\, and high-intensity exercises in a motivating group setting!
URL:https://pdop.org/event/bootcamp-strength-training-saturday-40/
CATEGORIES:Fitness Dropin
END:VEVENT
BEGIN:VEVENT
DTSTART;TZID=America/Chicago:20260606T083000
DTEND;TZID=America/Chicago:20260606T093000
DTSTAMP:20260422T161147
CREATED:20260219T060651Z
LAST-MODIFIED:20260219T060651Z
UID:2311648-1780734600-1780738200@pdop.org
SUMMARY:Cycle (Saturday)
DESCRIPTION:There's something for everyone in these classes: Intervals\, rolling hills\, sprints\, climbs\, runs\, surges and jumps all to music hand-picked to motivate and inspire! This is a great workout if you want to burn calories and increase endurance. Come on in for the ride!
URL:https://pdop.org/event/cycle-saturday-22/
END:VEVENT
BEGIN:VEVENT
DTSTART;TZID=America/Chicago:20260606T083000
DTEND;TZID=America/Chicago:20260606T093000
DTSTAMP:20260422T161147
CREATED:20260420T062230Z
LAST-MODIFIED:20260420T062230Z
UID:2364302-1780734600-1780738200@pdop.org
SUMMARY:Cycle (Saturday)
DESCRIPTION:There's something for everyone in these classes: Intervals\, rolling hills\, sprints\, climbs\, runs\, surges and jumps all to music hand-picked to motivate and inspire! This is a great workout if you want to burn calories and increase endurance. Come on in for the ride!
URL:https://pdop.org/event/cycle-saturday-44/
CATEGORIES:Fitness Dropin
END:VEVENT
BEGIN:VEVENT
DTSTART;TZID=America/Chicago:20260606T093000
DTEND;TZID=America/Chicago:20260606T100000
DTSTAMP:20260422T161147
CREATED:20260219T060652Z
LAST-MODIFIED:20260219T060652Z
UID:2311649-1780738200-1780740000@pdop.org
SUMMARY:Foam Rolling (Saturday)
DESCRIPTION:Using tools such as a lacrosse ball and a foam roller\, this class focuses on self massage techniques that relieve muscle tension and increase range of motion. Self myofascial release corrects postural imbalances and improves neck\, shoulder\, back\, and knee pain. Learn and practice techniques that is popular among athletes–from gymnasts to basketball players–to decrease post-exercise recovery time\, enhance performance\, and prevent injury. You'll also learn new core exercises to help stabilize your body during everyday movements. 
URL:https://pdop.org/event/foam-rolling-saturday-22/
END:VEVENT
BEGIN:VEVENT
DTSTART;TZID=America/Chicago:20260606T093000
DTEND;TZID=America/Chicago:20260606T100000
DTSTAMP:20260422T161147
CREATED:20260420T062231Z
LAST-MODIFIED:20260420T062231Z
UID:2364303-1780738200-1780740000@pdop.org
SUMMARY:Foam Rolling (Saturday)
DESCRIPTION:Using tools such as a lacrosse ball and a foam roller\, this class focuses on self massage techniques that relieve muscle tension and increase range of motion. Self myofascial release corrects postural imbalances and improves neck\, shoulder\, back\, and knee pain. Learn and practice techniques that is popular among athletes–from gymnasts to basketball players–to decrease post-exercise recovery time\, enhance performance\, and prevent injury. You'll also learn new core exercises to help stabilize your body during everyday movements. 
URL:https://pdop.org/event/foam-rolling-saturday-44/
CATEGORIES:Fitness Dropin
END:VEVENT
BEGIN:VEVENT
DTSTART;TZID=America/Chicago:20260606T100000
DTEND;TZID=America/Chicago:20260606T120000
DTSTAMP:20260422T161147
CREATED:20260420T062231Z
LAST-MODIFIED:20260420T062231Z
UID:2364304-1780740000-1780747200@pdop.org
SUMMARY:Get to Know Your Machine June 6
DESCRIPTION:New to sewing or need a refresher? This hands-on class is perfect for anyone who wants to feel confident using their sewing machine! Participants will learn how to thread the machine\, wind a bobbin\, adjust settings\, and practice basic stitches while completing a simple project. Our instructor will walk you through troubleshooting tips and essential techniques so you can sew with ease at home.
URL:https://pdop.org/event/get-to-know-your-machine-june-6/
CATEGORIES:Arts & Crafts
END:VEVENT
BEGIN:VEVENT
DTSTART;TZID=America/Chicago:20260606T100000
DTEND;TZID=America/Chicago:20260606T133000
DTSTAMP:20260422T161147
CREATED:20260106T154527Z
LAST-MODIFIED:20260106T154527Z
UID:2259932-1780740000-1780752600@pdop.org
SUMMARY:Repair Cafe
DESCRIPTION:Open the first Saturday of every month\, 10:00A-1:30P at Fox Center (624 S Oak Park Ave)\n\n\n\nToss it? No way! The Oak Park Repair Café meets the first Saturday of the month at Fox Center. Repair coaches will be available to help you fix anything from small appliances to torn clothing. \nThe Oak Park Repair Café is free and open to the public; since we started in 2013 we’ve kept over 700 items out of the landfill! \nGiven the increase in volume we request each guest bring one item for repair. \nThank you\, and looking forward to seeing you there! \nTo learn more about the international Repair Café movement\, please go to www.repaircafe.org. The Oak Park Repair Café can be found at www.repaircafeoakparkil.org.
URL:https://pdop.org/event/repair-cafe-4/2026-06-06/
LOCATION:Fox Center\, 624 S. Oak Park Avenue\, Oak Park\, IL\, United States
ATTACH;FMTTYPE=image/png:https://pdop.org/wp-content/uploads/2025/06/repair-cafe.png
END:VEVENT
BEGIN:VEVENT
DTSTART;TZID=America/Chicago:20260606T103000
DTEND;TZID=America/Chicago:20260606T111500
DTSTAMP:20260422T161147
CREATED:20260219T060652Z
LAST-MODIFIED:20260219T060652Z
UID:2311650-1780741800-1780744500@pdop.org
SUMMARY:Werq Dance Fitness (Saturday)
DESCRIPTION:Build cardiovascular endurance and strengthen your heart muscle while dancing to today's hottest Top 40 Pop\, Rock and Hip Hop Music! \nWERQ® is the fiercely fun dance fitness class based on pop\, rock\, and hip hop music taught by Certified Fitness Professionals.
URL:https://pdop.org/event/werq-dance-fitness-saturday-21/
END:VEVENT
BEGIN:VEVENT
DTSTART;TZID=America/Chicago:20260606T103000
DTEND;TZID=America/Chicago:20260606T111500
DTSTAMP:20260422T161147
CREATED:20260420T062231Z
LAST-MODIFIED:20260420T062231Z
UID:2364305-1780741800-1780744500@pdop.org
SUMMARY:Werq Dance Fitness (Saturday)
DESCRIPTION:Build cardiovascular endurance and strengthen your heart muscle while dancing to today's hottest Top 40 Pop\, Rock and Hip Hop Music! \nWERQ® is the fiercely fun dance fitness class based on pop\, rock\, and hip hop music taught by Certified Fitness Professionals.
URL:https://pdop.org/event/werq-dance-fitness-saturday-41/
CATEGORIES:Fitness Dropin
END:VEVENT
BEGIN:VEVENT
DTSTART;TZID=America/Chicago:20260606T130000
DTEND;TZID=America/Chicago:20260606T143000
DTSTAMP:20260422T161147
CREATED:20260420T062232Z
LAST-MODIFIED:20260420T062232Z
UID:2364306-1780750800-1780756200@pdop.org
SUMMARY:Beginner Foraging - 6/6/2026
DESCRIPTION:Let’s go outdoors! We’re learning an new skill to help us survive in the wilderness. \nJoin us for a crash course in edible plants in our area and take home your own foraging guide.
URL:https://pdop.org/event/beginner-foraging-6-6-2026/
CATEGORIES:Teen Programs,Nature Programs
END:VEVENT
BEGIN:VEVENT
DTSTART;TZID=America/Chicago:20260606T183000
DTEND;TZID=America/Chicago:20260606T201500
DTSTAMP:20260422T161147
CREATED:20260420T062232Z
LAST-MODIFIED:20260420T062232Z
UID:2364307-1780770600-1780776900@pdop.org
SUMMARY:Public Skate
DESCRIPTION:Public Skate:$12 SKATES INCLUDED \nPre-Registration and Walk-Ins accepted. \nRink Membership are available under the "Membership/Passes"  tab.
URL:https://pdop.org/event/public-skate-50/
END:VEVENT
END:VCALENDAR