BEGIN:VCALENDAR
VERSION:2.0
PRODID:-//Park District of Oak Park - ECPv5.14.1//NONSGML v1.0//EN
CALSCALE:GREGORIAN
METHOD:PUBLISH
X-WR-CALNAME:Park District of Oak Park
X-ORIGINAL-URL:https://pdop.org
X-WR-CALDESC:Events for Park District of Oak Park
REFRESH-INTERVAL;VALUE=DURATION:PT1H
X-Robots-Tag:noindex
X-PUBLISHED-TTL:PT1H
BEGIN:VTIMEZONE
TZID:America/Chicago
BEGIN:DAYLIGHT
TZOFFSETFROM:-0600
TZOFFSETTO:-0500
TZNAME:CDT
DTSTART:20260308T080000
END:DAYLIGHT
BEGIN:STANDARD
TZOFFSETFROM:-0500
TZOFFSETTO:-0600
TZNAME:CST
DTSTART:20261101T070000
END:STANDARD
END:VTIMEZONE
BEGIN:VEVENT
DTSTART;TZID=America/Chicago:20260518T120000
DTEND;TZID=America/Chicago:20260518T124500
DTSTAMP:20260422T112045
CREATED:20260420T062102Z
LAST-MODIFIED:20260420T062102Z
UID:2364108-1779105600-1779108300@pdop.org
SUMMARY:Express BODYPUMP (Monday)
DESCRIPTION:LesMills BODYPUMP (TM) is the original barbell class that strengthens your entire body. This 45-minute workout challenges all your major muscle groups by using the best weight room exercises\, like squats\, presses\, lifts\, and curls.
URL:https://pdop.org/event/express-bodypump-monday-86/
CATEGORIES:Fitness Dropin
END:VEVENT
BEGIN:VEVENT
DTSTART;TZID=America/Chicago:20260518T120000
DTEND;TZID=America/Chicago:20260518T124500
DTSTAMP:20260422T112045
CREATED:20260219T060628Z
LAST-MODIFIED:20260219T060628Z
UID:2311536-1779105600-1779108300@pdop.org
SUMMARY:Express BODYPUMP (Monday)
DESCRIPTION:LesMills BODYPUMP (TM) is the original barbell class that strengthens your entire body. This 45-minute workout challenges all your major muscle groups by using the best weight room exercises\, like squats\, presses\, lifts\, and curls.
URL:https://pdop.org/event/express-bodypump-monday-40/
END:VEVENT
BEGIN:VEVENT
DTSTART;TZID=America/Chicago:20260518T113000
DTEND;TZID=America/Chicago:20260518T130000
DTSTAMP:20260422T112045
CREATED:20260420T062102Z
LAST-MODIFIED:20260420T062102Z
UID:2364107-1779103800-1779109200@pdop.org
SUMMARY:Noon Skate
DESCRIPTION:Noon Skate:$12 SKATES INCLUDED! \nMondays\, Wednesdays and Fridays ONLY! \nPre-Registration and Walk-Ins accepted. \nRink Membership are available under the "Membership/Passes" tab.
URL:https://pdop.org/event/noon-skate-77/
END:VEVENT
BEGIN:VEVENT
DTSTART;TZID=America/Chicago:20260518T101500
DTEND;TZID=America/Chicago:20260518T114500
DTSTAMP:20260422T112045
CREATED:20260420T062101Z
LAST-MODIFIED:20260420T062101Z
UID:2364106-1779099300-1779104700@pdop.org
SUMMARY:Preschool Playtime (ages 1-6)
DESCRIPTION:$8 per visit\, or buy a prepaid 10-visit pass for $70. \nA favorite with all our preschoolers\, this is an open gym for children 1-6 years old. All children must be accompanied and supervised by an adult at all times. \nDrop-ins will not accepted after max registrations have been reached\, even if other participants leave. Registration opens 7 days before each Playtime\, and you have up to 24 hours before each Playtime to cancel your pre-registration.
URL:https://pdop.org/event/preschool-playtime-ages-1-6-90/
END:VEVENT
BEGIN:VEVENT
DTSTART;TZID=America/Chicago:20260518T090000
DTEND;TZID=America/Chicago:20260518T100000
DTSTAMP:20260422T112045
CREATED:20260420T062100Z
LAST-MODIFIED:20260420T062100Z
UID:2364105-1779094800-1779098400@pdop.org
SUMMARY:Nia (Monday)
DESCRIPTION:This unique fitness class blends dance\, martial arts\, and healing to achieve your fitness goals and express yourself through movement and sensation. Come experience Nia in this barefoot\, aerobic\, movement based class. Appropriate for all fitness levels; no dance experience necessary.
URL:https://pdop.org/event/nia-monday-43/
CATEGORIES:Fitness Dropin
END:VEVENT
BEGIN:VEVENT
DTSTART;TZID=America/Chicago:20260518T090000
DTEND;TZID=America/Chicago:20260518T100000
DTSTAMP:20260422T112045
CREATED:20260219T060628Z
LAST-MODIFIED:20260219T060628Z
UID:2311535-1779094800-1779098400@pdop.org
SUMMARY:Nia (Monday)
DESCRIPTION:This unique fitness class blends dance\, martial arts\, and healing to achieve your fitness goals and express yourself through movement and sensation. Come experience Nia in this barefoot\, aerobic\, movement based class. Appropriate for all fitness levels; no dance experience necessary.
URL:https://pdop.org/event/nia-monday-20/
END:VEVENT
BEGIN:VEVENT
DTSTART;TZID=America/Chicago:20260518T060000
DTEND;TZID=America/Chicago:20260518T064500
DTSTAMP:20260422T112045
CREATED:20260420T062059Z
LAST-MODIFIED:20260420T062059Z
UID:2364104-1779084000-1779086700@pdop.org
SUMMARY:Express BODYPUMP (Monday)
DESCRIPTION:LesMills BODYPUMP (TM) is the original barbell class that strengthens your entire body. This 45-minute workout challenges all your major muscle groups by using the best weight room exercises\, like squats\, presses\, lifts\, and curls.
URL:https://pdop.org/event/express-bodypump-monday-85/
CATEGORIES:Fitness Dropin
END:VEVENT
BEGIN:VEVENT
DTSTART;TZID=America/Chicago:20260518T060000
DTEND;TZID=America/Chicago:20260518T064500
DTSTAMP:20260422T112045
CREATED:20260219T060628Z
LAST-MODIFIED:20260219T060628Z
UID:2311534-1779084000-1779086700@pdop.org
SUMMARY:Express BODYPUMP (Monday)
DESCRIPTION:LesMills BODYPUMP (TM) is the original barbell class that strengthens your entire body. This 45-minute workout challenges all your major muscle groups by using the best weight room exercises\, like squats\, presses\, lifts\, and curls.
URL:https://pdop.org/event/express-bodypump-monday-39/
END:VEVENT
BEGIN:VEVENT
DTSTART;TZID=America/Chicago:20260517T163000
DTEND;TZID=America/Chicago:20260517T183000
DTSTAMP:20260422T112045
CREATED:20260420T062059Z
LAST-MODIFIED:20260420T062059Z
UID:2364103-1779035400-1779042600@pdop.org
SUMMARY:Open Gym (Ages 6+)
DESCRIPTION:$14 per visit\, or buy a prepaid 5-visit pass for $65. \nNo gymnastics experience required! This program is intended for anyone who wants to practice independently to improve their skills. \nDrop-ins will not accepted after max registrations have been reached\, even if other participants leave. Registration opens 7 days before each Open Gym\, and you have up to 24 hours before each Open Gym to cancel your pre-registration.
URL:https://pdop.org/event/open-gym-ages-6-16/
END:VEVENT
BEGIN:VEVENT
DTSTART;TZID=America/Chicago:20260517T150000
DTEND;TZID=America/Chicago:20260517T163000
DTSTAMP:20260422T112045
CREATED:20260420T062058Z
LAST-MODIFIED:20260420T062058Z
UID:2364102-1779030000-1779035400@pdop.org
SUMMARY:Ceramics Open Studio 1.5 Hours
DESCRIPTION:Come on in to finish pieces you worked on in our other classes like Family Ceramics\, Youth Ceramics\, Beginners Ceramics\, Beginners' Wheel\, and Partner Ceramics
URL:https://pdop.org/event/ceramics-open-studio-1-5-hours-22/
CATEGORIES:Arts & Crafts
END:VEVENT
BEGIN:VEVENT
DTSTART;TZID=America/Chicago:20260517T130000
DTEND;TZID=America/Chicago:20260517T150000
DTSTAMP:20260422T112045
CREATED:20260420T062057Z
LAST-MODIFIED:20260420T062057Z
UID:2364100-1779022800-1779030000@pdop.org
SUMMARY:Race Day Rally!
DESCRIPTION:Get ready for the Indy 500 with a high-energy bash built for grown-up race fans!  Primetime Racing will be set up on the patio at Cheney Mansion for fun slot car racing for grown ups!   Fuel up with a BBQ lunch\, a cold drink\, and play some lawn and pit stop games on the lawn.  This is your chance to rev up\, relax\, and celebrate Indy style—no pit crew required! Ages 21+  
URL:https://pdop.org/event/race-day-rally/
END:VEVENT
BEGIN:VEVENT
DTSTART;TZID=America/Chicago:20260517T130000
DTEND;TZID=America/Chicago:20260517T143000
DTSTAMP:20260422T112045
CREATED:20260420T062057Z
LAST-MODIFIED:20260420T062057Z
UID:2364101-1779022800-1779028200@pdop.org
SUMMARY:Ceramics Open Studio 1.5 Hours
DESCRIPTION:Come on in to finish pieces you worked on in our other classes like Family Ceramics\, Youth Ceramics\, Beginners Ceramics\, Beginners' Wheel\, and Partner Ceramics
URL:https://pdop.org/event/ceramics-open-studio-1-5-hours-21/
CATEGORIES:Arts & Crafts
END:VEVENT
BEGIN:VEVENT
DTSTART;TZID=America/Chicago:20260517T124500
DTEND;TZID=America/Chicago:20260517T144500
DTSTAMP:20260422T112045
CREATED:20260420T062056Z
LAST-MODIFIED:20260420T062056Z
UID:2364099-1779021900-1779029100@pdop.org
SUMMARY:Public Skate
DESCRIPTION:Public Skate:$12 SKATES INCLUDED \nPre-Registration and Walk-Ins accepted. \nRink Membership are available under the "Membership/Passes"  tab.
URL:https://pdop.org/event/public-skate-41/
END:VEVENT
BEGIN:VEVENT
DTSTART;TZID=America/Chicago:20260517T110000
DTEND;TZID=America/Chicago:20260517T120000
DTSTAMP:20260422T112045
CREATED:20260420T062055Z
LAST-MODIFIED:20260420T062055Z
UID:2364098-1779015600-1779019200@pdop.org
SUMMARY:Low Impact Full-Body Workout (Sunday)
DESCRIPTION:Join this class for a rejuvenating fitness experience that's gentle on your joints while effectively targeting every muscle group. This Low-Impact Full-Body Workout offers a satisfying blend of strength\, flexibility\, and cardio\, suitable for all fitness levels. Come and discover how gentle movements can still yield powerful results.
URL:https://pdop.org/event/low-impact-full-body-workout-sunday-41/
CATEGORIES:Fitness Dropin
END:VEVENT
BEGIN:VEVENT
DTSTART;TZID=America/Chicago:20260517T110000
DTEND;TZID=America/Chicago:20260517T120000
DTSTAMP:20260422T112045
CREATED:20260219T060627Z
LAST-MODIFIED:20260219T060627Z
UID:2311533-1779015600-1779019200@pdop.org
SUMMARY:Low Impact Full-Body Workout (Sunday)
DESCRIPTION:Join this class for a rejuvenating fitness experience that's gentle on your joints while effectively targeting every muscle group. This Low-Impact Full-Body Workout offers a satisfying blend of strength\, flexibility\, and cardio\, suitable for all fitness levels. Come and discover how gentle movements can still yield powerful results.
URL:https://pdop.org/event/low-impact-full-body-workout-sunday-19/
END:VEVENT
BEGIN:VEVENT
DTSTART;TZID=America/Chicago:20260517T100000
DTEND;TZID=America/Chicago:20260517T120000
DTSTAMP:20260422T112045
CREATED:20260420T062055Z
LAST-MODIFIED:20260420T062055Z
UID:2364097-1779012000-1779019200@pdop.org
SUMMARY:Ceramics Open Studio 2 Hours
DESCRIPTION:Come on in to finish pieces you worked on in our other classes like Family Ceramics\, Youth Ceramics\, Beginners Ceramics\, Beginners' Wheel\, and Partner Ceramics
URL:https://pdop.org/event/ceramics-open-studio-2-hours-26/
CATEGORIES:Arts & Crafts
END:VEVENT
BEGIN:VEVENT
DTSTART;TZID=America/Chicago:20260517T100000
DTEND;TZID=America/Chicago:20260517T110000
DTSTAMP:20260422T112045
CREATED:20260420T062054Z
LAST-MODIFIED:20260420T062054Z
UID:2364096-1779012000-1779015600@pdop.org
SUMMARY:Yoga Barre (Sunday)
DESCRIPTION:This fusion class consists of Yoga and strength training. Exercises will focus on abs\, bottom and inner thigh to achieve long lean muscle tone and also to give that booty a pop! Class is done in bare feet\, socks with grips\, or ballet shoes. 
URL:https://pdop.org/event/yoga-barre-sunday-42/
CATEGORIES:Fitness Dropin
END:VEVENT
BEGIN:VEVENT
DTSTART;TZID=America/Chicago:20260517T100000
DTEND;TZID=America/Chicago:20260517T110000
DTSTAMP:20260422T112045
CREATED:20260219T060627Z
LAST-MODIFIED:20260219T060627Z
UID:2311532-1779012000-1779015600@pdop.org
SUMMARY:Yoga Barre (Sunday)
DESCRIPTION:This fusion class consists of Yoga and strength training. Exercises will focus on abs\, bottom and inner thigh to achieve long lean muscle tone and also to give that booty a pop! Class is done in bare feet\, socks with grips\, or ballet shoes. 
URL:https://pdop.org/event/yoga-barre-sunday-19/
END:VEVENT
BEGIN:VEVENT
DTSTART;TZID=America/Chicago:20260517T094500
DTEND;TZID=America/Chicago:20260517T103000
DTSTAMP:20260422T112045
CREATED:20260420T062053Z
LAST-MODIFIED:20260420T062053Z
UID:2364095-1779011100-1779013800@pdop.org
SUMMARY:Cardio HIIT + Core (Sunday)
DESCRIPTION:HIIT or High intensity interval training is a fantastic workout for all bodies. This interval-based full-body strength and cardio training focused on short bursts of intense work. Moderate to high impact exercises focus on aerobic and anaerobic fitness for max results. Finish the class with core-based conditioning focused on abdomen and back strength and stretching.
URL:https://pdop.org/event/cardio-hiit-core-sunday-40/
CATEGORIES:Fitness Dropin
END:VEVENT
BEGIN:VEVENT
DTSTART;TZID=America/Chicago:20260517T094500
DTEND;TZID=America/Chicago:20260517T103000
DTSTAMP:20260422T112045
CREATED:20260219T060627Z
LAST-MODIFIED:20260219T060627Z
UID:2311531-1779011100-1779013800@pdop.org
SUMMARY:Cardio HIIT + Core (Sunday)
DESCRIPTION:HIIT or High intensity interval training is a fantastic workout for all bodies. This interval-based full-body strength and cardio training focused on short bursts of intense work. Moderate to high impact exercises focus on aerobic and anaerobic fitness for max results. Finish the class with core-based conditioning focused on abdomen and back strength and stretching.
URL:https://pdop.org/event/cardio-hiit-core-sunday-19/
END:VEVENT
BEGIN:VEVENT
DTSTART;TZID=America/Chicago:20260517T093000
DTEND;TZID=America/Chicago:20260517T113000
DTSTAMP:20260422T112045
CREATED:20260420T062052Z
LAST-MODIFIED:20260420T062052Z
UID:2364094-1779010200-1779017400@pdop.org
SUMMARY:Spring Plant & Tool Exchange
DESCRIPTION:Sunday\, May 17 \nDrop Off\, 9:30–10:30A\nPick Up\, 11:00–11:30A\nPresented by the Friends of the Oak Park Conservatory\nPlant swap at the Conservatory! Join other gardeners and share your favorite plants and extra tools at the annual spring exchange. Please bring at least one healthy plant from your garden or a house plant to participate in the swap\, and be sure to label your plants. You can bring as many as you like! \nAdvanced registration is required. Ages 18+ \nHelp keep plastic pots out of our landfills – save your garden plastic pots from the Annual Plant Sale and return them for reuse. 
URL:https://pdop.org/event/spring-plant-tool-exchange-2/
END:VEVENT
BEGIN:VEVENT
DTSTART;TZID=America/Chicago:20260517T083000
DTEND;TZID=America/Chicago:20260517T093000
DTSTAMP:20260422T112045
CREATED:20260420T062052Z
LAST-MODIFIED:20260420T062052Z
UID:2364093-1779006600-1779010200@pdop.org
SUMMARY:Body and Soul Workshop
DESCRIPTION:Address your whole-self\, body and soul\, with this hour long session of physical and expressive wellness led by  Marea\, an artist interested in community building and facilitating healing.  This compassionate and experienced instructor holds a 200-hour Certification in Yoga  and Healing Circle facilitation. Eastern and Western wellness traditions blend for a physical\, artistic and reflective workout. \nEach session offers a thoughtful half hour of Yoga\, breathwork\, Pilates\, Physical Therapy and core strength exercises. The flow continues for a half hour of creative outlets like journaling\, collage and art therapy. Whether you're seeking pain relief\, fitness\, or an outlet for the pressures of the modern world\, Body and Soul offers a supportive space for you to grow.
URL:https://pdop.org/event/body-and-soul-workshop-14/
CATEGORIES:Fitness Dropin
END:VEVENT
BEGIN:VEVENT
DTSTART;TZID=America/Chicago:20260517T083000
DTEND;TZID=America/Chicago:20260517T093000
DTSTAMP:20260422T112045
CREATED:20260420T062051Z
LAST-MODIFIED:20260420T062051Z
UID:2364092-1779006600-1779010200@pdop.org
SUMMARY:Nia (Sunday)
DESCRIPTION:This unique fitness class blends dance\, martial arts\, and healing to achieve your fitness goals and express yourself through movement and sensation. Come experience Nia in this barefoot\, aerobic\, movement based class. Appropriate for all fitness levels; no dance experience necessary.
URL:https://pdop.org/event/nia-sunday-40/
CATEGORIES:Fitness Dropin
END:VEVENT
BEGIN:VEVENT
DTSTART;TZID=America/Chicago:20260517T083000
DTEND;TZID=America/Chicago:20260517T093000
DTSTAMP:20260422T112045
CREATED:20260219T060627Z
LAST-MODIFIED:20260219T060627Z
UID:2311529-1779006600-1779010200@pdop.org
SUMMARY:Body and Soul Workshop
DESCRIPTION:Address your whole-self\, body and soul\, with this hour long session of physical and expressive wellness led by  Marea\, an artist interested in community building and facilitating healing.  This compassionate and experienced instructor holds a 200-hour Certification in Yoga  and Healing Circle facilitation. Eastern and Western wellness traditions blend for a physical\, artistic and reflective workout. \nEach session offers a thoughtful half hour of Yoga\, breathwork\, Pilates\, Physical Therapy and core strength exercises. The flow continues for a half hour of creative outlets like journaling\, collage and art therapy. Whether you're seeking pain relief\, fitness\, or an outlet for the pressures of the modern world\, Body and Soul offers a supportive space for you to grow.
URL:https://pdop.org/event/body-and-soul-workshop-7/
END:VEVENT
BEGIN:VEVENT
DTSTART;TZID=America/Chicago:20260517T083000
DTEND;TZID=America/Chicago:20260517T093000
DTSTAMP:20260422T112045
CREATED:20260219T060627Z
LAST-MODIFIED:20260219T060627Z
UID:2311530-1779006600-1779010200@pdop.org
SUMMARY:Nia (Sunday)
DESCRIPTION:This unique fitness class blends dance\, martial arts\, and healing to achieve your fitness goals and express yourself through movement and sensation. Come experience Nia in this barefoot\, aerobic\, movement based class. Appropriate for all fitness levels; no dance experience necessary.
URL:https://pdop.org/event/nia-sunday-19/
END:VEVENT
BEGIN:VEVENT
DTSTART;TZID=America/Chicago:20260516T183000
DTEND;TZID=America/Chicago:20260516T201500
DTSTAMP:20260422T112045
CREATED:20260420T062050Z
LAST-MODIFIED:20260420T062050Z
UID:2364091-1778956200-1778962500@pdop.org
SUMMARY:Public Skate
DESCRIPTION:Public Skate:$12 SKATES INCLUDED \nPre-Registration and Walk-Ins accepted. \nRink Membership are available under the "Membership/Passes"  tab.
URL:https://pdop.org/event/public-skate-40/
END:VEVENT
BEGIN:VEVENT
DTSTART;TZID=America/Chicago:20260516T103000
DTEND;TZID=America/Chicago:20260516T111500
DTSTAMP:20260422T112045
CREATED:20260420T062050Z
LAST-MODIFIED:20260420T062050Z
UID:2364090-1778927400-1778930100@pdop.org
SUMMARY:Werq Dance Fitness (Saturday)
DESCRIPTION:Build cardiovascular endurance and strengthen your heart muscle while dancing to today's hottest Top 40 Pop\, Rock and Hip Hop Music! \nWERQ® is the fiercely fun dance fitness class based on pop\, rock\, and hip hop music taught by Certified Fitness Professionals.
URL:https://pdop.org/event/werq-dance-fitness-saturday-38/
CATEGORIES:Fitness Dropin
END:VEVENT
BEGIN:VEVENT
DTSTART;TZID=America/Chicago:20260516T103000
DTEND;TZID=America/Chicago:20260516T111500
DTSTAMP:20260422T112045
CREATED:20260219T060627Z
LAST-MODIFIED:20260219T060627Z
UID:2311528-1778927400-1778930100@pdop.org
SUMMARY:Werq Dance Fitness (Saturday)
DESCRIPTION:Build cardiovascular endurance and strengthen your heart muscle while dancing to today's hottest Top 40 Pop\, Rock and Hip Hop Music! \nWERQ® is the fiercely fun dance fitness class based on pop\, rock\, and hip hop music taught by Certified Fitness Professionals.
URL:https://pdop.org/event/werq-dance-fitness-saturday-18/
END:VEVENT
BEGIN:VEVENT
DTSTART;TZID=America/Chicago:20260516T100000
DTEND;TZID=America/Chicago:20260516T120000
DTSTAMP:20260422T112045
CREATED:20260420T062049Z
LAST-MODIFIED:20260420T062049Z
UID:2364089-1778925600-1778932800@pdop.org
SUMMARY:Pour Painting
DESCRIPTION:Those pour painting videos are totally addictive! Come make your very own\, and we’ll clean up the mess! 2 canvas boards per person can be used. We’ll also provide a large variety of colors and finishes to make your painting stand out.
URL:https://pdop.org/event/pour-painting-2/
CATEGORIES:Arts & Crafts
END:VEVENT
BEGIN:VEVENT
DTSTART;TZID=America/Chicago:20260516T093000
DTEND;TZID=America/Chicago:20260516T150000
DTSTAMP:20260422T112045
CREATED:20260420T062047Z
LAST-MODIFIED:20260420T062047Z
UID:2364087-1778923800-1778943600@pdop.org
SUMMARY:Safe Sitter: 5/16
DESCRIPTION:Safe Sitter prepares teens for any situation they may encounter while babysitting\, staying home alone\, or supervising younger siblings. Through the updated curriculum\, our certified instructors will help students develop their skills in safety\, childcare\, first aid\, and business through engaging activities. Safe Sitter lessons will also show students how to manage behavioral issues and emergency situations! Participants will go home with a helpful handbook and a certification card. \n  \nA pizza lunch will be provided. 
URL:https://pdop.org/event/safe-sitter-5-16/
CATEGORIES:Teen Programs
END:VEVENT
END:VCALENDAR