BEGIN:VCALENDAR
VERSION:2.0
PRODID:-//Park District of Oak Park - ECPv5.14.1//NONSGML v1.0//EN
CALSCALE:GREGORIAN
METHOD:PUBLISH
X-WR-CALNAME:Park District of Oak Park
X-ORIGINAL-URL:https://pdop.org
X-WR-CALDESC:Events for Park District of Oak Park
REFRESH-INTERVAL;VALUE=DURATION:PT1H
X-Robots-Tag:noindex
X-PUBLISHED-TTL:PT1H
BEGIN:VTIMEZONE
TZID:America/Chicago
BEGIN:DAYLIGHT
TZOFFSETFROM:-0600
TZOFFSETTO:-0500
TZNAME:CDT
DTSTART:20260308T080000
END:DAYLIGHT
BEGIN:STANDARD
TZOFFSETFROM:-0500
TZOFFSETTO:-0600
TZNAME:CST
DTSTART:20261101T070000
END:STANDARD
END:VTIMEZONE
BEGIN:VEVENT
DTSTART;TZID=America/Chicago:20260519T181500
DTEND;TZID=America/Chicago:20260519T190000
DTSTAMP:20260420T091442
CREATED:20260420T062111Z
LAST-MODIFIED:20260420T062111Z
UID:2364123-1779214500-1779217200@pdop.org
SUMMARY:Werq Dance Fitness (Tuesday)
DESCRIPTION:Build cardiovascular endurance and strengthen your heart muscle while dancing to today's hottest Top 40 Pop\, Rock and Hip Hop Music! \nWERQ® is the fiercely fun dance fitness class based on pop\, rock\, and hip hop music taught by Certified Fitness Professionals. \n 
URL:https://pdop.org/event/werq-dance-fitness-tuesday-41/
CATEGORIES:Fitness Dropin
END:VEVENT
BEGIN:VEVENT
DTSTART;TZID=America/Chicago:20260519T181500
DTEND;TZID=America/Chicago:20260519T190000
DTSTAMP:20260420T091442
CREATED:20260219T060629Z
LAST-MODIFIED:20260219T060629Z
UID:2311545-1779214500-1779217200@pdop.org
SUMMARY:Werq Dance Fitness (Tuesday)
DESCRIPTION:Build cardiovascular endurance and strengthen your heart muscle while dancing to today's hottest Top 40 Pop\, Rock and Hip Hop Music! \nWERQ® is the fiercely fun dance fitness class based on pop\, rock\, and hip hop music taught by Certified Fitness Professionals. \n 
URL:https://pdop.org/event/werq-dance-fitness-tuesday-19/
END:VEVENT
BEGIN:VEVENT
DTSTART;TZID=America/Chicago:20260519T180000
DTEND;TZID=America/Chicago:20260519T200000
DTSTAMP:20260420T091442
CREATED:20260420T062111Z
LAST-MODIFIED:20260420T062111Z
UID:2364122-1779213600-1779220800@pdop.org
SUMMARY:Lapidary Open Studio
DESCRIPTION:Come in to work on lapidary projects independently\, with an instructor available to assist or answer questions. Space is limited\, but you are welcome to bring projects from home or start fresh here. experience is preferred
URL:https://pdop.org/event/lapidary-open-studio-6/
CATEGORIES:Arts & Crafts
END:VEVENT
BEGIN:VEVENT
DTSTART;TZID=America/Chicago:20260519T173000
DTEND;TZID=America/Chicago:20260519T181500
DTSTAMP:20260420T091442
CREATED:20260420T062110Z
LAST-MODIFIED:20260420T062110Z
UID:2364121-1779211800-1779214500@pdop.org
SUMMARY:Step and Pump (Tuesday)
DESCRIPTION:A full-body strength workout to tone your butt and thighs. Start with basic movements on our steppers\, along with squat and lunge patterns to target the legs. Combine these with exercises such as burpees\, push-ups\, and weight plate movements. Don’t worry—there are plenty of options to ensure everyone leaves feeling successful.
URL:https://pdop.org/event/step-and-pump-tuesday-40/
CATEGORIES:Fitness Dropin
END:VEVENT
BEGIN:VEVENT
DTSTART;TZID=America/Chicago:20260519T173000
DTEND;TZID=America/Chicago:20260519T181500
DTSTAMP:20260420T091442
CREATED:20260219T060629Z
LAST-MODIFIED:20260219T060629Z
UID:2311544-1779211800-1779214500@pdop.org
SUMMARY:Step and Pump (Tuesday)
DESCRIPTION:A full-body strength workout to tone your butt and thighs. Start with basic movements on our steppers\, along with squat and lunge patterns to target the legs. Combine these with exercises such as burpees\, push-ups\, and weight plate movements. Don’t worry—there are plenty of options to ensure everyone leaves feeling successful.
URL:https://pdop.org/event/step-and-pump-tuesday-19/
END:VEVENT
BEGIN:VEVENT
DTSTART;TZID=America/Chicago:20260519T163000
DTEND;TZID=America/Chicago:20260519T183000
DTSTAMP:20260420T091442
CREATED:20260420T062109Z
LAST-MODIFIED:20260420T062109Z
UID:2364120-1779208200-1779215400@pdop.org
SUMMARY:Ceramics Open Studio 2 Hours
DESCRIPTION:Come on in to finish pieces you worked on in our other classes like Family Ceramics\, Youth Ceramics\, Beginners Ceramics\, Beginners' Wheel\, and Partner Ceramics
URL:https://pdop.org/event/ceramics-open-studio-2-hours-27/
CATEGORIES:Arts & Crafts
END:VEVENT
BEGIN:VEVENT
DTSTART;TZID=America/Chicago:20260519T130000
DTEND;TZID=America/Chicago:20260519T143000
DTSTAMP:20260420T091442
CREATED:20260420T062108Z
LAST-MODIFIED:20260420T062108Z
UID:2364118-1779195600-1779201000@pdop.org
SUMMARY:Ceramics Open Studio 1.5 Hours
DESCRIPTION:Come on in to finish pieces you worked on in our other classes like Family Ceramics\, Youth Ceramics\, Beginners Ceramics\, Beginners' Wheel\, and Partner Ceramics
URL:https://pdop.org/event/ceramics-open-studio-1-5-hours-23/
CATEGORIES:Arts & Crafts
END:VEVENT
BEGIN:VEVENT
DTSTART;TZID=America/Chicago:20260519T130000
DTEND;TZID=America/Chicago:20260519T134500
DTSTAMP:20260420T091442
CREATED:20260420T062109Z
LAST-MODIFIED:20260420T062109Z
UID:2364119-1779195600-1779198300@pdop.org
SUMMARY:Body Sculpt (Tuesday)
DESCRIPTION:Start your morning with light strength and cardio workout. Steps\, dumbbells\, and a mat are used to develop your muscle strength for your upper body\, lower body and core. As you activate your major muscle groups and increase balance\, you will feel strong and refreshed in this motivating group setting. See you at the class!
URL:https://pdop.org/event/body-sculpt-tuesday-43/
CATEGORIES:Fitness Dropin
END:VEVENT
BEGIN:VEVENT
DTSTART;TZID=America/Chicago:20260519T130000
DTEND;TZID=America/Chicago:20260519T134500
DTSTAMP:20260420T091442
CREATED:20260219T060629Z
LAST-MODIFIED:20260219T060629Z
UID:2311543-1779195600-1779198300@pdop.org
SUMMARY:Body Sculpt (Tuesday)
DESCRIPTION:Start your morning with light strength and cardio workout. Steps\, dumbbells\, and a mat are used to develop your muscle strength for your upper body\, lower body and core. As you activate your major muscle groups and increase balance\, you will feel strong and refreshed in this motivating group setting. See you at the class!
URL:https://pdop.org/event/body-sculpt-tuesday-20/
END:VEVENT
BEGIN:VEVENT
DTSTART;TZID=America/Chicago:20260519T120000
DTEND;TZID=America/Chicago:20260519T130000
DTSTAMP:20260420T091442
CREATED:20260420T062107Z
LAST-MODIFIED:20260420T062107Z
UID:2364117-1779192000-1779195600@pdop.org
SUMMARY:Canva for Awesome Beginners
DESCRIPTION:Unlock a world of creative possibilities with Canva\, the ideal digital tool for beginners and novices! This class will teach you how to harness the power of Canva\, the easiest design website available\, all for free. You'll learn to create stunning designs from scratch or use templates with step-by-step guidance for any digital image you need. Whether it's online documents\, business cards\, email signatures\, or more\, you'll leave this class with the confidence and skills to use Canva effectively and creatively.
URL:https://pdop.org/event/canva-for-awesome-beginners-2/
END:VEVENT
BEGIN:VEVENT
DTSTART;TZID=America/Chicago:20260519T120000
DTEND;TZID=America/Chicago:20260519T124500
DTSTAMP:20260420T091442
CREATED:20260420T062107Z
LAST-MODIFIED:20260420T062107Z
UID:2364116-1779192000-1779194700@pdop.org
SUMMARY:Pilates (Tuesday)
DESCRIPTION:Experience a dynamic Pilates class designed to strengthen your core\, improve flexibility\, and enhance overall body awareness.
URL:https://pdop.org/event/pilates-tuesday-80/
CATEGORIES:Fitness Dropin
END:VEVENT
BEGIN:VEVENT
DTSTART;TZID=America/Chicago:20260519T120000
DTEND;TZID=America/Chicago:20260519T124500
DTSTAMP:20260420T091442
CREATED:20260219T060629Z
LAST-MODIFIED:20260219T060629Z
UID:2311542-1779192000-1779194700@pdop.org
SUMMARY:Pilates (Tuesday)
DESCRIPTION:Experience a dynamic Pilates class designed to strengthen your core\, improve flexibility\, and enhance overall body awareness.
URL:https://pdop.org/event/pilates-tuesday-37/
END:VEVENT
BEGIN:VEVENT
DTSTART;TZID=America/Chicago:20260519T113000
DTEND;TZID=America/Chicago:20260519T130000
DTSTAMP:20260420T091442
CREATED:20260420T062106Z
LAST-MODIFIED:20260420T062106Z
UID:2364115-1779190200-1779195600@pdop.org
SUMMARY:Noon Skate
DESCRIPTION:Noon Skate:$12 SKATES INCLUDED! \nMondays\, Wednesdays and Fridays ONLY! \nPre-Registration and Walk-Ins accepted. \nRink Membership are available under the "Membership/Passes" tab.
URL:https://pdop.org/event/noon-skate-78/
END:VEVENT
BEGIN:VEVENT
DTSTART;TZID=America/Chicago:20260519T101500
DTEND;TZID=America/Chicago:20260519T114500
DTSTAMP:20260420T091442
CREATED:20260420T062105Z
LAST-MODIFIED:20260420T062105Z
UID:2364114-1779185700-1779191100@pdop.org
SUMMARY:Preschool Playtime (ages 1-6)
DESCRIPTION:$8 per visit\, or buy a prepaid 10-visit pass for $70. \nA favorite with all our preschoolers\, this is an open gym for children 1-6 years old. All children must be accompanied and supervised by an adult at all times. \nDrop-ins will not accepted after max registrations have been reached\, even if other participants leave. Registration opens 7 days before each Playtime\, and you have up to 24 hours before each Playtime to cancel your pre-registration.
URL:https://pdop.org/event/preschool-playtime-ages-1-6-91/
END:VEVENT
BEGIN:VEVENT
DTSTART;TZID=America/Chicago:20260519T090000
DTEND;TZID=America/Chicago:20260519T100000
DTSTAMP:20260420T091442
CREATED:20260420T062105Z
LAST-MODIFIED:20260420T062105Z
UID:2364113-1779181200-1779184800@pdop.org
SUMMARY:Nia (Tuesday)
DESCRIPTION:This unique fitness class blends dance\, martial arts\, and healing to achieve your fitness goals and express yourself through movement and sensation. Come experience Nia in this barefoot\, aerobic\, movement based class. Appropriate for all fitness levels; no dance experience necessary.
URL:https://pdop.org/event/nia-tuesday-44/
CATEGORIES:Fitness Dropin
END:VEVENT
BEGIN:VEVENT
DTSTART;TZID=America/Chicago:20260519T090000
DTEND;TZID=America/Chicago:20260519T100000
DTSTAMP:20260420T091442
CREATED:20260219T060629Z
LAST-MODIFIED:20260219T060629Z
UID:2311541-1779181200-1779184800@pdop.org
SUMMARY:Nia (Tuesday)
DESCRIPTION:This unique fitness class blends dance\, martial arts\, and healing to achieve your fitness goals and express yourself through movement and sensation. Come experience Nia in this barefoot\, aerobic\, movement based class. Appropriate for all fitness levels; no dance experience necessary.
URL:https://pdop.org/event/nia-tuesday-20/
END:VEVENT
BEGIN:VEVENT
DTSTART;TZID=America/Chicago:20260519T061500
DTEND;TZID=America/Chicago:20260519T071500
DTSTAMP:20260420T091442
CREATED:20260420T062104Z
LAST-MODIFIED:20260420T062104Z
UID:2364112-1779171300-1779174900@pdop.org
SUMMARY:BODYPUMP (Tuesday)
DESCRIPTION: LesMills BODYPUMP(TM) is the original barbell class that strengthens your entire body. This workout challenges all your major muscle groups by using the best weight room exercises\, like squats\, presses\, lifts and curls. Great music\, awesome instructors and your choice of weight inspires you to get the results you came for and fast! \n 
URL:https://pdop.org/event/bodypump-tuesday-41/
CATEGORIES:Fitness Dropin
END:VEVENT
BEGIN:VEVENT
DTSTART;TZID=America/Chicago:20260519T061500
DTEND;TZID=America/Chicago:20260519T071500
DTSTAMP:20260420T091442
CREATED:20260219T060628Z
LAST-MODIFIED:20260219T060628Z
UID:2311540-1779171300-1779174900@pdop.org
SUMMARY:BODYPUMP (Tuesday)
DESCRIPTION: LesMills BODYPUMP(TM) is the original barbell class that strengthens your entire body. This workout challenges all your major muscle groups by using the best weight room exercises\, like squats\, presses\, lifts and curls. Great music\, awesome instructors and your choice of weight inspires you to get the results you came for and fast! \n 
URL:https://pdop.org/event/bodypump-tuesday-20/
END:VEVENT
BEGIN:VEVENT
DTSTART;TZID=America/Chicago:20260518T190000
DTEND;TZID=America/Chicago:20260518T200000
DTSTAMP:20260420T091442
CREATED:20260420T062103Z
LAST-MODIFIED:20260420T062103Z
UID:2364110-1779130800-1779134400@pdop.org
SUMMARY:Power Vinyasa (Monday)
DESCRIPTION:Improve your flexibility\, strength\, balance\, and mental stillness with this challenging yet accessible yoga class. Explore breath to movement and learn more about your personal yoga practice.
URL:https://pdop.org/event/power-vinyasa-monday-41/
CATEGORIES:Fitness Dropin
END:VEVENT
BEGIN:VEVENT
DTSTART;TZID=America/Chicago:20260518T190000
DTEND;TZID=America/Chicago:20260518T200000
DTSTAMP:20260420T091442
CREATED:20260219T060628Z
LAST-MODIFIED:20260219T060628Z
UID:2311538-1779130800-1779134400@pdop.org
SUMMARY:Power Vinyasa (Monday)
DESCRIPTION:Improve your flexibility\, strength\, balance\, and mental stillness with this challenging yet accessible yoga class. Explore breath to movement and learn more about your personal yoga practice.
URL:https://pdop.org/event/power-vinyasa-monday-19/
END:VEVENT
BEGIN:VEVENT
DTSTART;TZID=America/Chicago:20260518T190000
DTEND;TZID=America/Chicago:20260518T194500
DTSTAMP:20260420T091442
CREATED:20260420T062104Z
LAST-MODIFIED:20260420T062104Z
UID:2364111-1779130800-1779133500@pdop.org
SUMMARY:PowerStrength (Monday)
DESCRIPTION:  \nProgressive strength training\, this 45-minute class focuses on building muscle\, improving technique and growing confidence while lifting weights in a slower tempo to generate hypertrophy.
URL:https://pdop.org/event/powerstrength-monday-36/
CATEGORIES:Fitness Dropin
END:VEVENT
BEGIN:VEVENT
DTSTART;TZID=America/Chicago:20260518T190000
DTEND;TZID=America/Chicago:20260518T194500
DTSTAMP:20260420T091443
CREATED:20260219T060628Z
LAST-MODIFIED:20260219T060628Z
UID:2311539-1779130800-1779133500@pdop.org
SUMMARY:PowerStrength (Monday)
DESCRIPTION:  \nProgressive strength training\, this 45-minute class focuses on building muscle\, improving technique and growing confidence while lifting weights in a slower tempo to generate hypertrophy.
URL:https://pdop.org/event/powerstrength-monday-16/
END:VEVENT
BEGIN:VEVENT
DTSTART;TZID=America/Chicago:20260518T174500
DTEND;TZID=America/Chicago:20260518T184500
DTSTAMP:20260420T091443
CREATED:20260420T062103Z
LAST-MODIFIED:20260420T062103Z
UID:2364109-1779126300-1779129900@pdop.org
SUMMARY:Zumba (Monday)
DESCRIPTION:Zumba fitness is like no other workout you will ever experience! It combines Latin rhythms and easy-to-follow dance moves to create a one-of-a-kind fitness program. You will fall in love with the infectious music and body-beautifying benefits.
URL:https://pdop.org/event/zumba-monday-43/
CATEGORIES:Fitness Dropin
END:VEVENT
BEGIN:VEVENT
DTSTART;TZID=America/Chicago:20260518T174500
DTEND;TZID=America/Chicago:20260518T184500
DTSTAMP:20260420T091443
CREATED:20260219T060628Z
LAST-MODIFIED:20260219T060628Z
UID:2311537-1779126300-1779129900@pdop.org
SUMMARY:Zumba (Monday)
DESCRIPTION:Zumba fitness is like no other workout you will ever experience! It combines Latin rhythms and easy-to-follow dance moves to create a one-of-a-kind fitness program. You will fall in love with the infectious music and body-beautifying benefits.
URL:https://pdop.org/event/zumba-monday-20/
END:VEVENT
BEGIN:VEVENT
DTSTART;TZID=America/Chicago:20260518T120000
DTEND;TZID=America/Chicago:20260518T124500
DTSTAMP:20260420T091443
CREATED:20260420T062102Z
LAST-MODIFIED:20260420T062102Z
UID:2364108-1779105600-1779108300@pdop.org
SUMMARY:Express BODYPUMP (Monday)
DESCRIPTION:LesMills BODYPUMP (TM) is the original barbell class that strengthens your entire body. This 45-minute workout challenges all your major muscle groups by using the best weight room exercises\, like squats\, presses\, lifts\, and curls.
URL:https://pdop.org/event/express-bodypump-monday-86/
CATEGORIES:Fitness Dropin
END:VEVENT
BEGIN:VEVENT
DTSTART;TZID=America/Chicago:20260518T120000
DTEND;TZID=America/Chicago:20260518T124500
DTSTAMP:20260420T091443
CREATED:20260219T060628Z
LAST-MODIFIED:20260219T060628Z
UID:2311536-1779105600-1779108300@pdop.org
SUMMARY:Express BODYPUMP (Monday)
DESCRIPTION:LesMills BODYPUMP (TM) is the original barbell class that strengthens your entire body. This 45-minute workout challenges all your major muscle groups by using the best weight room exercises\, like squats\, presses\, lifts\, and curls.
URL:https://pdop.org/event/express-bodypump-monday-40/
END:VEVENT
BEGIN:VEVENT
DTSTART;TZID=America/Chicago:20260518T113000
DTEND;TZID=America/Chicago:20260518T130000
DTSTAMP:20260420T091443
CREATED:20260420T062102Z
LAST-MODIFIED:20260420T062102Z
UID:2364107-1779103800-1779109200@pdop.org
SUMMARY:Noon Skate
DESCRIPTION:Noon Skate:$12 SKATES INCLUDED! \nMondays\, Wednesdays and Fridays ONLY! \nPre-Registration and Walk-Ins accepted. \nRink Membership are available under the "Membership/Passes" tab.
URL:https://pdop.org/event/noon-skate-77/
END:VEVENT
BEGIN:VEVENT
DTSTART;TZID=America/Chicago:20260518T101500
DTEND;TZID=America/Chicago:20260518T114500
DTSTAMP:20260420T091443
CREATED:20260420T062101Z
LAST-MODIFIED:20260420T062101Z
UID:2364106-1779099300-1779104700@pdop.org
SUMMARY:Preschool Playtime (ages 1-6)
DESCRIPTION:$8 per visit\, or buy a prepaid 10-visit pass for $70. \nA favorite with all our preschoolers\, this is an open gym for children 1-6 years old. All children must be accompanied and supervised by an adult at all times. \nDrop-ins will not accepted after max registrations have been reached\, even if other participants leave. Registration opens 7 days before each Playtime\, and you have up to 24 hours before each Playtime to cancel your pre-registration.
URL:https://pdop.org/event/preschool-playtime-ages-1-6-90/
END:VEVENT
BEGIN:VEVENT
DTSTART;TZID=America/Chicago:20260518T090000
DTEND;TZID=America/Chicago:20260518T100000
DTSTAMP:20260420T091443
CREATED:20260420T062100Z
LAST-MODIFIED:20260420T062100Z
UID:2364105-1779094800-1779098400@pdop.org
SUMMARY:Nia (Monday)
DESCRIPTION:This unique fitness class blends dance\, martial arts\, and healing to achieve your fitness goals and express yourself through movement and sensation. Come experience Nia in this barefoot\, aerobic\, movement based class. Appropriate for all fitness levels; no dance experience necessary.
URL:https://pdop.org/event/nia-monday-43/
CATEGORIES:Fitness Dropin
END:VEVENT
BEGIN:VEVENT
DTSTART;TZID=America/Chicago:20260518T090000
DTEND;TZID=America/Chicago:20260518T100000
DTSTAMP:20260420T091443
CREATED:20260219T060628Z
LAST-MODIFIED:20260219T060628Z
UID:2311535-1779094800-1779098400@pdop.org
SUMMARY:Nia (Monday)
DESCRIPTION:This unique fitness class blends dance\, martial arts\, and healing to achieve your fitness goals and express yourself through movement and sensation. Come experience Nia in this barefoot\, aerobic\, movement based class. Appropriate for all fitness levels; no dance experience necessary.
URL:https://pdop.org/event/nia-monday-20/
END:VEVENT
END:VCALENDAR