BEGIN:VCALENDAR
VERSION:2.0
PRODID:-//Park District of Oak Park - ECPv5.14.1//NONSGML v1.0//EN
CALSCALE:GREGORIAN
METHOD:PUBLISH
X-WR-CALNAME:Park District of Oak Park
X-ORIGINAL-URL:https://pdop.org
X-WR-CALDESC:Events for Park District of Oak Park
REFRESH-INTERVAL;VALUE=DURATION:PT1H
X-Robots-Tag:noindex
X-PUBLISHED-TTL:PT1H
BEGIN:VTIMEZONE
TZID:America/Chicago
BEGIN:DAYLIGHT
TZOFFSETFROM:-0600
TZOFFSETTO:-0500
TZNAME:CDT
DTSTART:20260308T080000
END:DAYLIGHT
BEGIN:STANDARD
TZOFFSETFROM:-0500
TZOFFSETTO:-0600
TZNAME:CST
DTSTART:20261101T070000
END:STANDARD
END:VTIMEZONE
BEGIN:VEVENT
DTSTART;TZID=America/Chicago:20260515T173000
DTEND;TZID=America/Chicago:20260515T183000
DTSTAMP:20260422T130753
CREATED:20260219T060626Z
LAST-MODIFIED:20260219T060626Z
UID:2311523-1778866200-1778869800@pdop.org
SUMMARY:Power Vinyasa (Friday)
DESCRIPTION:Improve your flexibility\, strength\, balance\, and mental stillness with this challenging yet accessible yoga class. Explore breath to movement and learn more about your personal yoga practice.
URL:https://pdop.org/event/power-vinyasa-friday-20/
END:VEVENT
BEGIN:VEVENT
DTSTART;TZID=America/Chicago:20260515T160000
DTEND;TZID=America/Chicago:20260515T180000
DTSTAMP:20260422T130753
CREATED:20260420T062037Z
LAST-MODIFIED:20260420T062037Z
UID:2364077-1778860800-1778868000@pdop.org
SUMMARY:Orizomegami- Paper Marbling and Folding
DESCRIPTION:Orizomegami is the Japanese art of decorating papers by folding and dipping them into pools of natural dyes. By folding the paper in a variety of ways\, patterns emerge which are reminiscent of stained windows\, and depending on the number and placement of the folds\, you can create more complex patterns.
URL:https://pdop.org/event/orizomegami-paper-marbling-and-folding/
CATEGORIES:Arts & Crafts
END:VEVENT
BEGIN:VEVENT
DTSTART;TZID=America/Chicago:20260515T130000
DTEND;TZID=America/Chicago:20260515T143000
DTSTAMP:20260422T130753
CREATED:20260420T062036Z
LAST-MODIFIED:20260420T062036Z
UID:2364076-1778850000-1778855400@pdop.org
SUMMARY:Preschool Playtime (ages 1-6)
DESCRIPTION:$8 per visit\, or buy a prepaid 10-visit pass for $70. \nA favorite with all our preschoolers\, this is an open gym for children 1-6 years old. All children must be accompanied and supervised by an adult at all times. \nDrop-ins will not accepted after max registrations have been reached\, even if other participants leave. Registration opens 7 days before each Playtime\, and you have up to 24 hours before each Playtime to cancel your pre-registration.
URL:https://pdop.org/event/preschool-playtime-ages-1-6-89/
END:VEVENT
BEGIN:VEVENT
DTSTART;TZID=America/Chicago:20260515T113000
DTEND;TZID=America/Chicago:20260515T130000
DTSTAMP:20260422T130753
CREATED:20260420T062035Z
LAST-MODIFIED:20260420T062035Z
UID:2364075-1778844600-1778850000@pdop.org
SUMMARY:Noon Skate
DESCRIPTION:Noon Skate:$12 SKATES INCLUDED! \nMondays\, Wednesdays and Fridays ONLY! \nPre-Registration and Walk-Ins accepted. \nRink Membership are available under the "Membership/Passes" tab.
URL:https://pdop.org/event/noon-skate-76/
END:VEVENT
BEGIN:VEVENT
DTSTART;TZID=America/Chicago:20260515T103000
DTEND;TZID=America/Chicago:20260515T111500
DTSTAMP:20260422T130753
CREATED:20260420T062034Z
LAST-MODIFIED:20260420T062034Z
UID:2364074-1778841000-1778843700@pdop.org
SUMMARY:Toddler Exploration Time -10:30A
DESCRIPTION:Young learners will be delighted with stories\, lessons\, and crafts led by our education volunteers. Each month is a different topic.  \nAges 18mos-5yrs\n• Mar: Pitter\, Patter\, Splash\n• Apr: Spring Fling\n• May: Busy Bees
URL:https://pdop.org/event/toddler-exploration-time-1030a-2/
END:VEVENT
BEGIN:VEVENT
DTSTART;TZID=America/Chicago:20260515T093000
DTEND;TZID=America/Chicago:20260515T101500
DTSTAMP:20260422T130753
CREATED:20260420T062033Z
LAST-MODIFIED:20260420T062033Z
UID:2364073-1778837400-1778840100@pdop.org
SUMMARY:Pilates (Friday)
DESCRIPTION:Experience a dynamic Pilates class designed to strengthen your core\, improve flexibility\, and enhance overall body awareness.
URL:https://pdop.org/event/pilates-friday-31/
CATEGORIES:Fitness Dropin
END:VEVENT
BEGIN:VEVENT
DTSTART;TZID=America/Chicago:20260515T093000
DTEND;TZID=America/Chicago:20260515T101500
DTSTAMP:20260422T130753
CREATED:20260420T062032Z
LAST-MODIFIED:20260420T062032Z
UID:2364072-1778837400-1778840100@pdop.org
SUMMARY:Toddler Exploration Time -9:30A
DESCRIPTION:Young learners will be delighted with stories\, lessons\, and crafts led by our education volunteers. Each month is a different topic.  \nAges 18mos-5yrs\n• Mar: Pitter\, Patter\, Splash\n• Apr: Spring Fling\n• May: Busy Bees
URL:https://pdop.org/event/toddler-exploration-time-930a-2/
END:VEVENT
BEGIN:VEVENT
DTSTART;TZID=America/Chicago:20260515T093000
DTEND;TZID=America/Chicago:20260515T101500
DTSTAMP:20260422T130753
CREATED:20260219T060625Z
LAST-MODIFIED:20260219T060625Z
UID:2311522-1778837400-1778840100@pdop.org
SUMMARY:Pilates (Friday)
DESCRIPTION:Experience a dynamic Pilates class designed to strengthen your core\, improve flexibility\, and enhance overall body awareness.
URL:https://pdop.org/event/pilates-friday-15/
END:VEVENT
BEGIN:VEVENT
DTSTART;TZID=America/Chicago:20260515T090000
DTEND;TZID=America/Chicago:20260515T100000
DTSTAMP:20260422T130753
CREATED:20260420T062032Z
LAST-MODIFIED:20260420T062032Z
UID:2364071-1778835600-1778839200@pdop.org
SUMMARY:BODYPUMP (Friday)
DESCRIPTION: LesMills BODYPUMP(TM) is the original barbell class that strengthens your entire body. This workout challenges all your major muscle groups by using the best weight room exercises\, like squats\, presses\, lifts and curls. Great music\, awesome instructors and your choice of weight inspires you to get the results you came for and fast!
URL:https://pdop.org/event/bodypump-friday-45/
CATEGORIES:Fitness Dropin
END:VEVENT
BEGIN:VEVENT
DTSTART;TZID=America/Chicago:20260515T090000
DTEND;TZID=America/Chicago:20260515T100000
DTSTAMP:20260422T130753
CREATED:20260420T062031Z
LAST-MODIFIED:20260420T062031Z
UID:2364070-1778835600-1778839200@pdop.org
SUMMARY:Nia (Friday)
DESCRIPTION:This unique fitness class blends dance\, martial arts\, and healing to achieve your fitness goals and express yourself through movement and sensation. Come experience Nia in this barefoot\, aerobic\, movement based class. Appropriate for all fitness levels; no dance experience necessary.
URL:https://pdop.org/event/nia-friday-45/
CATEGORIES:Fitness Dropin
END:VEVENT
BEGIN:VEVENT
DTSTART;TZID=America/Chicago:20260515T090000
DTEND;TZID=America/Chicago:20260515T100000
DTSTAMP:20260422T130753
CREATED:20260219T060625Z
LAST-MODIFIED:20260219T060625Z
UID:2311520-1778835600-1778839200@pdop.org
SUMMARY:Nia (Friday)
DESCRIPTION:This unique fitness class blends dance\, martial arts\, and healing to achieve your fitness goals and express yourself through movement and sensation. Come experience Nia in this barefoot\, aerobic\, movement based class. Appropriate for all fitness levels; no dance experience necessary.
URL:https://pdop.org/event/nia-friday-20/
END:VEVENT
BEGIN:VEVENT
DTSTART;TZID=America/Chicago:20260515T090000
DTEND;TZID=America/Chicago:20260515T100000
DTSTAMP:20260422T130753
CREATED:20260219T060625Z
LAST-MODIFIED:20260219T060625Z
UID:2311521-1778835600-1778839200@pdop.org
SUMMARY:BODYPUMP (Friday)
DESCRIPTION: LesMills BODYPUMP(TM) is the original barbell class that strengthens your entire body. This workout challenges all your major muscle groups by using the best weight room exercises\, like squats\, presses\, lifts and curls. Great music\, awesome instructors and your choice of weight inspires you to get the results you came for and fast!
URL:https://pdop.org/event/bodypump-friday-20/
END:VEVENT
BEGIN:VEVENT
DTSTART;TZID=America/Chicago:20260514T184500
DTEND;TZID=America/Chicago:20260514T194500
DTSTAMP:20260422T130753
CREATED:20260420T062030Z
LAST-MODIFIED:20260420T062030Z
UID:2364069-1778784300-1778787900@pdop.org
SUMMARY:Dance Fit (Thursday)
DESCRIPTION:Ready to ditch the treadmill and have a blast while getting a full-body workout? This cardio dance fitness class combines infectious music with dynamic dance moves to sculpt your core\, boost your cardio\, and leave you feeling energized and empowered.
URL:https://pdop.org/event/dance-fit-thursday-19/
CATEGORIES:Fitness Dropin
END:VEVENT
BEGIN:VEVENT
DTSTART;TZID=America/Chicago:20260514T184500
DTEND;TZID=America/Chicago:20260514T194500
DTSTAMP:20260422T130753
CREATED:20260219T060625Z
LAST-MODIFIED:20260219T060625Z
UID:2311519-1778784300-1778787900@pdop.org
SUMMARY:Core + Cardio Dance (Thursday)
DESCRIPTION:Ready to ditch the treadmill and have a blast while getting a full-body workout? This core and cardio dance fitness class combines infectious music with dynamic dance moves to sculpt your core\, boost your cardio\, and leave you feeling energized and empowered.
URL:https://pdop.org/event/core-cardio-dance-thursday-19/
END:VEVENT
BEGIN:VEVENT
DTSTART;TZID=America/Chicago:20260514T183000
DTEND;TZID=America/Chicago:20260514T213000
DTSTAMP:20260422T130753
CREATED:20260420T062030Z
LAST-MODIFIED:20260420T062030Z
UID:2364068-1778783400-1778794200@pdop.org
SUMMARY:Chef Tara's Farewell ---Her Favorites!
DESCRIPTION:Join Chef Tara Humphrey of Global Peel as she explores culinary techniques and global holidays through cooking! You will cook a gourmet meal that includes this timeless classic. Tara has planned menus and recipes for each session. Let’s eat and connect through cuisine\, stories\, and tradition. Bring your favorite wine to sip\, or Tara will send suggested menu pairings. \nAfter 6 years\, Chef Tara will be retiring and is planning all of her favorite recipes she has cooked with you over the years.  Join us in this special farewell!  Ages 21+
URL:https://pdop.org/event/chef-taras-farewell-her-favorites/
END:VEVENT
BEGIN:VEVENT
DTSTART;TZID=America/Chicago:20260514T183000
DTEND;TZID=America/Chicago:20260514T193000
DTSTAMP:20260422T130753
CREATED:20260420T062030Z
LAST-MODIFIED:20260420T062030Z
UID:2364066-1778783400-1778787000@pdop.org
SUMMARY:Amigos Spanish Club - Spring 2026
DESCRIPTION:Learning Spanish is as easy as uno\, dos\, tres! In Amigos Spanish club\, children will learn numbers\, colors\, shapes\, greetings\, days of the week and more. We will be singing\, clapping\, and counting our way towards learning a new language. No previous knowledge of Spanish is necessary.
URL:https://pdop.org/event/amigos-spanish-club-spring-2026-4/
CATEGORIES:Youth Special Interest,Nature Programs
END:VEVENT
BEGIN:VEVENT
DTSTART;TZID=America/Chicago:20260514T183000
DTEND;TZID=America/Chicago:20260514T193000
DTSTAMP:20260422T130753
CREATED:20260420T062030Z
LAST-MODIFIED:20260420T062030Z
UID:2364067-1778783400-1778787000@pdop.org
SUMMARY:*OUTDOOR* Sunset Slow Flow Yoga (Thursday)
DESCRIPTION:This gentle flow yoga class combines a slow-paced flow class with a restorative component to relax and renew while enjoying the great outdoors. The class is ideal for both the beginner and seasoned practitioner. \nParticipants are encouraged to bring their own yoga mat. Props such as blocks\, blankets\, and straps will not be provided but you are welcome to bring them from home.
URL:https://pdop.org/event/outdoor-sunset-slow-flow-yoga-thursday-9/
CATEGORIES:Fitness Dropin
END:VEVENT
BEGIN:VEVENT
DTSTART;TZID=America/Chicago:20260514T183000
DTEND;TZID=America/Chicago:20260514T193000
DTSTAMP:20260422T130753
CREATED:20260219T060624Z
LAST-MODIFIED:20260219T060624Z
UID:2311518-1778783400-1778787000@pdop.org
SUMMARY:*OUTDOOR* Sunset Slow Flow Yoga (Thursday)
DESCRIPTION:This gentle flow yoga class combines a slow-paced flow class with a restorative component to relax and renew while enjoying the great outdoors. The class is ideal for both the beginner and seasoned practitioner. \nParticipants are encouraged to bring their own yoga mat. Props such as blocks\, blankets\, and straps will not be provided but you are welcome to bring them from home.
URL:https://pdop.org/event/outdoor-sunset-slow-flow-yoga-thursday-2/
END:VEVENT
BEGIN:VEVENT
DTSTART;TZID=America/Chicago:20260514T180000
DTEND;TZID=America/Chicago:20260514T193000
DTSTAMP:20260422T130753
CREATED:20260420T062029Z
LAST-MODIFIED:20260420T062029Z
UID:2364063-1778781600-1778787000@pdop.org
SUMMARY:Ceramics Open Studio 1.5 Hours
DESCRIPTION:Come on in to finish pieces you worked on in our other classes like Family Ceramics\, Youth Ceramics\, Beginners Ceramics\, Beginners' Wheel\, and Partner Ceramics
URL:https://pdop.org/event/ceramics-open-studio-1-5-hours-20/
CATEGORIES:Arts & Crafts
END:VEVENT
BEGIN:VEVENT
DTSTART;TZID=America/Chicago:20260514T180000
DTEND;TZID=America/Chicago:20260514T190000
DTSTAMP:20260422T130753
CREATED:20260420T062029Z
LAST-MODIFIED:20260420T062029Z
UID:2364064-1778781600-1778785200@pdop.org
SUMMARY:American Sign Language for Kids (4/9-5/28/26)
DESCRIPTION:**Please Note** Due to some scheduling conflicts\, the dates for this program have changed. They will be taking place on Thursdays rather than Wednesdays. \n  \nBrand new this year! Join our immersive ASL course taught by native signers. This class focuses on basic signs so your kids can gain confidence in their \ncommunication in and out of the classroom. \nOur adult class is taught separately at the same time\, so you can learn as a family. See the Adult Leisure and Lifestyle section for those classes.
URL:https://pdop.org/event/american-sign-language-for-kids-4-9-5-28-26-6/
CATEGORIES:Youth Special Interest,Family Programs,Nature Programs
END:VEVENT
BEGIN:VEVENT
DTSTART;TZID=America/Chicago:20260514T180000
DTEND;TZID=America/Chicago:20260514T190000
DTSTAMP:20260422T130753
CREATED:20260420T062029Z
LAST-MODIFIED:20260420T062029Z
UID:2364065-1778781600-1778785200@pdop.org
SUMMARY:American Sign Language for Adults (4/9-5/28/26)
DESCRIPTION:**Please Note** Due to some scheduling conflicts\, the dates for this program have changed. They will be taking place on Thursdays rather than Wednesdays. \n  \nBrand new this year! Join our immersive ASL course taught by native signers. This class focuses on practical and conversational signs so you can gain confidence in your communication skills. \nOur youth class is taught separately at the same time\, so you can learn as a family. See the Special Interest section for those classes.
URL:https://pdop.org/event/american-sign-language-for-adults-4-9-5-28-26-6/
CATEGORIES:Family Programs,Nature Programs,Youth Special Interest
END:VEVENT
BEGIN:VEVENT
DTSTART;TZID=America/Chicago:20260514T173000
DTEND;TZID=America/Chicago:20260514T183000
DTSTAMP:20260422T130754
CREATED:20260420T062028Z
LAST-MODIFIED:20260420T062028Z
UID:2364062-1778779800-1778783400@pdop.org
SUMMARY:Body Flow (Thursday)
DESCRIPTION:Unite the mind\, body\, and spirit with a dynamic class that blends the best of yoga\, pilates\, and tai chi. This unique practice emphasizes stretch\, balance\, and coordination\, leaving you feeling centered\, energized\, and ready to take on the day.
URL:https://pdop.org/event/body-flow-thursday-43/
CATEGORIES:Fitness Dropin
END:VEVENT
BEGIN:VEVENT
DTSTART;TZID=America/Chicago:20260514T173000
DTEND;TZID=America/Chicago:20260514T183000
DTSTAMP:20260422T130754
CREATED:20260219T060624Z
LAST-MODIFIED:20260219T060624Z
UID:2311517-1778779800-1778783400@pdop.org
SUMMARY:Body Flow (Thursday)
DESCRIPTION:Unite the mind\, body\, and spirit with a dynamic class that blends the best of yoga\, pilates\, and tai chi. This unique practice emphasizes stretch\, balance\, and coordination\, leaving you feeling centered\, energized\, and ready to take on the day.
URL:https://pdop.org/event/body-flow-thursday-19/
END:VEVENT
BEGIN:VEVENT
DTSTART;TZID=America/Chicago:20260514T130000
DTEND;TZID=America/Chicago:20260514T150000
DTSTAMP:20260422T130754
CREATED:20260420T062027Z
LAST-MODIFIED:20260420T062027Z
UID:2364061-1778763600-1778770800@pdop.org
SUMMARY:Ceramics Open Studio 2 Hours
DESCRIPTION:Come on in to finish pieces you worked on in our other classes like Family Ceramics\, Youth Ceramics\, Beginners Ceramics\, Beginners' Wheel\, and Partner Ceramics
URL:https://pdop.org/event/ceramics-open-studio-2-hours-25/
CATEGORIES:Arts & Crafts
END:VEVENT
BEGIN:VEVENT
DTSTART;TZID=America/Chicago:20260514T120000
DTEND;TZID=America/Chicago:20260514T140000
DTSTAMP:20260422T130754
CREATED:20260420T062027Z
LAST-MODIFIED:20260420T062027Z
UID:2364059-1778760000-1778767200@pdop.org
SUMMARY:Lunch Bunch Thurs - Carroll (February-May)
DESCRIPTION:Extend your child’s day as this follows preschool at Carroll Center on M\, T\, Th\, and F. Lunch Bunch is a separate program\, and all are welcome! Bring your own lunch and participate in organized\, enriching adventures from science to art to movement to free play. Develop social skills and table etiquette! Lunch Bunch follows D97 day off calendar. No peanut/tree nut products.
URL:https://pdop.org/event/lunch-bunch-thurs-carroll-february-may-28/
END:VEVENT
BEGIN:VEVENT
DTSTART;TZID=America/Chicago:20260514T120000
DTEND;TZID=America/Chicago:20260514T140000
DTSTAMP:20260422T130754
CREATED:20260219T060624Z
LAST-MODIFIED:20260219T060624Z
UID:2311516-1778760000-1778767200@pdop.org
SUMMARY:Lunch Bunch Thurs - Carroll (February-May)
DESCRIPTION:Extend your child’s day as this follows preschool at Carroll Center on M\, T\, Th\, and F. Lunch Bunch is a separate program\, and all are welcome! Bring your own lunch and participate in organized\, enriching adventures from science to art to movement to free play. Develop social skills and table etiquette! Lunch Bunch follows D97 day off calendar. No peanut/tree nut products.
URL:https://pdop.org/event/lunch-bunch-thurs-carroll-february-may-14/
END:VEVENT
BEGIN:VEVENT
DTSTART;TZID=America/Chicago:20260514T120000
DTEND;TZID=America/Chicago:20260514T130000
DTSTAMP:20260422T130754
CREATED:20260420T062027Z
LAST-MODIFIED:20260420T062027Z
UID:2364060-1778760000-1778763600@pdop.org
SUMMARY:Fast-Track to Social Media Marketing for Business
DESCRIPTION:Take your business to new heights with our fast-paced\, comprehensive session designed to equip business owners\, entrepreneurs\, and marketing professionals with the essential skills and strategies needed to leverage social media for business success. Learn how to effectively reach your target audience\, increase brand awareness\, and drive engagement across major social media platforms.
URL:https://pdop.org/event/fast-track-to-social-media-marketing-for-business/
END:VEVENT
BEGIN:VEVENT
DTSTART;TZID=America/Chicago:20260514T113000
DTEND;TZID=America/Chicago:20260514T130000
DTSTAMP:20260422T130754
CREATED:20260420T062027Z
LAST-MODIFIED:20260420T062027Z
UID:2364058-1778758200-1778763600@pdop.org
SUMMARY:Noon Skate
DESCRIPTION:Noon Skate:$12 SKATES INCLUDED! \nMondays\, Wednesdays and Fridays ONLY! \nPre-Registration and Walk-Ins accepted. \nRink Membership are available under the "Membership/Passes" tab.
URL:https://pdop.org/event/noon-skate-75/
END:VEVENT
BEGIN:VEVENT
DTSTART;TZID=America/Chicago:20260514T101500
DTEND;TZID=America/Chicago:20260514T114500
DTSTAMP:20260422T130754
CREATED:20260420T062026Z
LAST-MODIFIED:20260420T062026Z
UID:2364057-1778753700-1778759100@pdop.org
SUMMARY:Preschool Playtime (ages 1-6)
DESCRIPTION:$8 per visit\, or buy a prepaid 10-visit pass for $70. \nA favorite with all our preschoolers\, this is an open gym for children 1-6 years old. All children must be accompanied and supervised by an adult at all times. \nDrop-ins will not accepted after max registrations have been reached\, even if other participants leave. Registration opens 7 days before each Playtime\, and you have up to 24 hours before each Playtime to cancel your pre-registration.
URL:https://pdop.org/event/preschool-playtime-ages-1-6-88/
END:VEVENT
BEGIN:VEVENT
DTSTART;TZID=America/Chicago:20260514T090000
DTEND;TZID=America/Chicago:20260514T100000
DTSTAMP:20260422T130754
CREATED:20260420T062026Z
LAST-MODIFIED:20260420T062026Z
UID:2364056-1778749200-1778752800@pdop.org
SUMMARY:Nia (Thursday)
DESCRIPTION:This unique fitness class blends dance\, martial arts\, and healing to achieve your fitness goals and express yourself through movement and sensation. Come experience Nia in this barefoot\, aerobic\, movement based class. Appropriate for all fitness levels; no dance experience necessary.
URL:https://pdop.org/event/nia-thursday-43/
CATEGORIES:Fitness Dropin
END:VEVENT
END:VCALENDAR