BEGIN:VCALENDAR
VERSION:2.0
PRODID:-//Park District of Oak Park - ECPv5.14.1//NONSGML v1.0//EN
CALSCALE:GREGORIAN
METHOD:PUBLISH
X-WR-CALNAME:Park District of Oak Park
X-ORIGINAL-URL:https://pdop.org
X-WR-CALDESC:Events for Park District of Oak Park
REFRESH-INTERVAL;VALUE=DURATION:PT1H
X-Robots-Tag:noindex
X-PUBLISHED-TTL:PT1H
BEGIN:VTIMEZONE
TZID:America/Chicago
BEGIN:DAYLIGHT
TZOFFSETFROM:-0600
TZOFFSETTO:-0500
TZNAME:CDT
DTSTART:20260308T080000
END:DAYLIGHT
BEGIN:STANDARD
TZOFFSETFROM:-0500
TZOFFSETTO:-0600
TZNAME:CST
DTSTART:20261101T070000
END:STANDARD
END:VTIMEZONE
BEGIN:VEVENT
DTSTART;TZID=America/Chicago:20260531T163000
DTEND;TZID=America/Chicago:20260531T183000
DTSTAMP:20260419T151822
CREATED:20260412T061854Z
LAST-MODIFIED:20260412T061854Z
UID:2362320-1780245000-1780252200@pdop.org
SUMMARY:Open Gym (Ages 6+)
DESCRIPTION:$14 per visit\, or buy a prepaid 5-visit pass for $65. \nNo gymnastics experience required! This program is intended for anyone who wants to practice independently to improve their skills. \nDrop-ins will not accepted after max registrations have been reached\, even if other participants leave. Registration opens 7 days before each Open Gym\, and you have up to 24 hours before each Open Gym to cancel your pre-registration.
URL:https://pdop.org/event/open-gym-ages-6-18/
END:VEVENT
BEGIN:VEVENT
DTSTART;TZID=America/Chicago:20260601T060000
DTEND;TZID=America/Chicago:20260601T064500
DTSTAMP:20260419T151822
CREATED:20260219T060643Z
LAST-MODIFIED:20260219T060643Z
UID:2311613-1780293600-1780296300@pdop.org
SUMMARY:Express BODYPUMP (Monday)
DESCRIPTION:LesMills BODYPUMP (TM) is the original barbell class that strengthens your entire body. This 45-minute workout challenges all your major muscle groups by using the best weight room exercises\, like squats\, presses\, lifts\, and curls.
URL:https://pdop.org/event/express-bodypump-monday-41/
END:VEVENT
BEGIN:VEVENT
DTSTART;TZID=America/Chicago:20260601T060000
DTEND;TZID=America/Chicago:20260601T064500
DTSTAMP:20260419T151822
CREATED:20260412T061855Z
LAST-MODIFIED:20260412T061855Z
UID:2362321-1780293600-1780296300@pdop.org
SUMMARY:Express BODYPUMP (Monday)
DESCRIPTION:LesMills BODYPUMP (TM) is the original barbell class that strengthens your entire body. This 45-minute workout challenges all your major muscle groups by using the best weight room exercises\, like squats\, presses\, lifts\, and curls.
URL:https://pdop.org/event/express-bodypump-monday-87/
CATEGORIES:Fitness Dropin
END:VEVENT
BEGIN:VEVENT
DTSTART;TZID=America/Chicago:20260601T090000
DTEND;TZID=America/Chicago:20260601T100000
DTSTAMP:20260419T151822
CREATED:20260219T060643Z
LAST-MODIFIED:20260219T060643Z
UID:2311614-1780304400-1780308000@pdop.org
SUMMARY:Nia (Monday)
DESCRIPTION:This unique fitness class blends dance\, martial arts\, and healing to achieve your fitness goals and express yourself through movement and sensation. Come experience Nia in this barefoot\, aerobic\, movement based class. Appropriate for all fitness levels; no dance experience necessary.
URL:https://pdop.org/event/nia-monday-21/
END:VEVENT
BEGIN:VEVENT
DTSTART;TZID=America/Chicago:20260601T090000
DTEND;TZID=America/Chicago:20260601T100000
DTSTAMP:20260419T151822
CREATED:20260412T061855Z
LAST-MODIFIED:20260412T061855Z
UID:2362322-1780304400-1780308000@pdop.org
SUMMARY:Nia (Monday)
DESCRIPTION:This unique fitness class blends dance\, martial arts\, and healing to achieve your fitness goals and express yourself through movement and sensation. Come experience Nia in this barefoot\, aerobic\, movement based class. Appropriate for all fitness levels; no dance experience necessary.
URL:https://pdop.org/event/nia-monday-44/
CATEGORIES:Fitness Dropin
END:VEVENT
BEGIN:VEVENT
DTSTART;TZID=America/Chicago:20260601T113000
DTEND;TZID=America/Chicago:20260601T130000
DTSTAMP:20260419T151822
CREATED:20260412T061855Z
LAST-MODIFIED:20260412T061855Z
UID:2362323-1780313400-1780318800@pdop.org
SUMMARY:Noon Skate
DESCRIPTION:Noon Skate:$12 SKATES INCLUDED! \nMondays\, Wednesdays and Fridays ONLY! \nPre-Registration and Walk-Ins accepted. \nRink Membership are available under the "Membership/Passes" tab.
URL:https://pdop.org/event/noon-skate-86/
END:VEVENT
BEGIN:VEVENT
DTSTART;TZID=America/Chicago:20260601T120000
DTEND;TZID=America/Chicago:20260601T124500
DTSTAMP:20260419T151822
CREATED:20260219T060644Z
LAST-MODIFIED:20260219T060644Z
UID:2311615-1780315200-1780317900@pdop.org
SUMMARY:Express BODYPUMP (Monday)
DESCRIPTION:LesMills BODYPUMP (TM) is the original barbell class that strengthens your entire body. This 45-minute workout challenges all your major muscle groups by using the best weight room exercises\, like squats\, presses\, lifts\, and curls.
URL:https://pdop.org/event/express-bodypump-monday-42/
END:VEVENT
BEGIN:VEVENT
DTSTART;TZID=America/Chicago:20260601T120000
DTEND;TZID=America/Chicago:20260601T124500
DTSTAMP:20260419T151822
CREATED:20260412T061856Z
LAST-MODIFIED:20260412T061856Z
UID:2362324-1780315200-1780317900@pdop.org
SUMMARY:Express BODYPUMP (Monday)
DESCRIPTION:LesMills BODYPUMP (TM) is the original barbell class that strengthens your entire body. This 45-minute workout challenges all your major muscle groups by using the best weight room exercises\, like squats\, presses\, lifts\, and curls.
URL:https://pdop.org/event/express-bodypump-monday-88/
CATEGORIES:Fitness Dropin
END:VEVENT
BEGIN:VEVENT
DTSTART;TZID=America/Chicago:20260601T174500
DTEND;TZID=America/Chicago:20260601T184500
DTSTAMP:20260419T151822
CREATED:20260219T060644Z
LAST-MODIFIED:20260219T060644Z
UID:2311616-1780335900-1780339500@pdop.org
SUMMARY:Zumba (Monday)
DESCRIPTION:Zumba fitness is like no other workout you will ever experience! It combines Latin rhythms and easy-to-follow dance moves to create a one-of-a-kind fitness program. You will fall in love with the infectious music and body-beautifying benefits.
URL:https://pdop.org/event/zumba-monday-21/
END:VEVENT
BEGIN:VEVENT
DTSTART;TZID=America/Chicago:20260601T174500
DTEND;TZID=America/Chicago:20260601T184500
DTSTAMP:20260419T151822
CREATED:20260412T061856Z
LAST-MODIFIED:20260412T061856Z
UID:2362325-1780335900-1780339500@pdop.org
SUMMARY:Zumba (Monday)
DESCRIPTION:Zumba fitness is like no other workout you will ever experience! It combines Latin rhythms and easy-to-follow dance moves to create a one-of-a-kind fitness program. You will fall in love with the infectious music and body-beautifying benefits.
URL:https://pdop.org/event/zumba-monday-44/
CATEGORIES:Fitness Dropin
END:VEVENT
BEGIN:VEVENT
DTSTART;TZID=America/Chicago:20260601T180000
DTEND;TZID=America/Chicago:20260601T190000
DTSTAMP:20260419T151822
CREATED:20260412T061856Z
LAST-MODIFIED:20260412T061856Z
UID:2362326-1780336800-1780340400@pdop.org
SUMMARY:Try Archery for Beginners - 6/1/26
DESCRIPTION:New to the sport and want to try it out before committing to a full three-week session or a private lesson? Try this introductory course! All materials provided. \n  \nArchery is for everyone!  Our instructor is trained in adaptive archery and the elements used to make this sport accessible. Please contact us if there are any accommodations you may need!
URL:https://pdop.org/event/try-archery-for-beginners-6-1-26/
CATEGORIES:Nature Programs,Youth Special Interest
END:VEVENT
BEGIN:VEVENT
DTSTART;TZID=America/Chicago:20260601T190000
DTEND;TZID=America/Chicago:20260601T194500
DTSTAMP:20260419T151822
CREATED:20260219T060645Z
LAST-MODIFIED:20260219T060645Z
UID:2311618-1780340400-1780343100@pdop.org
SUMMARY:PowerStrength (Monday)
DESCRIPTION:  \nProgressive strength training\, this 45-minute class focuses on building muscle\, improving technique and growing confidence while lifting weights in a slower tempo to generate hypertrophy.
URL:https://pdop.org/event/powerstrength-monday-18/
END:VEVENT
BEGIN:VEVENT
DTSTART;TZID=America/Chicago:20260601T190000
DTEND;TZID=America/Chicago:20260601T194500
DTSTAMP:20260419T151822
CREATED:20260412T061857Z
LAST-MODIFIED:20260412T061857Z
UID:2362327-1780340400-1780343100@pdop.org
SUMMARY:PowerStrength (Monday)
DESCRIPTION:  \nProgressive strength training\, this 45-minute class focuses on building muscle\, improving technique and growing confidence while lifting weights in a slower tempo to generate hypertrophy.
URL:https://pdop.org/event/powerstrength-monday-37/
CATEGORIES:Fitness Dropin
END:VEVENT
BEGIN:VEVENT
DTSTART;TZID=America/Chicago:20260601T190000
DTEND;TZID=America/Chicago:20260601T200000
DTSTAMP:20260419T151822
CREATED:20260219T060644Z
LAST-MODIFIED:20260219T060644Z
UID:2311617-1780340400-1780344000@pdop.org
SUMMARY:Power Vinyasa (Monday)
DESCRIPTION:Improve your flexibility\, strength\, balance\, and mental stillness with this challenging yet accessible yoga class. Explore breath to movement and learn more about your personal yoga practice.
URL:https://pdop.org/event/power-vinyasa-monday-20/
END:VEVENT
BEGIN:VEVENT
DTSTART;TZID=America/Chicago:20260601T190000
DTEND;TZID=America/Chicago:20260601T200000
DTSTAMP:20260419T151822
CREATED:20260412T061857Z
LAST-MODIFIED:20260412T061857Z
UID:2362328-1780340400-1780344000@pdop.org
SUMMARY:Power Vinyasa (Monday)
DESCRIPTION:Improve your flexibility\, strength\, balance\, and mental stillness with this challenging yet accessible yoga class. Explore breath to movement and learn more about your personal yoga practice.
URL:https://pdop.org/event/power-vinyasa-monday-42/
CATEGORIES:Fitness Dropin
END:VEVENT
BEGIN:VEVENT
DTSTART;TZID=America/Chicago:20260602T061500
DTEND;TZID=America/Chicago:20260602T071500
DTSTAMP:20260419T151822
CREATED:20260219T060645Z
LAST-MODIFIED:20260219T060645Z
UID:2311619-1780380900-1780384500@pdop.org
SUMMARY:BODYPUMP (Tuesday)
DESCRIPTION: LesMills BODYPUMP(TM) is the original barbell class that strengthens your entire body. This workout challenges all your major muscle groups by using the best weight room exercises\, like squats\, presses\, lifts and curls. Great music\, awesome instructors and your choice of weight inspires you to get the results you came for and fast! \n 
URL:https://pdop.org/event/bodypump-tuesday-22/
END:VEVENT
BEGIN:VEVENT
DTSTART;TZID=America/Chicago:20260602T061500
DTEND;TZID=America/Chicago:20260602T071500
DTSTAMP:20260419T151822
CREATED:20260412T061857Z
LAST-MODIFIED:20260412T061857Z
UID:2362329-1780380900-1780384500@pdop.org
SUMMARY:BODYPUMP (Tuesday)
DESCRIPTION: LesMills BODYPUMP(TM) is the original barbell class that strengthens your entire body. This workout challenges all your major muscle groups by using the best weight room exercises\, like squats\, presses\, lifts and curls. Great music\, awesome instructors and your choice of weight inspires you to get the results you came for and fast! \n 
URL:https://pdop.org/event/bodypump-tuesday-43/
CATEGORIES:Fitness Dropin
END:VEVENT
BEGIN:VEVENT
DTSTART;TZID=America/Chicago:20260602T090000
DTEND;TZID=America/Chicago:20260602T100000
DTSTAMP:20260419T151822
CREATED:20260219T060645Z
LAST-MODIFIED:20260219T060645Z
UID:2311620-1780390800-1780394400@pdop.org
SUMMARY:Nia (Tuesday)
DESCRIPTION:This unique fitness class blends dance\, martial arts\, and healing to achieve your fitness goals and express yourself through movement and sensation. Come experience Nia in this barefoot\, aerobic\, movement based class. Appropriate for all fitness levels; no dance experience necessary.
URL:https://pdop.org/event/nia-tuesday-22/
END:VEVENT
BEGIN:VEVENT
DTSTART;TZID=America/Chicago:20260602T090000
DTEND;TZID=America/Chicago:20260602T100000
DTSTAMP:20260419T151822
CREATED:20260412T061858Z
LAST-MODIFIED:20260412T061858Z
UID:2362330-1780390800-1780394400@pdop.org
SUMMARY:Nia (Tuesday)
DESCRIPTION:This unique fitness class blends dance\, martial arts\, and healing to achieve your fitness goals and express yourself through movement and sensation. Come experience Nia in this barefoot\, aerobic\, movement based class. Appropriate for all fitness levels; no dance experience necessary.
URL:https://pdop.org/event/nia-tuesday-46/
CATEGORIES:Fitness Dropin
END:VEVENT
BEGIN:VEVENT
DTSTART;TZID=America/Chicago:20260602T113000
DTEND;TZID=America/Chicago:20260602T130000
DTSTAMP:20260419T151822
CREATED:20260412T061858Z
LAST-MODIFIED:20260412T061858Z
UID:2362331-1780399800-1780405200@pdop.org
SUMMARY:Noon Skate
DESCRIPTION:Noon Skate:$12 SKATES INCLUDED! \nMondays\, Wednesdays and Fridays ONLY! \nPre-Registration and Walk-Ins accepted. \nRink Membership are available under the "Membership/Passes" tab.
URL:https://pdop.org/event/noon-skate-87/
END:VEVENT
BEGIN:VEVENT
DTSTART;TZID=America/Chicago:20260602T120000
DTEND;TZID=America/Chicago:20260602T124500
DTSTAMP:20260419T151822
CREATED:20260219T060645Z
LAST-MODIFIED:20260219T060645Z
UID:2311621-1780401600-1780404300@pdop.org
SUMMARY:Pilates (Tuesday)
DESCRIPTION:Experience a dynamic Pilates class designed to strengthen your core\, improve flexibility\, and enhance overall body awareness.
URL:https://pdop.org/event/pilates-tuesday-41/
END:VEVENT
BEGIN:VEVENT
DTSTART;TZID=America/Chicago:20260602T120000
DTEND;TZID=America/Chicago:20260602T124500
DTSTAMP:20260419T151822
CREATED:20260412T061859Z
LAST-MODIFIED:20260412T061859Z
UID:2362332-1780401600-1780404300@pdop.org
SUMMARY:Pilates (Tuesday)
DESCRIPTION:Experience a dynamic Pilates class designed to strengthen your core\, improve flexibility\, and enhance overall body awareness.
URL:https://pdop.org/event/pilates-tuesday-84/
CATEGORIES:Fitness Dropin
END:VEVENT
BEGIN:VEVENT
DTSTART;TZID=America/Chicago:20260602T120000
DTEND;TZID=America/Chicago:20260602T130000
DTSTAMP:20260419T151822
CREATED:20260412T061859Z
LAST-MODIFIED:20260412T061859Z
UID:2362333-1780401600-1780405200@pdop.org
SUMMARY:Practical ChatGPT T ips for Beginners
DESCRIPTION:Have you been curious about what ChatGPT is exactly and how it can be used? Join our fun and engaging class to learn everything you need to know about ChatGPT powered by Artificial Intelligence. Understand how it works and why it's taking the world by storm. You'll explore practical everyday uses for ChatGPT in both the workforce and at home\, ensuring you stay in the loop when ChatGPT is mentioned in conversations and on the news. Don't get left behind in today's tech-savvy world\, attend this essential training today!
URL:https://pdop.org/event/practical-chatgpt-t-ips-for-beginners/
END:VEVENT
BEGIN:VEVENT
DTSTART;TZID=America/Chicago:20260602T130000
DTEND;TZID=America/Chicago:20260602T134500
DTSTAMP:20260419T151822
CREATED:20260219T060646Z
LAST-MODIFIED:20260219T060646Z
UID:2311622-1780405200-1780407900@pdop.org
SUMMARY:Body Sculpt (Tuesday)
DESCRIPTION:Start your morning with light strength and cardio workout. Steps\, dumbbells\, and a mat are used to develop your muscle strength for your upper body\, lower body and core. As you activate your major muscle groups and increase balance\, you will feel strong and refreshed in this motivating group setting. See you at the class!
URL:https://pdop.org/event/body-sculpt-tuesday-22/
END:VEVENT
BEGIN:VEVENT
DTSTART;TZID=America/Chicago:20260602T130000
DTEND;TZID=America/Chicago:20260602T134500
DTSTAMP:20260419T151822
CREATED:20260412T061900Z
LAST-MODIFIED:20260412T061900Z
UID:2362334-1780405200-1780407900@pdop.org
SUMMARY:Body Sculpt (Tuesday)
DESCRIPTION:Start your morning with light strength and cardio workout. Steps\, dumbbells\, and a mat are used to develop your muscle strength for your upper body\, lower body and core. As you activate your major muscle groups and increase balance\, you will feel strong and refreshed in this motivating group setting. See you at the class!
URL:https://pdop.org/event/body-sculpt-tuesday-45/
CATEGORIES:Fitness Dropin
END:VEVENT
BEGIN:VEVENT
DTSTART;TZID=America/Chicago:20260602T130000
DTEND;TZID=America/Chicago:20260602T143000
DTSTAMP:20260419T151822
CREATED:20260412T061900Z
LAST-MODIFIED:20260412T061900Z
UID:2362335-1780405200-1780410600@pdop.org
SUMMARY:Ceramics Open Studio 1.5 Hours
DESCRIPTION:Come on in to finish pieces you worked on in our other classes like Family Ceramics\, Youth Ceramics\, Beginners Ceramics\, Beginners' Wheel\, and Partner Ceramics
URL:https://pdop.org/event/ceramics-open-studio-1-5-hours-31/
CATEGORIES:Arts & Crafts
END:VEVENT
BEGIN:VEVENT
DTSTART;TZID=America/Chicago:20260602T163000
DTEND;TZID=America/Chicago:20260602T183000
DTSTAMP:20260419T151822
CREATED:20260412T061901Z
LAST-MODIFIED:20260412T061901Z
UID:2362336-1780417800-1780425000@pdop.org
SUMMARY:Ceramics Open Studio 2 Hours
DESCRIPTION:Come on in to finish pieces you worked on in our other classes like Family Ceramics\, Youth Ceramics\, Beginners Ceramics\, Beginners' Wheel\, and Partner Ceramics
URL:https://pdop.org/event/ceramics-open-studio-2-hours-34/
CATEGORIES:Arts & Crafts
END:VEVENT
BEGIN:VEVENT
DTSTART;TZID=America/Chicago:20260602T173000
DTEND;TZID=America/Chicago:20260602T181500
DTSTAMP:20260419T151822
CREATED:20260219T060646Z
LAST-MODIFIED:20260219T060646Z
UID:2311623-1780421400-1780424100@pdop.org
SUMMARY:Step and Pump (Tuesday)
DESCRIPTION:A full-body strength workout to tone your butt and thighs. Start with basic movements on our steppers\, along with squat and lunge patterns to target the legs. Combine these with exercises such as burpees\, push-ups\, and weight plate movements. Don’t worry—there are plenty of options to ensure everyone leaves feeling successful.
URL:https://pdop.org/event/step-and-pump-tuesday-21/
END:VEVENT
BEGIN:VEVENT
DTSTART;TZID=America/Chicago:20260602T173000
DTEND;TZID=America/Chicago:20260602T181500
DTSTAMP:20260419T151822
CREATED:20260412T061902Z
LAST-MODIFIED:20260412T061902Z
UID:2362337-1780421400-1780424100@pdop.org
SUMMARY:Step and Pump (Tuesday)
DESCRIPTION:A full-body strength workout to tone your butt and thighs. Start with basic movements on our steppers\, along with squat and lunge patterns to target the legs. Combine these with exercises such as burpees\, push-ups\, and weight plate movements. Don’t worry—there are plenty of options to ensure everyone leaves feeling successful.
URL:https://pdop.org/event/step-and-pump-tuesday-42/
CATEGORIES:Fitness Dropin
END:VEVENT
BEGIN:VEVENT
DTSTART;TZID=America/Chicago:20260602T180000
DTEND;TZID=America/Chicago:20260602T200000
DTSTAMP:20260419T151822
CREATED:20260412T061902Z
LAST-MODIFIED:20260412T061902Z
UID:2362338-1780423200-1780430400@pdop.org
SUMMARY:Lapidary Open Studio
DESCRIPTION:Come in to work on lapidary projects independently\, with an instructor available to assist or answer questions. Space is limited\, but you are welcome to bring projects from home or start fresh here. experience is preferred
URL:https://pdop.org/event/lapidary-open-studio-9/
CATEGORIES:Arts & Crafts
END:VEVENT
END:VCALENDAR