BEGIN:VCALENDAR
VERSION:2.0
PRODID:-//Park District of Oak Park - ECPv5.14.1//NONSGML v1.0//EN
CALSCALE:GREGORIAN
METHOD:PUBLISH
X-WR-CALNAME:Park District of Oak Park
X-ORIGINAL-URL:https://pdop.org
X-WR-CALDESC:Events for Park District of Oak Park
REFRESH-INTERVAL;VALUE=DURATION:PT1H
X-Robots-Tag:noindex
X-PUBLISHED-TTL:PT1H
BEGIN:VTIMEZONE
TZID:America/Chicago
BEGIN:DAYLIGHT
TZOFFSETFROM:-0600
TZOFFSETTO:-0500
TZNAME:CDT
DTSTART:20260308T080000
END:DAYLIGHT
BEGIN:STANDARD
TZOFFSETFROM:-0500
TZOFFSETTO:-0600
TZNAME:CST
DTSTART:20261101T070000
END:STANDARD
END:VTIMEZONE
BEGIN:VEVENT
DTSTART;TZID=America/Chicago:20260510T100000
DTEND;TZID=America/Chicago:20260510T120000
DTSTAMP:20260425T072647
CREATED:20260425T060920Z
LAST-MODIFIED:20260425T060920Z
UID:2370101-1778407200-1778414400@pdop.org
SUMMARY:Ceramics Open Studio 2 Hours
DESCRIPTION:Come on in to finish pieces you worked on in our other classes like Family Ceramics\, Youth Ceramics\, Beginners Ceramics\, Beginners' Wheel\, and Partner Ceramics
URL:https://pdop.org/event/ceramics-open-studio-2-hours-22/
CATEGORIES:Arts & Crafts
END:VEVENT
BEGIN:VEVENT
DTSTART;TZID=America/Chicago:20260510T100000
DTEND;TZID=America/Chicago:20260510T110000
DTSTAMP:20260425T072647
CREATED:20260425T060920Z
LAST-MODIFIED:20260425T060920Z
UID:2370102-1778407200-1778410800@pdop.org
SUMMARY:Yoga Barre (Sunday)
DESCRIPTION:This fusion class consists of Yoga and strength training. Exercises will focus on abs\, bottom and inner thigh to achieve long lean muscle tone and also to give that booty a pop! Class is done in bare feet\, socks with grips\, or ballet shoes. 
URL:https://pdop.org/event/yoga-barre-sunday-41/
CATEGORIES:Fitness Dropin
END:VEVENT
BEGIN:VEVENT
DTSTART;TZID=America/Chicago:20260510T100000
DTEND;TZID=America/Chicago:20260510T110000
DTSTAMP:20260425T072647
CREATED:20260219T060620Z
LAST-MODIFIED:20260219T060620Z
UID:2311487-1778407200-1778410800@pdop.org
SUMMARY:Yoga Barre (Sunday)
DESCRIPTION:This fusion class consists of Yoga and strength training. Exercises will focus on abs\, bottom and inner thigh to achieve long lean muscle tone and also to give that booty a pop! Class is done in bare feet\, socks with grips\, or ballet shoes. 
URL:https://pdop.org/event/yoga-barre-sunday-18/
END:VEVENT
BEGIN:VEVENT
DTSTART;TZID=America/Chicago:20260510T094500
DTEND;TZID=America/Chicago:20260510T103000
DTSTAMP:20260425T072647
CREATED:20260425T060920Z
LAST-MODIFIED:20260425T060920Z
UID:2370100-1778406300-1778409000@pdop.org
SUMMARY:Cardio HIIT + Core (Sunday)
DESCRIPTION:HIIT or High intensity interval training is a fantastic workout for all bodies. This interval-based full-body strength and cardio training focused on short bursts of intense work. Moderate to high impact exercises focus on aerobic and anaerobic fitness for max results. Finish the class with core-based conditioning focused on abdomen and back strength and stretching.
URL:https://pdop.org/event/cardio-hiit-core-sunday-39/
CATEGORIES:Fitness Dropin
END:VEVENT
BEGIN:VEVENT
DTSTART;TZID=America/Chicago:20260510T094500
DTEND;TZID=America/Chicago:20260510T103000
DTSTAMP:20260425T072647
CREATED:20260219T060620Z
LAST-MODIFIED:20260219T060620Z
UID:2311486-1778406300-1778409000@pdop.org
SUMMARY:Cardio HIIT + Core (Sunday)
DESCRIPTION:HIIT or High intensity interval training is a fantastic workout for all bodies. This interval-based full-body strength and cardio training focused on short bursts of intense work. Moderate to high impact exercises focus on aerobic and anaerobic fitness for max results. Finish the class with core-based conditioning focused on abdomen and back strength and stretching.
URL:https://pdop.org/event/cardio-hiit-core-sunday-18/
END:VEVENT
BEGIN:VEVENT
DTSTART;TZID=America/Chicago:20260510T083000
DTEND;TZID=America/Chicago:20260510T093000
DTSTAMP:20260425T072647
CREATED:20260425T060919Z
LAST-MODIFIED:20260425T060919Z
UID:2370097-1778401800-1778405400@pdop.org
SUMMARY:Body and Soul Workshop
DESCRIPTION:Address your whole-self\, body and soul\, with this hour long session of physical and expressive wellness led by  Marea\, an artist interested in community building and facilitating healing.  This compassionate and experienced instructor holds a 200-hour Certification in Yoga  and Healing Circle facilitation. Eastern and Western wellness traditions blend for a physical\, artistic and reflective workout. \nEach session offers a thoughtful half hour of Yoga\, breathwork\, Pilates\, Physical Therapy and core strength exercises. The flow continues for a half hour of creative outlets like journaling\, collage and art therapy. Whether you're seeking pain relief\, fitness\, or an outlet for the pressures of the modern world\, Body and Soul offers a supportive space for you to grow.
URL:https://pdop.org/event/body-and-soul-workshop-14/
CATEGORIES:Fitness Dropin
END:VEVENT
BEGIN:VEVENT
DTSTART;TZID=America/Chicago:20260510T083000
DTEND;TZID=America/Chicago:20260510T093000
DTSTAMP:20260425T072647
CREATED:20260425T060919Z
LAST-MODIFIED:20260425T060919Z
UID:2370098-1778401800-1778405400@pdop.org
SUMMARY:Nia (Sunday)
DESCRIPTION:This unique fitness class blends dance\, martial arts\, and healing to achieve your fitness goals and express yourself through movement and sensation. Come experience Nia in this barefoot\, aerobic\, movement based class. Appropriate for all fitness levels; no dance experience necessary.
URL:https://pdop.org/event/nia-sunday-39/
CATEGORIES:Fitness Dropin
END:VEVENT
BEGIN:VEVENT
DTSTART;TZID=America/Chicago:20260510T083000
DTEND;TZID=America/Chicago:20260510T093000
DTSTAMP:20260425T072647
CREATED:20260425T060919Z
LAST-MODIFIED:20260425T060919Z
UID:2370099-1778401800-1778405400@pdop.org
SUMMARY:Fairies & Flowers & Me - Austin Gardens Nature Walk - 5/10/26
DESCRIPTION:We’re exploring the bright and colorful today by using some faith\, trust\, and pixie dust! We’ll tell a story\, make a craft\, and put on our thinking caps in a fun science experiment about sorting. \n  \nMeeting Location: Inside Austin Gardens Environmental Education Center
URL:https://pdop.org/event/fairies-flowers-me-austin-gardens-nature-walk-5-10-26/
CATEGORIES:Nature Programs,Youth Special Interest
END:VEVENT
BEGIN:VEVENT
DTSTART;TZID=America/Chicago:20260510T083000
DTEND;TZID=America/Chicago:20260510T093000
DTSTAMP:20260425T072647
CREATED:20260219T060619Z
LAST-MODIFIED:20260219T060619Z
UID:2311484-1778401800-1778405400@pdop.org
SUMMARY:Nia (Sunday)
DESCRIPTION:This unique fitness class blends dance\, martial arts\, and healing to achieve your fitness goals and express yourself through movement and sensation. Come experience Nia in this barefoot\, aerobic\, movement based class. Appropriate for all fitness levels; no dance experience necessary.
URL:https://pdop.org/event/nia-sunday-18/
END:VEVENT
BEGIN:VEVENT
DTSTART;TZID=America/Chicago:20260510T083000
DTEND;TZID=America/Chicago:20260510T093000
DTSTAMP:20260425T072647
CREATED:20260219T060619Z
LAST-MODIFIED:20260219T060619Z
UID:2311485-1778401800-1778405400@pdop.org
SUMMARY:Body and Soul Workshop
DESCRIPTION:Address your whole-self\, body and soul\, with this hour long session of physical and expressive wellness led by  Marea\, an artist interested in community building and facilitating healing.  This compassionate and experienced instructor holds a 200-hour Certification in Yoga  and Healing Circle facilitation. Eastern and Western wellness traditions blend for a physical\, artistic and reflective workout. \nEach session offers a thoughtful half hour of Yoga\, breathwork\, Pilates\, Physical Therapy and core strength exercises. The flow continues for a half hour of creative outlets like journaling\, collage and art therapy. Whether you're seeking pain relief\, fitness\, or an outlet for the pressures of the modern world\, Body and Soul offers a supportive space for you to grow.
URL:https://pdop.org/event/body-and-soul-workshop-6/
END:VEVENT
BEGIN:VEVENT
DTSTART;TZID=America/Chicago:20260509T183000
DTEND;TZID=America/Chicago:20260509T201500
DTSTAMP:20260425T072647
CREATED:20260425T060919Z
LAST-MODIFIED:20260425T060919Z
UID:2370096-1778351400-1778357700@pdop.org
SUMMARY:Public Skate
DESCRIPTION:Public Skate:$12 SKATES INCLUDED \nPre-Registration and Walk-Ins accepted. \nRink Membership are available under the "Membership/Passes"  tab.
URL:https://pdop.org/event/public-skate-38/
END:VEVENT
BEGIN:VEVENT
DTSTART;TZID=America/Chicago:20260509T153000
DTEND;TZID=America/Chicago:20260509T163000
DTSTAMP:20260425T072647
CREATED:20260425T060918Z
LAST-MODIFIED:20260425T060918Z
UID:2370095-1778340600-1778344200@pdop.org
SUMMARY:Adaptive Archery Special - 5/9/26 (National Archery Day)
DESCRIPTION:Happy National Archery Day! We’re opening the range for all skill levels to try their hand at using a bow and arrow. \nWe always say that archery is for everyone\, but today we're partnering with WSSRA to host a special hour of just adaptive shooting. Everyone from beginners to seasoned archers are welcome. All materials provided. \nOur instructor is trained in adaptive archery and the elements used to make this sport accessible. Please contact us if there are any accommodations you may need!
URL:https://pdop.org/event/adaptive-archery-special-5-9-26-national-archery-day/
CATEGORIES:Nature Programs,Youth Special Interest
END:VEVENT
BEGIN:VEVENT
DTSTART;TZID=America/Chicago:20260509T140000
DTEND;TZID=America/Chicago:20260509T150000
DTSTAMP:20260425T072647
CREATED:20260425T060918Z
LAST-MODIFIED:20260425T060918Z
UID:2370094-1778335200-1778338800@pdop.org
SUMMARY:All-Skill Balloon Challenge - 5/9/26 (National Archery Day)
DESCRIPTION:Happy National Archery Day! We’re opening the range for all skill levels to try their hand at using a bow and arrow. \nIt's a balloon shoot-out! Every balloon on your target that you pop earns you a prize – how many can you hit? Everyone from beginners to seasoned archers are welcome. All materials provided.  \n  \nArchery is for everyone!  Our instructor is trained in adaptive archery and the elements used to make this sport accessible. Please contact us if there are any accommodations you may need!
URL:https://pdop.org/event/all-skill-balloon-challenge-5-9-26-national-archery-day/
CATEGORIES:Nature Programs,Youth Special Interest
END:VEVENT
BEGIN:VEVENT
DTSTART;TZID=America/Chicago:20260509T130000
DTEND;TZID=America/Chicago:20260509T140000
DTSTAMP:20260425T072647
CREATED:20260425T060918Z
LAST-MODIFIED:20260425T060918Z
UID:2370093-1778331600-1778335200@pdop.org
SUMMARY:Try Archery for Beginners - 5/9/26 (National Archery Day)
DESCRIPTION:Happy National Archery Day! We’re opening the \nrange for all skill levels to try their hand at using a \nbow and arrow. \nNew to the sport and want to try it out before committing to a full three-week session or a private lesson? Try this introductory course! All materials provided. \n  \nArchery is for everyone!  Our instructor is trained in adaptive archery and the elements used to make this sport accessible. Please contact us if there are any accommodations you may need!
URL:https://pdop.org/event/try-archery-for-beginners-5-9-26-national-archery-day/
CATEGORIES:Nature Programs,Youth Special Interest
END:VEVENT
BEGIN:VEVENT
DTSTART;TZID=America/Chicago:20260509T103000
DTEND;TZID=America/Chicago:20260509T111500
DTSTAMP:20260425T072647
CREATED:20260425T060918Z
LAST-MODIFIED:20260425T060918Z
UID:2370092-1778322600-1778325300@pdop.org
SUMMARY:Werq Dance Fitness (Saturday)
DESCRIPTION:Build cardiovascular endurance and strengthen your heart muscle while dancing to today's hottest Top 40 Pop\, Rock and Hip Hop Music! \nWERQ® is the fiercely fun dance fitness class based on pop\, rock\, and hip hop music taught by Certified Fitness Professionals.
URL:https://pdop.org/event/werq-dance-fitness-saturday-37/
CATEGORIES:Fitness Dropin
END:VEVENT
BEGIN:VEVENT
DTSTART;TZID=America/Chicago:20260509T103000
DTEND;TZID=America/Chicago:20260509T111500
DTSTAMP:20260425T072647
CREATED:20260219T060619Z
LAST-MODIFIED:20260219T060619Z
UID:2311483-1778322600-1778325300@pdop.org
SUMMARY:Werq Dance Fitness (Saturday)
DESCRIPTION:Build cardiovascular endurance and strengthen your heart muscle while dancing to today's hottest Top 40 Pop\, Rock and Hip Hop Music! \nWERQ® is the fiercely fun dance fitness class based on pop\, rock\, and hip hop music taught by Certified Fitness Professionals.
URL:https://pdop.org/event/werq-dance-fitness-saturday-17/
END:VEVENT
BEGIN:VEVENT
DTSTART;TZID=America/Chicago:20260509T100000
DTEND;TZID=America/Chicago:20260509T120000
DTSTAMP:20260425T072648
CREATED:20260425T060917Z
LAST-MODIFIED:20260425T060917Z
UID:2370090-1778320800-1778328000@pdop.org
SUMMARY:Garden Signs
DESCRIPTION:Add a personal touch to your garden with a handmade sign! In this creative\, beginner-friendly workshop\, participants will design and decorate custom garden signs using paint\, stencils\, and weather-resistant materials. Our instructor will guide you through layout and lettering techniques to help your personality bloom right alongside your plants. Whether you label your herbs\, mark your veggies\, or create a whimsical welcome sign\, you’ll leave with a one-of-a-kind piece ready to display outdoors.
URL:https://pdop.org/event/garden-signs/
CATEGORIES:Arts & Crafts
END:VEVENT
BEGIN:VEVENT
DTSTART;TZID=America/Chicago:20260509T100000
DTEND;TZID=America/Chicago:20260509T110000
DTSTAMP:20260425T072648
CREATED:20260425T060917Z
LAST-MODIFIED:20260425T060917Z
UID:2370091-1778320800-1778324400@pdop.org
SUMMARY:Toad Abode Workshop - 5/9/26
DESCRIPTION:On these hot summer days\, amphibians like frogs and toads need a place to cool off! Today we’re making terracotta toad houses. They’ll provide our cold-blooded pals a place to hide from the sun\, so they can relax before eating our garden pests! All materials provided.
URL:https://pdop.org/event/toad-abode-workshop-5-9-26/
CATEGORIES:Family Programs,Nature Programs,Youth Special Interest
END:VEVENT
BEGIN:VEVENT
DTSTART;TZID=America/Chicago:20260509T093000
DTEND;TZID=America/Chicago:20260509T100000
DTSTAMP:20260425T072648
CREATED:20260425T060917Z
LAST-MODIFIED:20260425T060917Z
UID:2370089-1778319000-1778320800@pdop.org
SUMMARY:Foam Rolling (Saturday)
DESCRIPTION:Using tools such as a lacrosse ball and a foam roller\, this class focuses on self massage techniques that relieve muscle tension and increase range of motion. Self myofascial release corrects postural imbalances and improves neck\, shoulder\, back\, and knee pain. Learn and practice techniques that is popular among athletes–from gymnasts to basketball players–to decrease post-exercise recovery time\, enhance performance\, and prevent injury. You'll also learn new core exercises to help stabilize your body during everyday movements. 
URL:https://pdop.org/event/foam-rolling-saturday-40/
CATEGORIES:Fitness Dropin
END:VEVENT
BEGIN:VEVENT
DTSTART;TZID=America/Chicago:20260509T093000
DTEND;TZID=America/Chicago:20260509T100000
DTSTAMP:20260425T072648
CREATED:20260219T060619Z
LAST-MODIFIED:20260219T060619Z
UID:2311482-1778319000-1778320800@pdop.org
SUMMARY:Foam Rolling (Saturday)
DESCRIPTION:Using tools such as a lacrosse ball and a foam roller\, this class focuses on self massage techniques that relieve muscle tension and increase range of motion. Self myofascial release corrects postural imbalances and improves neck\, shoulder\, back\, and knee pain. Learn and practice techniques that is popular among athletes–from gymnasts to basketball players–to decrease post-exercise recovery time\, enhance performance\, and prevent injury. You'll also learn new core exercises to help stabilize your body during everyday movements. 
URL:https://pdop.org/event/foam-rolling-saturday-18/
END:VEVENT
BEGIN:VEVENT
DTSTART;TZID=America/Chicago:20260509T090000
DTEND;TZID=America/Chicago:20260509T100000
DTSTAMP:20260425T072648
CREATED:20260425T060917Z
LAST-MODIFIED:20260425T060917Z
UID:2370088-1778317200-1778320800@pdop.org
SUMMARY:Octopus Gardens - 5/9/26
DESCRIPTION:Would you like to be under the sea? Join us for an underwater exploration into the world of "cephalopods" – octopus\, squid\, cuttlefish\, and more! We'll explore these kooky critters using art\, games\, and an up-close look at animal artifacts.
URL:https://pdop.org/event/octopus-gardens-5-9-26/
CATEGORIES:Family Programs,Nature Programs,Youth Special Interest
END:VEVENT
BEGIN:VEVENT
DTSTART;TZID=America/Chicago:20260509T083000
DTEND;TZID=America/Chicago:20260509T093000
DTSTAMP:20260425T072648
CREATED:20260425T060916Z
LAST-MODIFIED:20260425T060916Z
UID:2370087-1778315400-1778319000@pdop.org
SUMMARY:Cycle (Saturday)
DESCRIPTION:There's something for everyone in these classes: Intervals\, rolling hills\, sprints\, climbs\, runs\, surges and jumps all to music hand-picked to motivate and inspire! This is a great workout if you want to burn calories and increase endurance. Come on in for the ride!
URL:https://pdop.org/event/cycle-saturday-40/
CATEGORIES:Fitness Dropin
END:VEVENT
BEGIN:VEVENT
DTSTART;TZID=America/Chicago:20260509T083000
DTEND;TZID=America/Chicago:20260509T093000
DTSTAMP:20260425T072648
CREATED:20260219T060619Z
LAST-MODIFIED:20260219T060619Z
UID:2311481-1778315400-1778319000@pdop.org
SUMMARY:Cycle (Saturday)
DESCRIPTION:There's something for everyone in these classes: Intervals\, rolling hills\, sprints\, climbs\, runs\, surges and jumps all to music hand-picked to motivate and inspire! This is a great workout if you want to burn calories and increase endurance. Come on in for the ride!
URL:https://pdop.org/event/cycle-saturday-18/
END:VEVENT
BEGIN:VEVENT
DTSTART;TZID=America/Chicago:20260509T080000
DTEND;TZID=America/Chicago:20260509T084500
DTSTAMP:20260425T072648
CREATED:20260425T060916Z
LAST-MODIFIED:20260425T060916Z
UID:2370086-1778313600-1778316300@pdop.org
SUMMARY:BOOTCAMP: Strength Training (Saturday)
DESCRIPTION:This strength training class will help to sculpt your physique\, build muscle\, and enhance overall strength through dynamic workouts that combine resistance training\, functional movements\, and high-intensity exercises in a motivating group setting!
URL:https://pdop.org/event/bootcamp-strength-training-saturday-35/
CATEGORIES:Fitness Dropin
END:VEVENT
BEGIN:VEVENT
DTSTART;TZID=America/Chicago:20260509T080000
DTEND;TZID=America/Chicago:20260509T084500
DTSTAMP:20260425T072648
CREATED:20260219T060619Z
LAST-MODIFIED:20260219T060619Z
UID:2311480-1778313600-1778316300@pdop.org
SUMMARY:BOOTCAMP: Strength Training (Saturday)
DESCRIPTION:This strength training class will help to sculpt your physique\, build muscle\, and enhance overall strength through dynamic workouts that combine resistance training\, functional movements\, and high-intensity exercises in a motivating group setting!
URL:https://pdop.org/event/bootcamp-strength-training-saturday-17/
END:VEVENT
BEGIN:VEVENT
DTSTART;TZID=America/Chicago:20260509T071500
DTEND;TZID=America/Chicago:20260509T081500
DTSTAMP:20260425T072648
CREATED:20260219T060618Z
LAST-MODIFIED:20260219T060618Z
UID:2311479-1778310900-1778314500@pdop.org
SUMMARY:BODYPUMP (Saturday)
DESCRIPTION: LesMills BODYPUMP(TM) is the original barbell class that strengthens your entire body. This workout challenges all your major muscle groups by using the best weight room exercises\, like squats\, presses\, lifts and curls. Great music\, awesome instructors and your choice of weight inspires you to get the results you came for and fast! \n 
URL:https://pdop.org/event/bodypump-saturday-19/
END:VEVENT
BEGIN:VEVENT
DTSTART;TZID=America/Chicago:20260508T190000
DTEND;TZID=America/Chicago:20260508T210000
DTSTAMP:20260425T072648
CREATED:20260425T060916Z
LAST-MODIFIED:20260425T060916Z
UID:2370085-1778266800-1778274000@pdop.org
SUMMARY:Handmade Defense: Bug Repellant Candle Making with Einnim Candle Bar
DESCRIPTION:This workshop is just right for anyone eager to enjoy the great outdoors without the hassle of pesky bugs. Our friendly and knowledgable instructors will be with you every step of the way\, helping you create the perfect blend of essential oils and delightful frangrances that ward off those annoying insects while you have fun. You'll leave with beautiful and functional soy wax candles that are sure to keep the bugs away. Each 9 oz candle provides 40-45 hours of burn time using 100% soy wax.  Light snacks and 2 drink tickets are included in your registration. Join us on the front porch of Pleasant Home\, and let's prepare for a summer free of bugs! Ages 21+
URL:https://pdop.org/event/handmade-defense-bug-repellant-candle-making-with-einnim-candle-bar/
END:VEVENT
BEGIN:VEVENT
DTSTART;TZID=America/Chicago:20260508T183000
DTEND;TZID=America/Chicago:20260508T203000
DTSTAMP:20260425T072648
CREATED:20260425T060916Z
LAST-MODIFIED:20260425T060916Z
UID:2370084-1778265000-1778272200@pdop.org
SUMMARY:Fire Painting & Brazing May 8-29
DESCRIPTION:In this class\, we will be flame painting on copper to create rainbow patina designs. We will then seal the finish with UV resin to keep it permanent. Also\, we will learn how to make braised copper twisted wire bangles\, rings\, and more.
URL:https://pdop.org/event/fire-painting-brazing-may-8-29/
CATEGORIES:Arts & Crafts
END:VEVENT
BEGIN:VEVENT
DTSTART;TZID=America/Chicago:20260508T183000
DTEND;TZID=America/Chicago:20260508T201500
DTSTAMP:20260425T072648
CREATED:20260425T060915Z
LAST-MODIFIED:20260425T060915Z
UID:2370082-1778265000-1778271300@pdop.org
SUMMARY:Public Skate
DESCRIPTION:Public Skate:$12 SKATES INCLUDED \nPre-Registration and Walk-Ins accepted. \nRink Membership are available under the "Membership/Passes"  tab.
URL:https://pdop.org/event/public-skate-37/
END:VEVENT
BEGIN:VEVENT
DTSTART;TZID=America/Chicago:20260508T183000
DTEND;TZID=America/Chicago:20260508T193000
DTSTAMP:20260425T072648
CREATED:20260425T060915Z
LAST-MODIFIED:20260425T060915Z
UID:2370083-1778265000-1778268600@pdop.org
SUMMARY:Adult-Child Archery Evening - 5/8/26
DESCRIPTION:Hey\, junior archers! Want to teach your adults a thing or two about shooting a bow and arrow? Our trained instructors will help you and your adult learn the ropes of this fun adventure sport. Registration is for one child and one adult. Please register your child archer only\, not their adult. \n  \nArchery is for everyone!  Our instructor is trained in adaptive archery and the elements used to make this sport accessible. Please contact us if there are any accommodations you may need!
URL:https://pdop.org/event/adult-child-archery-evening-5-8-26/
CATEGORIES:Family Programs,Nature Programs,Youth Special Interest
END:VEVENT
END:VCALENDAR