BEGIN:VCALENDAR
VERSION:2.0
PRODID:-//Park District of Oak Park - ECPv5.14.1//NONSGML v1.0//EN
CALSCALE:GREGORIAN
METHOD:PUBLISH
X-WR-CALNAME:Park District of Oak Park
X-ORIGINAL-URL:https://pdop.org
X-WR-CALDESC:Events for Park District of Oak Park
REFRESH-INTERVAL;VALUE=DURATION:PT1H
X-Robots-Tag:noindex
X-PUBLISHED-TTL:PT1H
BEGIN:VTIMEZONE
TZID:America/Chicago
BEGIN:DAYLIGHT
TZOFFSETFROM:-0600
TZOFFSETTO:-0500
TZNAME:CDT
DTSTART:20260308T080000
END:DAYLIGHT
BEGIN:STANDARD
TZOFFSETFROM:-0500
TZOFFSETTO:-0600
TZNAME:CST
DTSTART:20261101T070000
END:STANDARD
END:VTIMEZONE
BEGIN:VEVENT
DTSTART;TZID=America/Chicago:20260416T173000
DTEND;TZID=America/Chicago:20260416T183000
DTSTAMP:20260422T072058
CREATED:20260420T061845Z
LAST-MODIFIED:20260420T061845Z
UID:2363735-1776360600-1776364200@pdop.org
SUMMARY:Body Flow (Thursday)
DESCRIPTION:Unite the mind\, body\, and spirit with a dynamic class that blends the best of yoga\, pilates\, and tai chi. This unique practice emphasizes stretch\, balance\, and coordination\, leaving you feeling centered\, energized\, and ready to take on the day.
URL:https://pdop.org/event/body-flow-thursday-39/
CATEGORIES:Fitness Dropin
END:VEVENT
BEGIN:VEVENT
DTSTART;TZID=America/Chicago:20260416T180000
DTEND;TZID=America/Chicago:20260416T190000
DTSTAMP:20260422T072058
CREATED:20260420T061845Z
LAST-MODIFIED:20260420T061845Z
UID:2363737-1776362400-1776366000@pdop.org
SUMMARY:American Sign Language for Kids (4/9-5/28/26)
DESCRIPTION:**Please Note** Due to some scheduling conflicts\, the dates for this program have changed. They will be taking place on Thursdays rather than Wednesdays. \n  \nBrand new this year! Join our immersive ASL course taught by native signers. This class focuses on basic signs so your kids can gain confidence in their \ncommunication in and out of the classroom. \nOur adult class is taught separately at the same time\, so you can learn as a family. See the Adult Leisure and Lifestyle section for those classes.
URL:https://pdop.org/event/american-sign-language-for-kids-4-9-5-28-26-2/
CATEGORIES:Youth Special Interest,Family Programs,Nature Programs
END:VEVENT
BEGIN:VEVENT
DTSTART;TZID=America/Chicago:20260416T180000
DTEND;TZID=America/Chicago:20260416T190000
DTSTAMP:20260422T072058
CREATED:20260420T061845Z
LAST-MODIFIED:20260420T061845Z
UID:2363738-1776362400-1776366000@pdop.org
SUMMARY:American Sign Language for Adults (4/9-5/28/26)
DESCRIPTION:**Please Note** Due to some scheduling conflicts\, the dates for this program have changed. They will be taking place on Thursdays rather than Wednesdays. \n  \nBrand new this year! Join our immersive ASL course taught by native signers. This class focuses on practical and conversational signs so you can gain confidence in your communication skills. \nOur youth class is taught separately at the same time\, so you can learn as a family. See the Special Interest section for those classes.
URL:https://pdop.org/event/american-sign-language-for-adults-4-9-5-28-26-2/
CATEGORIES:Family Programs,Nature Programs,Youth Special Interest
END:VEVENT
BEGIN:VEVENT
DTSTART;TZID=America/Chicago:20260416T180000
DTEND;TZID=America/Chicago:20260416T193000
DTSTAMP:20260422T072058
CREATED:20260420T061845Z
LAST-MODIFIED:20260420T061845Z
UID:2363736-1776362400-1776367800@pdop.org
SUMMARY:Ceramics Open Studio 1.5 Hours
DESCRIPTION:Come on in to finish pieces you worked on in our other classes like Family Ceramics\, Youth Ceramics\, Beginners Ceramics\, Beginners' Wheel\, and Partner Ceramics
URL:https://pdop.org/event/ceramics-open-studio-1-5-hours-4/
CATEGORIES:Arts & Crafts
END:VEVENT
BEGIN:VEVENT
DTSTART;TZID=America/Chicago:20260416T183000
DTEND;TZID=America/Chicago:20260416T193000
DTSTAMP:20260422T072058
CREATED:20260219T060553Z
LAST-MODIFIED:20260219T060553Z
UID:2311338-1776364200-1776367800@pdop.org
SUMMARY:Sunset Slow Flow Yoga (Thursday)
DESCRIPTION:This gentle flow yoga class combines a slow-paced flow class with restorative elements to relax and renew in candlelight. This class is ideal for both the beginner and seasoned practitioner. \nParticipants are encouraged to bring their own yoga mat. Props such as blocks\, blankets\, and straps will be provided but you are welcome to bring them from home.
URL:https://pdop.org/event/sunset-slow-flow-yoga-thursday-15/
END:VEVENT
BEGIN:VEVENT
DTSTART;TZID=America/Chicago:20260416T183000
DTEND;TZID=America/Chicago:20260416T193000
DTSTAMP:20260422T072058
CREATED:20260420T061846Z
LAST-MODIFIED:20260420T061846Z
UID:2363739-1776364200-1776367800@pdop.org
SUMMARY:Sunset Slow Flow Yoga (Thursday)
DESCRIPTION:This gentle flow yoga class combines a slow-paced flow class with restorative elements to relax and renew in candlelight. This class is ideal for both the beginner and seasoned practitioner. \nParticipants are encouraged to bring their own yoga mat. Props such as blocks\, blankets\, and straps will be provided but you are welcome to bring them from home.
URL:https://pdop.org/event/sunset-slow-flow-yoga-thursday-32/
CATEGORIES:Fitness Dropin
END:VEVENT
BEGIN:VEVENT
DTSTART;TZID=America/Chicago:20260416T184500
DTEND;TZID=America/Chicago:20260416T194500
DTSTAMP:20260422T072058
CREATED:20260219T060553Z
LAST-MODIFIED:20260219T060553Z
UID:2311339-1776365100-1776368700@pdop.org
SUMMARY:Core + Cardio Dance (Thursday)
DESCRIPTION:Ready to ditch the treadmill and have a blast while getting a full-body workout? This core and cardio dance fitness class combines infectious music with dynamic dance moves to sculpt your core\, boost your cardio\, and leave you feeling energized and empowered.
URL:https://pdop.org/event/core-cardio-dance-thursday-15/
END:VEVENT
BEGIN:VEVENT
DTSTART;TZID=America/Chicago:20260416T184500
DTEND;TZID=America/Chicago:20260416T194500
DTSTAMP:20260422T072058
CREATED:20260420T061846Z
LAST-MODIFIED:20260420T061846Z
UID:2363740-1776365100-1776368700@pdop.org
SUMMARY:Dance Fit (Thursday)
DESCRIPTION:Ready to ditch the treadmill and have a blast while getting a full-body workout? This cardio dance fitness class combines infectious music with dynamic dance moves to sculpt your core\, boost your cardio\, and leave you feeling energized and empowered.
URL:https://pdop.org/event/dance-fit-thursday-15/
CATEGORIES:Fitness Dropin
END:VEVENT
BEGIN:VEVENT
DTSTART;TZID=America/Chicago:20260417T090000
DTEND;TZID=America/Chicago:20260417T100000
DTSTAMP:20260422T072058
CREATED:20260219T060553Z
LAST-MODIFIED:20260219T060553Z
UID:2311340-1776416400-1776420000@pdop.org
SUMMARY:Nia (Friday)
DESCRIPTION:This unique fitness class blends dance\, martial arts\, and healing to achieve your fitness goals and express yourself through movement and sensation. Come experience Nia in this barefoot\, aerobic\, movement based class. Appropriate for all fitness levels; no dance experience necessary.
URL:https://pdop.org/event/nia-friday-16/
END:VEVENT
BEGIN:VEVENT
DTSTART;TZID=America/Chicago:20260417T090000
DTEND;TZID=America/Chicago:20260417T100000
DTSTAMP:20260422T072058
CREATED:20260219T060553Z
LAST-MODIFIED:20260219T060553Z
UID:2311341-1776416400-1776420000@pdop.org
SUMMARY:BODYPUMP (Friday)
DESCRIPTION: LesMills BODYPUMP(TM) is the original barbell class that strengthens your entire body. This workout challenges all your major muscle groups by using the best weight room exercises\, like squats\, presses\, lifts and curls. Great music\, awesome instructors and your choice of weight inspires you to get the results you came for and fast!
URL:https://pdop.org/event/bodypump-friday-16/
END:VEVENT
BEGIN:VEVENT
DTSTART;TZID=America/Chicago:20260417T090000
DTEND;TZID=America/Chicago:20260417T100000
DTSTAMP:20260422T072058
CREATED:20260420T061846Z
LAST-MODIFIED:20260420T061846Z
UID:2363741-1776416400-1776420000@pdop.org
SUMMARY:BODYPUMP (Friday)
DESCRIPTION: LesMills BODYPUMP(TM) is the original barbell class that strengthens your entire body. This workout challenges all your major muscle groups by using the best weight room exercises\, like squats\, presses\, lifts and curls. Great music\, awesome instructors and your choice of weight inspires you to get the results you came for and fast!
URL:https://pdop.org/event/bodypump-friday-42/
CATEGORIES:Fitness Dropin
END:VEVENT
BEGIN:VEVENT
DTSTART;TZID=America/Chicago:20260417T090000
DTEND;TZID=America/Chicago:20260417T100000
DTSTAMP:20260422T072058
CREATED:20260420T061846Z
LAST-MODIFIED:20260420T061846Z
UID:2363742-1776416400-1776420000@pdop.org
SUMMARY:Nia (Friday)
DESCRIPTION:This unique fitness class blends dance\, martial arts\, and healing to achieve your fitness goals and express yourself through movement and sensation. Come experience Nia in this barefoot\, aerobic\, movement based class. Appropriate for all fitness levels; no dance experience necessary.
URL:https://pdop.org/event/nia-friday-41/
CATEGORIES:Fitness Dropin
END:VEVENT
BEGIN:VEVENT
DTSTART;TZID=America/Chicago:20260417T093000
DTEND;TZID=America/Chicago:20260417T101500
DTSTAMP:20260422T072058
CREATED:20260219T060553Z
LAST-MODIFIED:20260219T060553Z
UID:2311342-1776418200-1776420900@pdop.org
SUMMARY:Pilates (Friday)
DESCRIPTION:Experience a dynamic Pilates class designed to strengthen your core\, improve flexibility\, and enhance overall body awareness.
URL:https://pdop.org/event/pilates-friday-11/
END:VEVENT
BEGIN:VEVENT
DTSTART;TZID=America/Chicago:20260417T093000
DTEND;TZID=America/Chicago:20260417T101500
DTSTAMP:20260422T072058
CREATED:20260420T061847Z
LAST-MODIFIED:20260420T061847Z
UID:2363743-1776418200-1776420900@pdop.org
SUMMARY:Toddler Exploration Time -9:30A
DESCRIPTION:Young learners will be delighted with stories\, lessons\, and crafts led by our education volunteers. Each month is a different topic.  \nAges 18mos-5yrs\n• Mar: Pitter\, Patter\, Splash\n• Apr: Spring Fling\n• May: Busy Bees
URL:https://pdop.org/event/toddler-exploration-time-930a/
END:VEVENT
BEGIN:VEVENT
DTSTART;TZID=America/Chicago:20260417T103000
DTEND;TZID=America/Chicago:20260417T111500
DTSTAMP:20260422T072058
CREATED:20260420T061847Z
LAST-MODIFIED:20260420T061847Z
UID:2363744-1776421800-1776424500@pdop.org
SUMMARY:Toddler Exploration Time -10:30A
DESCRIPTION:Young learners will be delighted with stories\, lessons\, and crafts led by our education volunteers. Each month is a different topic.  \nAges 18mos-5yrs\n• Mar: Pitter\, Patter\, Splash\n• Apr: Spring Fling\n• May: Busy Bees
URL:https://pdop.org/event/toddler-exploration-time-1030a/
END:VEVENT
BEGIN:VEVENT
DTSTART;TZID=America/Chicago:20260417T113000
DTEND;TZID=America/Chicago:20260417T130000
DTSTAMP:20260422T072058
CREATED:20260420T061847Z
LAST-MODIFIED:20260420T061847Z
UID:2363745-1776425400-1776430800@pdop.org
SUMMARY:Noon Skate
DESCRIPTION:Noon Skate:$12 SKATES INCLUDED! \nMondays\, Wednesdays and Fridays ONLY! \nPre-Registration and Walk-Ins accepted. \nRink Membership are available under the "Membership/Passes" tab.
URL:https://pdop.org/event/noon-skate-56/
END:VEVENT
BEGIN:VEVENT
DTSTART;TZID=America/Chicago:20260417T130000
DTEND;TZID=America/Chicago:20260417T143000
DTSTAMP:20260422T072058
CREATED:20260420T061847Z
LAST-MODIFIED:20260420T061847Z
UID:2363746-1776430800-1776436200@pdop.org
SUMMARY:Preschool Playtime (ages 1-6)
DESCRIPTION:$8 per visit\, or buy a prepaid 10-visit pass for $70. \nA favorite with all our preschoolers\, this is an open gym for children 1-6 years old. All children must be accompanied and supervised by an adult at all times. \nDrop-ins will not accepted after max registrations have been reached\, even if other participants leave. Registration opens 7 days before each Playtime\, and you have up to 24 hours before each Playtime to cancel your pre-registration.
URL:https://pdop.org/event/preschool-playtime-ages-1-6-69/
END:VEVENT
BEGIN:VEVENT
DTSTART;TZID=America/Chicago:20260417T173000
DTEND;TZID=America/Chicago:20260417T183000
DTSTAMP:20260422T072058
CREATED:20260219T060553Z
LAST-MODIFIED:20260219T060553Z
UID:2311343-1776447000-1776450600@pdop.org
SUMMARY:Power Vinyasa (Friday)
DESCRIPTION:Improve your flexibility\, strength\, balance\, and mental stillness with this challenging yet accessible yoga class. Explore breath to movement and learn more about your personal yoga practice.
URL:https://pdop.org/event/power-vinyasa-friday-16/
END:VEVENT
BEGIN:VEVENT
DTSTART;TZID=America/Chicago:20260417T173000
DTEND;TZID=America/Chicago:20260417T183000
DTSTAMP:20260422T072058
CREATED:20260420T061847Z
LAST-MODIFIED:20260420T061847Z
UID:2363747-1776447000-1776450600@pdop.org
SUMMARY:Power Vinyasa (Friday)
DESCRIPTION:Improve your flexibility\, strength\, balance\, and mental stillness with this challenging yet accessible yoga class. Explore breath to movement and learn more about your personal yoga practice.
URL:https://pdop.org/event/power-vinyasa-friday-41/
CATEGORIES:Fitness Dropin
END:VEVENT
BEGIN:VEVENT
DTSTART;TZID=America/Chicago:20260417T180000
DTEND;TZID=America/Chicago:20260417T200000
DTSTAMP:20260422T072058
CREATED:20260420T061848Z
LAST-MODIFIED:20260420T061848Z
UID:2363748-1776448800-1776456000@pdop.org
SUMMARY:NIA Dance Party on 4/17
DESCRIPTION:After a long work week\, can't we all use some time to let loose and have fun?  If this sounds like you\, come join us for a Friday night full of free dance and some easy to follow choreography.  You can even submit a song for us to consider for the evening's playlist – even better if it's a song that just makes you want to get up and groove! \n  \n6:00 – 6:30P Mix and Mingle; 6:30 – 7:30P Dancing; 7:30 – 8P Closing Chat
URL:https://pdop.org/event/nia-dance-party-on-4-17/
CATEGORIES:Fitness Dropin
END:VEVENT
BEGIN:VEVENT
DTSTART;TZID=America/Chicago:20260417T183000
DTEND;TZID=America/Chicago:20260417T201500
DTSTAMP:20260422T072058
CREATED:20260420T061848Z
LAST-MODIFIED:20260420T061848Z
UID:2363749-1776450600-1776456900@pdop.org
SUMMARY:Public Skate
DESCRIPTION:Public Skate:$12 SKATES INCLUDED \nPre-Registration and Walk-Ins accepted. \nRink Membership are available under the "Membership/Passes"  tab.
URL:https://pdop.org/event/public-skate-28/
END:VEVENT
BEGIN:VEVENT
DTSTART;TZID=America/Chicago:20260418T071500
DTEND;TZID=America/Chicago:20260418T081500
DTSTAMP:20260422T072058
CREATED:20260219T060553Z
LAST-MODIFIED:20260219T060553Z
UID:2311344-1776496500-1776500100@pdop.org
SUMMARY:BODYPUMP (Saturday)
DESCRIPTION: LesMills BODYPUMP(TM) is the original barbell class that strengthens your entire body. This workout challenges all your major muscle groups by using the best weight room exercises\, like squats\, presses\, lifts and curls. Great music\, awesome instructors and your choice of weight inspires you to get the results you came for and fast! \n 
URL:https://pdop.org/event/bodypump-saturday-16/
END:VEVENT
BEGIN:VEVENT
DTSTART;TZID=America/Chicago:20260418T071500
DTEND;TZID=America/Chicago:20260418T081500
DTSTAMP:20260422T072058
CREATED:20260420T061848Z
LAST-MODIFIED:20260420T061848Z
UID:2363750-1776496500-1776500100@pdop.org
SUMMARY:BODYPUMP (Saturday)
DESCRIPTION: LesMills BODYPUMP(TM) is the original barbell class that strengthens your entire body. This workout challenges all your major muscle groups by using the best weight room exercises\, like squats\, presses\, lifts and curls. Great music\, awesome instructors and your choice of weight inspires you to get the results you came for and fast! \n 
URL:https://pdop.org/event/bodypump-saturday-40/
CATEGORIES:Fitness Dropin
END:VEVENT
BEGIN:VEVENT
DTSTART;TZID=America/Chicago:20260418T080000
DTEND;TZID=America/Chicago:20260418T084500
DTSTAMP:20260422T072058
CREATED:20260219T060554Z
LAST-MODIFIED:20260219T060554Z
UID:2311345-1776499200-1776501900@pdop.org
SUMMARY:BOOTCAMP: Strength Training (Saturday)
DESCRIPTION:This strength training class will help to sculpt your physique\, build muscle\, and enhance overall strength through dynamic workouts that combine resistance training\, functional movements\, and high-intensity exercises in a motivating group setting!
URL:https://pdop.org/event/bootcamp-strength-training-saturday-14/
END:VEVENT
BEGIN:VEVENT
DTSTART;TZID=America/Chicago:20260418T080000
DTEND;TZID=America/Chicago:20260418T163000
DTSTAMP:20260422T072058
CREATED:20260420T061848Z
LAST-MODIFIED:20260420T061848Z
UID:2363751-1776499200-1776529800@pdop.org
SUMMARY:Matthiessen State Park Hiking Trip - 4/18/26
DESCRIPTION:We’re spending our springtime days with adventure on the brain! Join us for a trip to Matthiessen State Park for a day of hiking and picnicking.\nTransportation provided. Meet at Fox Center.\n  \nHikers under the age of 18 must be accompanied by a registered adult.
URL:https://pdop.org/event/matthiessen-state-park-hiking-trip-4-18-26/
CATEGORIES:Family Programs,Nature Programs,Youth Special Interest
END:VEVENT
BEGIN:VEVENT
DTSTART;TZID=America/Chicago:20260418T083000
DTEND;TZID=America/Chicago:20260418T093000
DTSTAMP:20260422T072058
CREATED:20260219T060554Z
LAST-MODIFIED:20260219T060554Z
UID:2311346-1776501000-1776504600@pdop.org
SUMMARY:Cycle (Saturday)
DESCRIPTION:There's something for everyone in these classes: Intervals\, rolling hills\, sprints\, climbs\, runs\, surges and jumps all to music hand-picked to motivate and inspire! This is a great workout if you want to burn calories and increase endurance. Come on in for the ride!
URL:https://pdop.org/event/cycle-saturday-15/
END:VEVENT
BEGIN:VEVENT
DTSTART;TZID=America/Chicago:20260418T083000
DTEND;TZID=America/Chicago:20260418T093000
DTSTAMP:20260422T072058
CREATED:20260420T061848Z
LAST-MODIFIED:20260420T061848Z
UID:2363752-1776501000-1776504600@pdop.org
SUMMARY:Cycle (Saturday)
DESCRIPTION:There's something for everyone in these classes: Intervals\, rolling hills\, sprints\, climbs\, runs\, surges and jumps all to music hand-picked to motivate and inspire! This is a great workout if you want to burn calories and increase endurance. Come on in for the ride!
URL:https://pdop.org/event/cycle-saturday-37/
CATEGORIES:Fitness Dropin
END:VEVENT
BEGIN:VEVENT
DTSTART;TZID=America/Chicago:20260418T093000
DTEND;TZID=America/Chicago:20260418T100000
DTSTAMP:20260422T072058
CREATED:20260219T060554Z
LAST-MODIFIED:20260219T060554Z
UID:2311347-1776504600-1776506400@pdop.org
SUMMARY:Foam Rolling (Saturday)
DESCRIPTION:Using tools such as a lacrosse ball and a foam roller\, this class focuses on self massage techniques that relieve muscle tension and increase range of motion. Self myofascial release corrects postural imbalances and improves neck\, shoulder\, back\, and knee pain. Learn and practice techniques that is popular among athletes–from gymnasts to basketball players–to decrease post-exercise recovery time\, enhance performance\, and prevent injury. You'll also learn new core exercises to help stabilize your body during everyday movements. 
URL:https://pdop.org/event/foam-rolling-saturday-15/
END:VEVENT
BEGIN:VEVENT
DTSTART;TZID=America/Chicago:20260418T093000
DTEND;TZID=America/Chicago:20260418T100000
DTSTAMP:20260422T072058
CREATED:20260420T061849Z
LAST-MODIFIED:20260420T061849Z
UID:2363754-1776504600-1776506400@pdop.org
SUMMARY:Foam Rolling (Saturday)
DESCRIPTION:Using tools such as a lacrosse ball and a foam roller\, this class focuses on self massage techniques that relieve muscle tension and increase range of motion. Self myofascial release corrects postural imbalances and improves neck\, shoulder\, back\, and knee pain. Learn and practice techniques that is popular among athletes–from gymnasts to basketball players–to decrease post-exercise recovery time\, enhance performance\, and prevent injury. You'll also learn new core exercises to help stabilize your body during everyday movements. 
URL:https://pdop.org/event/foam-rolling-saturday-37/
CATEGORIES:Fitness Dropin
END:VEVENT
BEGIN:VEVENT
DTSTART;TZID=America/Chicago:20260418T093000
DTEND;TZID=America/Chicago:20260418T150000
DTSTAMP:20260422T072058
CREATED:20260420T061848Z
LAST-MODIFIED:20260420T061848Z
UID:2363753-1776504600-1776524400@pdop.org
SUMMARY:Safe Sitter: 4/18
DESCRIPTION:Safe Sitter prepares teens for any situation they may encounter while babysitting\, staying home alone\, or supervising younger siblings. Through the updated curriculum\, our certified instructors will help students develop their skills in safety\, childcare\, first aid\, and business through engaging activities. Safe Sitter lessons will also show students how to manage behavioral issues and emergency situations! Participants will go home with a helpful handbook and a certification card. \n  \nA pizza lunch will be provided. 
URL:https://pdop.org/event/safe-sitter-4-18/
CATEGORIES:Teen Programs
END:VEVENT
END:VCALENDAR