BEGIN:VCALENDAR
VERSION:2.0
PRODID:-//Park District of Oak Park - ECPv5.14.1//NONSGML v1.0//EN
CALSCALE:GREGORIAN
METHOD:PUBLISH
X-WR-CALNAME:Park District of Oak Park
X-ORIGINAL-URL:https://pdop.org
X-WR-CALDESC:Events for Park District of Oak Park
REFRESH-INTERVAL;VALUE=DURATION:PT1H
X-Robots-Tag:noindex
X-PUBLISHED-TTL:PT1H
BEGIN:VTIMEZONE
TZID:America/Chicago
BEGIN:DAYLIGHT
TZOFFSETFROM:-0600
TZOFFSETTO:-0500
TZNAME:CDT
DTSTART:20260308T080000
END:DAYLIGHT
BEGIN:STANDARD
TZOFFSETFROM:-0500
TZOFFSETTO:-0600
TZNAME:CST
DTSTART:20261101T070000
END:STANDARD
END:VTIMEZONE
BEGIN:VEVENT
DTSTART;TZID=America/Chicago:20260818T130000
DTEND;TZID=America/Chicago:20260818T134500
DTSTAMP:20260422T124717
CREATED:20260420T063753Z
LAST-MODIFIED:20260420T063753Z
UID:2365076-1787058000-1787060700@pdop.org
SUMMARY:Body Sculpt (Tuesday)
DESCRIPTION:Start your morning with light strength and cardio workout. Steps\, dumbbells\, and a mat are used to develop your muscle strength for your upper body\, lower body and core. As you activate your major muscle groups and increase balance\, you will feel strong and refreshed in this motivating group setting. See you at the class!
URL:https://pdop.org/event/body-sculpt-tuesday-56/
CATEGORIES:Fitness Dropin
END:VEVENT
BEGIN:VEVENT
DTSTART;TZID=America/Chicago:20260818T120000
DTEND;TZID=America/Chicago:20260818T130000
DTSTAMP:20260422T124717
CREATED:20260420T063751Z
LAST-MODIFIED:20260420T063751Z
UID:2365075-1787054400-1787058000@pdop.org
SUMMARY:YouTube Channel Starter Kit: Launch in 60 Minutes
DESCRIPTION:Join our fun and engaging beginner class to learn how to create and launch your very own YouTube channel! Discover how to share your hobbies\, advice\, tutorials\, talents\, and more with the world on the largest media platform. We’ll guide you through a step-by-step process\, ensuring you have all the tools and knowledge to get started today. Dive in and start building your YouTube presence today!
URL:https://pdop.org/event/youtube-channel-starter-kit-launch-in-60-minutes-2/
END:VEVENT
BEGIN:VEVENT
DTSTART;TZID=America/Chicago:20260818T120000
DTEND;TZID=America/Chicago:20260818T124500
DTSTAMP:20260422T124717
CREATED:20260420T063750Z
LAST-MODIFIED:20260420T063750Z
UID:2365074-1787054400-1787057100@pdop.org
SUMMARY:Pilates (Tuesday)
DESCRIPTION:Experience a dynamic Pilates class designed to strengthen your core\, improve flexibility\, and enhance overall body awareness.
URL:https://pdop.org/event/pilates-tuesday-98/
CATEGORIES:Fitness Dropin
END:VEVENT
BEGIN:VEVENT
DTSTART;TZID=America/Chicago:20260818T090000
DTEND;TZID=America/Chicago:20260818T100000
DTSTAMP:20260422T124717
CREATED:20260420T063748Z
LAST-MODIFIED:20260420T063748Z
UID:2365073-1787043600-1787047200@pdop.org
SUMMARY:Nia (Tuesday)
DESCRIPTION:This unique fitness class blends dance\, martial arts\, and healing to achieve your fitness goals and express yourself through movement and sensation. Come experience Nia in this barefoot\, aerobic\, movement based class. Appropriate for all fitness levels; no dance experience necessary.
URL:https://pdop.org/event/nia-tuesday-57/
CATEGORIES:Fitness Dropin
END:VEVENT
BEGIN:VEVENT
DTSTART;TZID=America/Chicago:20260818T061500
DTEND;TZID=America/Chicago:20260818T071500
DTSTAMP:20260422T124717
CREATED:20260420T063747Z
LAST-MODIFIED:20260420T063747Z
UID:2365072-1787033700-1787037300@pdop.org
SUMMARY:BODYPUMP (Tuesday)
DESCRIPTION: LesMills BODYPUMP(TM) is the original barbell class that strengthens your entire body. This workout challenges all your major muscle groups by using the best weight room exercises\, like squats\, presses\, lifts and curls. Great music\, awesome instructors and your choice of weight inspires you to get the results you came for and fast! \n 
URL:https://pdop.org/event/bodypump-tuesday-54/
CATEGORIES:Fitness Dropin
END:VEVENT
BEGIN:VEVENT
DTSTART;TZID=America/Chicago:20260817T190000
DTEND;TZID=America/Chicago:20260817T200000
DTSTAMP:20260422T124717
CREATED:20260420T063745Z
LAST-MODIFIED:20260420T063745Z
UID:2365070-1786993200-1786996800@pdop.org
SUMMARY:Power Vinyasa (Monday)
DESCRIPTION:Improve your flexibility\, strength\, balance\, and mental stillness with this challenging yet accessible yoga class. Explore breath to movement and learn more about your personal yoga practice.
URL:https://pdop.org/event/power-vinyasa-monday-53/
CATEGORIES:Fitness Dropin
END:VEVENT
BEGIN:VEVENT
DTSTART;TZID=America/Chicago:20260817T190000
DTEND;TZID=America/Chicago:20260817T194500
DTSTAMP:20260422T124717
CREATED:20260420T063746Z
LAST-MODIFIED:20260420T063746Z
UID:2365071-1786993200-1786995900@pdop.org
SUMMARY:PowerStrength (Monday)
DESCRIPTION:  \nProgressive strength training\, this 45-minute class focuses on building muscle\, improving technique and growing confidence while lifting weights in a slower tempo to generate hypertrophy.
URL:https://pdop.org/event/powerstrength-monday-40/
CATEGORIES:Fitness Dropin
END:VEVENT
BEGIN:VEVENT
DTSTART;TZID=America/Chicago:20260817T180000
DTEND;TZID=America/Chicago:20260817T200000
DTSTAMP:20260422T124717
CREATED:20260420T063742Z
LAST-MODIFIED:20260420T063742Z
UID:2365068-1786989600-1786996800@pdop.org
SUMMARY:Resin Pendants August 17
DESCRIPTION:Have fun making mini collages inside a jewelry-sized blank metal frame.  \nWe will then seal and make the pieces permanent with UV resin over the top.  \nStudents are welcome to bring stuff for their collages\, or we have a variety of materials available in class. 
URL:https://pdop.org/event/resin-pendants-august-17/
CATEGORIES:Arts & Crafts
END:VEVENT
BEGIN:VEVENT
DTSTART;TZID=America/Chicago:20260817T180000
DTEND;TZID=America/Chicago:20260817T190000
DTSTAMP:20260422T124717
CREATED:20260420T063743Z
LAST-MODIFIED:20260420T063743Z
UID:2365069-1786989600-1786993200@pdop.org
SUMMARY:BODYPUMP (Monday)
DESCRIPTION: LesMills BODYPUMP(TM) is the original barbell class that strengthens your entire body. This workout challenges all your major muscle groups by using the best weight room exercises\, like squats\, presses\, lifts and curls. Great music\, awesome instructors and your choice of weight inspires you to get the results you came for and fast!
URL:https://pdop.org/event/bodypump-monday-12/
CATEGORIES:Fitness Dropin
END:VEVENT
BEGIN:VEVENT
DTSTART;TZID=America/Chicago:20260817T174500
DTEND;TZID=America/Chicago:20260817T184500
DTSTAMP:20260422T124717
CREATED:20260420T063741Z
LAST-MODIFIED:20260420T063741Z
UID:2365067-1786988700-1786992300@pdop.org
SUMMARY:Zumba (Monday)
DESCRIPTION:Zumba fitness is like no other workout you will ever experience! It combines Latin rhythms and easy-to-follow dance moves to create a one-of-a-kind fitness program. You will fall in love with the infectious music and body-beautifying benefits.
URL:https://pdop.org/event/zumba-monday-55/
CATEGORIES:Fitness Dropin
END:VEVENT
BEGIN:VEVENT
DTSTART;TZID=America/Chicago:20260817T090000
DTEND;TZID=America/Chicago:20260817T100000
DTSTAMP:20260422T124717
CREATED:20260420T063739Z
LAST-MODIFIED:20260420T063739Z
UID:2365066-1786957200-1786960800@pdop.org
SUMMARY:Nia (Monday)
DESCRIPTION:This unique fitness class blends dance\, martial arts\, and healing to achieve your fitness goals and express yourself through movement and sensation. Come experience Nia in this barefoot\, aerobic\, movement based class. Appropriate for all fitness levels; no dance experience necessary.
URL:https://pdop.org/event/nia-monday-55/
CATEGORIES:Fitness Dropin
END:VEVENT
BEGIN:VEVENT
DTSTART;TZID=America/Chicago:20260817T090000
DTEND;TZID=America/Chicago:20260817T100000
DTSTAMP:20260422T124717
CREATED:20260420T063737Z
LAST-MODIFIED:20260420T063737Z
UID:2365065-1786957200-1786960800@pdop.org
SUMMARY:Express BODYPUMP (Monday)
DESCRIPTION:LesMills BODYPUMP (TM) is the original barbell class that strengthens your entire body. This 45-minute workout challenges all your major muscle groups by using the best weight room exercises\, like squats\, presses\, lifts\, and curls.
URL:https://pdop.org/event/express-bodypump-monday-110/
CATEGORIES:Fitness Dropin
END:VEVENT
BEGIN:VEVENT
DTSTART;TZID=America/Chicago:20260817T060000
DTEND;TZID=America/Chicago:20260817T064500
DTSTAMP:20260422T124717
CREATED:20260420T063736Z
LAST-MODIFIED:20260420T063736Z
UID:2365064-1786946400-1786949100@pdop.org
SUMMARY:Express BODYPUMP (Monday)
DESCRIPTION:LesMills BODYPUMP (TM) is the original barbell class that strengthens your entire body. This 45-minute workout challenges all your major muscle groups by using the best weight room exercises\, like squats\, presses\, lifts\, and curls.
URL:https://pdop.org/event/express-bodypump-monday-109/
CATEGORIES:Fitness Dropin
END:VEVENT
BEGIN:VEVENT
DTSTART;TZID=America/Chicago:20260816T150000
DTEND;TZID=America/Chicago:20260816T163000
DTSTAMP:20260422T124717
CREATED:20260420T063734Z
LAST-MODIFIED:20260420T063734Z
UID:2365062-1786892400-1786897800@pdop.org
SUMMARY:All Ages Stick & Puck
DESCRIPTION:All players must pre-register at least 1 hour prior to the session. \nGear Requirements 18 & Up: Helmet\, elbow pads\, gloves\, shin pads\, hockey skates \nGear Requirements 17 & Under: Full gear – helmet w/ full face shield\, chest pad\, elbow pads\, hockey gloves\, hockey pants\, shin pads\, skates \nStick & Puck is for open hockey and skill practice only. \nScrimmages of any sort are strictly prohibited.  \nCoaching and instruction of any sort is strictly prohibited during Skills & Drills sessions.
URL:https://pdop.org/event/all-ages-stick-puck-60/
END:VEVENT
BEGIN:VEVENT
DTSTART;TZID=America/Chicago:20260816T150000
DTEND;TZID=America/Chicago:20260816T163000
DTSTAMP:20260422T124717
CREATED:20260420T063734Z
LAST-MODIFIED:20260420T063734Z
UID:2365063-1786892400-1786897800@pdop.org
SUMMARY:Ceramics Open Studio 1.5 Hours
DESCRIPTION:Come on in to finish pieces you worked on in our other classes like Family Ceramics\, Youth Ceramics\, Beginners Ceramics\, Beginners' Wheel\, and Partner Ceramics
URL:https://pdop.org/event/ceramics-open-studio-1-5-hours-74/
CATEGORIES:Arts & Crafts
END:VEVENT
BEGIN:VEVENT
DTSTART;TZID=America/Chicago:20260816T130000
DTEND;TZID=America/Chicago:20260816T143000
DTSTAMP:20260422T124717
CREATED:20260420T063732Z
LAST-MODIFIED:20260420T063732Z
UID:2365061-1786885200-1786890600@pdop.org
SUMMARY:Ceramics Open Studio 1.5 Hours
DESCRIPTION:Come on in to finish pieces you worked on in our other classes like Family Ceramics\, Youth Ceramics\, Beginners Ceramics\, Beginners' Wheel\, and Partner Ceramics
URL:https://pdop.org/event/ceramics-open-studio-1-5-hours-73/
CATEGORIES:Arts & Crafts
END:VEVENT
BEGIN:VEVENT
DTSTART;TZID=America/Chicago:20260816T124500
DTEND;TZID=America/Chicago:20260816T144500
DTSTAMP:20260422T124717
CREATED:20260420T063730Z
LAST-MODIFIED:20260420T063730Z
UID:2365060-1786884300-1786891500@pdop.org
SUMMARY:Public Skate
DESCRIPTION:Public Skate:$12 SKATES INCLUDED \nPre-Registration and Walk-Ins accepted. \nRink Membership are available under the "Membership/Passes"  tab.
URL:https://pdop.org/event/public-skate-80/
END:VEVENT
BEGIN:VEVENT
DTSTART;TZID=America/Chicago:20260816T110000
DTEND;TZID=America/Chicago:20260816T123000
DTSTAMP:20260422T124717
CREATED:20260420T063727Z
LAST-MODIFIED:20260420T063727Z
UID:2365058-1786878000-1786883400@pdop.org
SUMMARY:A Fancy Nancy Tea -- Additional Guest
DESCRIPTION:Use this to register additional fancy guests for the Fancy Nancy Tea Party. Must have a pair registration as well. 
URL:https://pdop.org/event/a-fancy-nancy-tea-additional-guest/
CATEGORIES:Family Programs
END:VEVENT
BEGIN:VEVENT
DTSTART;TZID=America/Chicago:20260816T110000
DTEND;TZID=America/Chicago:20260816T123000
DTSTAMP:20260422T124717
CREATED:20260420T063724Z
LAST-MODIFIED:20260420T063724Z
UID:2365057-1786878000-1786883400@pdop.org
SUMMARY:A Fancy Nancy Tea -- Pair Registration
DESCRIPTION:We would be "ecstatic" to have you join us for our Fancy Nancy Tea Party! "That means being in a state of joy." Come dressed to impress in your favorite boa\, tutu\, fuzzy slippers\, or fairy wings. Learn French phrases\, take a fancy photo\, and enjoy tea and treats. Registration includes one adult and one child\, and only one person must register. All children must be accompanied by an adult.  All Ages  \n 
URL:https://pdop.org/event/a-fancy-nancy-tea-pair-registration/
CATEGORIES:Family Programs
END:VEVENT
BEGIN:VEVENT
DTSTART;TZID=America/Chicago:20260816T110000
DTEND;TZID=America/Chicago:20260816T120000
DTSTAMP:20260422T124717
CREATED:20260420T063728Z
LAST-MODIFIED:20260420T063728Z
UID:2365059-1786878000-1786881600@pdop.org
SUMMARY:Low Impact Full-Body Workout (Sunday)
DESCRIPTION:Join this class for a rejuvenating fitness experience that's gentle on your joints while effectively targeting every muscle group. This Low-Impact Full-Body Workout offers a satisfying blend of strength\, flexibility\, and cardio\, suitable for all fitness levels. Come and discover how gentle movements can still yield powerful results.
URL:https://pdop.org/event/low-impact-full-body-workout-sunday-45/
CATEGORIES:Fitness Dropin
END:VEVENT
BEGIN:VEVENT
DTSTART;TZID=America/Chicago:20260816T100000
DTEND;TZID=America/Chicago:20260816T120000
DTSTAMP:20260422T124717
CREATED:20260420T063719Z
LAST-MODIFIED:20260420T063719Z
UID:2365055-1786874400-1786881600@pdop.org
SUMMARY:Ceramics Open Studio 2 Hours
DESCRIPTION:Come on in to finish pieces you worked on in our other classes like Family Ceramics\, Youth Ceramics\, Beginners Ceramics\, Beginners' Wheel\, and Partner Ceramics
URL:https://pdop.org/event/ceramics-open-studio-2-hours-65/
CATEGORIES:Arts & Crafts
END:VEVENT
BEGIN:VEVENT
DTSTART;TZID=America/Chicago:20260816T100000
DTEND;TZID=America/Chicago:20260816T110000
DTSTAMP:20260422T124717
CREATED:20260420T063722Z
LAST-MODIFIED:20260420T063722Z
UID:2365056-1786874400-1786878000@pdop.org
SUMMARY:Yoga Barre (Sunday)
DESCRIPTION:This fusion class consists of Yoga and strength training. Exercises will focus on abs\, bottom and inner thigh to achieve long lean muscle tone and also to give that booty a pop! Class is done in bare feet\, socks with grips\, or ballet shoes. 
URL:https://pdop.org/event/yoga-barre-sunday-55/
CATEGORIES:Fitness Dropin
END:VEVENT
BEGIN:VEVENT
DTSTART;TZID=America/Chicago:20260816T094500
DTEND;TZID=America/Chicago:20260816T103000
DTSTAMP:20260422T124717
CREATED:20260420T063716Z
LAST-MODIFIED:20260420T063716Z
UID:2365054-1786873500-1786876200@pdop.org
SUMMARY:Cardio HIIT + Core (Sunday)
DESCRIPTION:HIIT or High intensity interval training is a fantastic workout for all bodies. This interval-based full-body strength and cardio training focused on short bursts of intense work. Moderate to high impact exercises focus on aerobic and anaerobic fitness for max results. Finish the class with core-based conditioning focused on abdomen and back strength and stretching.
URL:https://pdop.org/event/cardio-hiit-core-sunday-44/
CATEGORIES:Fitness Dropin
END:VEVENT
BEGIN:VEVENT
DTSTART;TZID=America/Chicago:20260816T090000
DTEND;TZID=America/Chicago:20260816T100000
DTSTAMP:20260422T124717
CREATED:20260420T063712Z
LAST-MODIFIED:20260420T063712Z
UID:2365053-1786870800-1786874400@pdop.org
SUMMARY:Nia (Saturday)
DESCRIPTION:This unique fitness class blends dance\, martial arts\, and healing to achieve your fitness goals and express yourself through movement and sensation. Come experience Nia in this barefoot\, aerobic\, movement based class. Appropriate for all fitness levels; no dance experience necessary.
URL:https://pdop.org/event/nia-saturday-11/
CATEGORIES:Fitness Dropin
END:VEVENT
BEGIN:VEVENT
DTSTART;TZID=America/Chicago:20260816T083000
DTEND;TZID=America/Chicago:20260816T093000
DTSTAMP:20260422T124717
CREATED:20260420T063708Z
LAST-MODIFIED:20260420T063708Z
UID:2365052-1786869000-1786872600@pdop.org
SUMMARY:Nia (Sunday)
DESCRIPTION:This unique fitness class blends dance\, martial arts\, and healing to achieve your fitness goals and express yourself through movement and sensation. Come experience Nia in this barefoot\, aerobic\, movement based class. Appropriate for all fitness levels; no dance experience necessary.
URL:https://pdop.org/event/nia-sunday-53/
CATEGORIES:Fitness Dropin
END:VEVENT
BEGIN:VEVENT
DTSTART;TZID=America/Chicago:20260815T183000
DTEND;TZID=America/Chicago:20260815T201500
DTSTAMP:20260422T124717
CREATED:20260420T063705Z
LAST-MODIFIED:20260420T063705Z
UID:2365051-1786818600-1786824900@pdop.org
SUMMARY:Public Skate
DESCRIPTION:Public Skate:$12 SKATES INCLUDED \nPre-Registration and Walk-Ins accepted. \nRink Membership are available under the "Membership/Passes"  tab.
URL:https://pdop.org/event/public-skate-79/
END:VEVENT
BEGIN:VEVENT
DTSTART;TZID=America/Chicago:20260815T144500
DTEND;TZID=America/Chicago:20260815T161500
DTSTAMP:20260422T124717
CREATED:20260420T063700Z
LAST-MODIFIED:20260420T063700Z
UID:2365050-1786805100-1786810500@pdop.org
SUMMARY:All Ages Stick & Puck
DESCRIPTION:All players must pre-register at least 1 hour prior to the session. \nGear Requirements 18 & Up: Helmet\, elbow pads\, gloves\, shin pads\, hockey skates \nGear Requirements 17 & Under: Full gear – helmet w/ full face shield\, chest pad\, elbow pads\, hockey gloves\, hockey pants\, shin pads\, skates \nStick & Puck is for open hockey and skill practice only. \nScrimmages of any sort are strictly prohibited.  \nCoaching and instruction of any sort is strictly prohibited during Skills & Drills sessions.
URL:https://pdop.org/event/all-ages-stick-puck-59/
END:VEVENT
BEGIN:VEVENT
DTSTART;TZID=America/Chicago:20260815T103000
DTEND;TZID=America/Chicago:20260815T111500
DTSTAMP:20260422T124717
CREATED:20260420T063656Z
LAST-MODIFIED:20260420T063656Z
UID:2365049-1786789800-1786792500@pdop.org
SUMMARY:Werq Dance Fitness (Saturday)
DESCRIPTION:Build cardiovascular endurance and strengthen your heart muscle while dancing to today's hottest Top 40 Pop\, Rock and Hip Hop Music! \nWERQ® is the fiercely fun dance fitness class based on pop\, rock\, and hip hop music taught by Certified Fitness Professionals.
URL:https://pdop.org/event/werq-dance-fitness-saturday-50/
CATEGORIES:Fitness Dropin
END:VEVENT
BEGIN:VEVENT
DTSTART;TZID=America/Chicago:20260815T100000
DTEND;TZID=America/Chicago:20260815T120000
DTSTAMP:20260422T124717
CREATED:20260420T063652Z
LAST-MODIFIED:20260420T063652Z
UID:2365048-1786788000-1786795200@pdop.org
SUMMARY:Pour Painting
DESCRIPTION:Those pour painting videos are totally addictive! Come make your very own\, and we’ll clean up the mess! 2 canvas boards per person can be used. We’ll also provide a large variety of colors and finishes to make your painting stand out.
URL:https://pdop.org/event/pour-painting-5/
CATEGORIES:Arts & Crafts
END:VEVENT
BEGIN:VEVENT
DTSTART;TZID=America/Chicago:20260815T100000
DTEND;TZID=America/Chicago:20260815T110000
DTSTAMP:20260422T124717
CREATED:20260420T063649Z
LAST-MODIFIED:20260420T063649Z
UID:2365047-1786788000-1786791600@pdop.org
SUMMARY:Beneficial Bug Hotel - 8/15/26
DESCRIPTION:A bug hotel is a structure filled with materials that different insects and spiders like to use as a habitat. These crawlies aren’t so creepy when they’re doing their part in the ecosystem! Join us in making places for our beneficial bugs to stay – that you can bring home! All materials provided.
URL:https://pdop.org/event/beneficial-bug-hotel-8-15-26/
CATEGORIES:Family Programs,Nature Programs,Youth Special Interest
END:VEVENT
END:VCALENDAR