BEGIN:VCALENDAR
VERSION:2.0
PRODID:-//Park District of Oak Park - ECPv5.14.1//NONSGML v1.0//EN
CALSCALE:GREGORIAN
METHOD:PUBLISH
X-WR-CALNAME:Park District of Oak Park
X-ORIGINAL-URL:https://pdop.org
X-WR-CALDESC:Events for Park District of Oak Park
REFRESH-INTERVAL;VALUE=DURATION:PT1H
X-Robots-Tag:noindex
X-PUBLISHED-TTL:PT1H
BEGIN:VTIMEZONE
TZID:America/Chicago
BEGIN:DAYLIGHT
TZOFFSETFROM:-0600
TZOFFSETTO:-0500
TZNAME:CDT
DTSTART:20260308T080000
END:DAYLIGHT
BEGIN:STANDARD
TZOFFSETFROM:-0500
TZOFFSETTO:-0600
TZNAME:CST
DTSTART:20261101T070000
END:STANDARD
END:VTIMEZONE
BEGIN:VEVENT
DTSTART;TZID=America/Chicago:20260506T060000
DTEND;TZID=America/Chicago:20260506T064500
DTSTAMP:20260422T225206
CREATED:20260420T061954Z
LAST-MODIFIED:20260420T061954Z
UID:2363952-1778047200-1778049900@pdop.org
SUMMARY:Express BODYPUMP (Wednesday)
DESCRIPTION:LesMills BODYPUMP (TM) is the original barbell class that strengthens your entire body. This 45-minute workout challenges all your major muscle groups by using the best weight room exercises\, like squats\, presses\, lifts\, and curls.
URL:https://pdop.org/event/express-bodypump-wednesday-42/
CATEGORIES:Fitness Dropin
END:VEVENT
BEGIN:VEVENT
DTSTART;TZID=America/Chicago:20260506T090000
DTEND;TZID=America/Chicago:20260506T100000
DTSTAMP:20260422T225206
CREATED:20260219T060615Z
LAST-MODIFIED:20260219T060615Z
UID:2311461-1778058000-1778061600@pdop.org
SUMMARY:BODYPUMP (Wednesday)
DESCRIPTION: LesMills BODYPUMP(TM) is the original barbell class that strengthens your entire body. This workout challenges all your major muscle groups by using the best weight room exercises\, like squats\, presses\, lifts and curls. Great music\, awesome instructors and your choice of weight inspires you to get the results you came for and fast!
URL:https://pdop.org/event/bodypump-wednesday-18/
END:VEVENT
BEGIN:VEVENT
DTSTART;TZID=America/Chicago:20260506T090000
DTEND;TZID=America/Chicago:20260506T100000
DTSTAMP:20260422T225206
CREATED:20260219T060615Z
LAST-MODIFIED:20260219T060615Z
UID:2311462-1778058000-1778061600@pdop.org
SUMMARY:*OUTDOOR* Beginning and Continuing Yoga (Wednesday)
DESCRIPTION:This class is a multi-level experience for both those new to yoga and those working to grow their practice. This class will help students understand the benefits of yoga: strength\, balance\, body awareness\, alignment and more. We will work toward improving range of motion\, coordination\, concentration and mind body spirit connection. We will also focus on elongating and stabilizing the muscles we use in daily living. This is a great way to connect with your body and other active individuals in our community.
URL:https://pdop.org/event/outdoor-beginning-and-continuing-yoga-wednesday/
END:VEVENT
BEGIN:VEVENT
DTSTART;TZID=America/Chicago:20260506T090000
DTEND;TZID=America/Chicago:20260506T100000
DTSTAMP:20260422T225206
CREATED:20260420T061954Z
LAST-MODIFIED:20260420T061954Z
UID:2363953-1778058000-1778061600@pdop.org
SUMMARY:BODYPUMP (Wednesday)
DESCRIPTION: LesMills BODYPUMP(TM) is the original barbell class that strengthens your entire body. This workout challenges all your major muscle groups by using the best weight room exercises\, like squats\, presses\, lifts and curls. Great music\, awesome instructors and your choice of weight inspires you to get the results you came for and fast!
URL:https://pdop.org/event/bodypump-wednesday-42/
CATEGORIES:Fitness Dropin
END:VEVENT
BEGIN:VEVENT
DTSTART;TZID=America/Chicago:20260506T090000
DTEND;TZID=America/Chicago:20260506T100000
DTSTAMP:20260422T225206
CREATED:20260420T061954Z
LAST-MODIFIED:20260420T061954Z
UID:2363954-1778058000-1778061600@pdop.org
SUMMARY:*OUTDOOR* Beginning and Continuing Yoga (Wednesday)
DESCRIPTION:This class is a multi-level experience for both those new to yoga and those working to grow their practice. This class will help students understand the benefits of yoga: strength\, balance\, body awareness\, alignment and more. We will work toward improving range of motion\, coordination\, concentration and mind body spirit connection. We will also focus on elongating and stabilizing the muscles we use in daily living. This is a great way to connect with your body and other active individuals in our community.
URL:https://pdop.org/event/outdoor-beginning-and-continuing-yoga-wednesday-8/
CATEGORIES:Fitness Dropin
END:VEVENT
BEGIN:VEVENT
DTSTART;TZID=America/Chicago:20260506T100000
DTEND;TZID=America/Chicago:20260506T103000
DTSTAMP:20260422T225206
CREATED:20260420T061955Z
LAST-MODIFIED:20260420T061955Z
UID:2363955-1778061600-1778063400@pdop.org
SUMMARY:Bilingual Story Time
DESCRIPTION:1st Wednesday of Each Month \n10:00-10:30A \nEnjoy a bilingual (English and Spanish) story time\, songs\, and finger puppet play led by our Friends of the Oak Park Conservatory volunteers. \nAges 18mos – 5yrs \n 
URL:https://pdop.org/event/bilingual-story-time-2/
END:VEVENT
BEGIN:VEVENT
DTSTART;TZID=America/Chicago:20260506T101500
DTEND;TZID=America/Chicago:20260506T114500
DTSTAMP:20260422T225206
CREATED:20260420T061955Z
LAST-MODIFIED:20260420T061955Z
UID:2363956-1778062500-1778067900@pdop.org
SUMMARY:Preschool Playtime (ages 1-6)
DESCRIPTION:$8 per visit\, or buy a prepaid 10-visit pass for $70. \nA favorite with all our preschoolers\, this is an open gym for children 1-6 years old. All children must be accompanied and supervised by an adult at all times. \nDrop-ins will not accepted after max registrations have been reached\, even if other participants leave. Registration opens 7 days before each Playtime\, and you have up to 24 hours before each Playtime to cancel your pre-registration.
URL:https://pdop.org/event/preschool-playtime-ages-1-6-82/
END:VEVENT
BEGIN:VEVENT
DTSTART;TZID=America/Chicago:20260506T113000
DTEND;TZID=America/Chicago:20260506T130000
DTSTAMP:20260422T225206
CREATED:20260420T061956Z
LAST-MODIFIED:20260420T061956Z
UID:2363957-1778067000-1778072400@pdop.org
SUMMARY:Noon Skate
DESCRIPTION:Noon Skate:$12 SKATES INCLUDED! \nMondays\, Wednesdays and Fridays ONLY! \nPre-Registration and Walk-Ins accepted. \nRink Membership are available under the "Membership/Passes" tab.
URL:https://pdop.org/event/noon-skate-69/
END:VEVENT
BEGIN:VEVENT
DTSTART;TZID=America/Chicago:20260506T120000
DTEND;TZID=America/Chicago:20260506T124500
DTSTAMP:20260422T225206
CREATED:20260219T060616Z
LAST-MODIFIED:20260219T060616Z
UID:2311463-1778068800-1778071500@pdop.org
SUMMARY:Pilates (Wednesday)
DESCRIPTION:Experience a dynamic Pilates class designed to strengthen your core\, improve flexibility\, and enhance overall body awareness.
URL:https://pdop.org/event/pilates-wednesday-18/
END:VEVENT
BEGIN:VEVENT
DTSTART;TZID=America/Chicago:20260506T120000
DTEND;TZID=America/Chicago:20260506T124500
DTSTAMP:20260422T225206
CREATED:20260420T061956Z
LAST-MODIFIED:20260420T061956Z
UID:2363958-1778068800-1778071500@pdop.org
SUMMARY:Pilates (Wednesday)
DESCRIPTION:Experience a dynamic Pilates class designed to strengthen your core\, improve flexibility\, and enhance overall body awareness.
URL:https://pdop.org/event/pilates-wednesday-42/
CATEGORIES:Fitness Dropin
END:VEVENT
BEGIN:VEVENT
DTSTART;TZID=America/Chicago:20260506T130000
DTEND;TZID=America/Chicago:20260506T134500
DTSTAMP:20260422T225206
CREATED:20260219T060616Z
LAST-MODIFIED:20260219T060616Z
UID:2311464-1778072400-1778075100@pdop.org
SUMMARY:Body Sculpt (Wednesday)
DESCRIPTION:Start your morning with light strength and cardio workout. Steps\, dumbbells\, and a mat are used to develop your muscle strength for your upper body\, lower body and core. As you activate your major muscle groups and increase balance\, you will feel strong and refreshed in this motivating group setting. See you at the class!
URL:https://pdop.org/event/body-sculpt-wednesday-18/
END:VEVENT
BEGIN:VEVENT
DTSTART;TZID=America/Chicago:20260506T130000
DTEND;TZID=America/Chicago:20260506T134500
DTSTAMP:20260422T225206
CREATED:20260420T061956Z
LAST-MODIFIED:20260420T061956Z
UID:2363959-1778072400-1778075100@pdop.org
SUMMARY:Body Sculpt (Wednesday)
DESCRIPTION:Start your morning with light strength and cardio workout. Steps\, dumbbells\, and a mat are used to develop your muscle strength for your upper body\, lower body and core. As you activate your major muscle groups and increase balance\, you will feel strong and refreshed in this motivating group setting. See you at the class!
URL:https://pdop.org/event/body-sculpt-wednesday-42/
CATEGORIES:Fitness Dropin
END:VEVENT
BEGIN:VEVENT
DTSTART;TZID=America/Chicago:20260506T150000
DTEND;TZID=America/Chicago:20260506T163000
DTSTAMP:20260422T225206
CREATED:20260420T061956Z
LAST-MODIFIED:20260420T061956Z
UID:2363960-1778079600-1778085000@pdop.org
SUMMARY:All Ages Stick & Puck
DESCRIPTION:All players must pre-register at least 1 hour prior to the session. \nGear Requirements 18 & Up: Helmet\, elbow pads\, gloves\, shin pads\, hockey skates \nGear Requirements 17 & Under: Full gear – helmet w/ full face shield\, chest pad\, elbow pads\, hockey gloves\, hockey pants\, shin pads\, skates \nStick & Puck is for open hockey and skill practice only. \nScrimmages of any sort are strictly prohibited.  \nCoaching and instruction of any sort is strictly prohibited during Skills & Drills sessions.
URL:https://pdop.org/event/all-ages-stick-puck-24/
END:VEVENT
BEGIN:VEVENT
DTSTART;TZID=America/Chicago:20260506T160000
DTEND;TZID=America/Chicago:20260506T180000
DTSTAMP:20260422T225206
CREATED:20260420T061957Z
LAST-MODIFIED:20260420T061957Z
UID:2363961-1778083200-1778090400@pdop.org
SUMMARY:Ceramics Open Studio 2 Hours
DESCRIPTION:Come on in to finish pieces you worked on in our other classes like Family Ceramics\, Youth Ceramics\, Beginners Ceramics\, Beginners' Wheel\, and Partner Ceramics
URL:https://pdop.org/event/ceramics-open-studio-2-hours-20/
CATEGORIES:Arts & Crafts
END:VEVENT
BEGIN:VEVENT
DTSTART;TZID=America/Chicago:20260506T173000
DTEND;TZID=America/Chicago:20260506T181500
DTSTAMP:20260422T225206
CREATED:20260219T060616Z
LAST-MODIFIED:20260219T060616Z
UID:2311465-1778088600-1778091300@pdop.org
SUMMARY:Core Strength (Wednesday)
DESCRIPTION:Designed to tighten and tone the abs\, glutes\, back\, obliques and “muscular slings” connecting the upper and lower body\, improve functional strength and assist in injury prevention.  This class will get you results where it counts the most. \nAll levels welcome.  Options are body weight\, fitness bands\, weight plates or dumbbells.    
URL:https://pdop.org/event/core-strength-wednesday-18/
END:VEVENT
BEGIN:VEVENT
DTSTART;TZID=America/Chicago:20260506T173000
DTEND;TZID=America/Chicago:20260506T181500
DTSTAMP:20260422T225206
CREATED:20260420T061957Z
LAST-MODIFIED:20260420T061957Z
UID:2363962-1778088600-1778091300@pdop.org
SUMMARY:Core Strength (Wednesday)
DESCRIPTION:Designed to tighten and tone the abs\, glutes\, back\, obliques and “muscular slings” connecting the upper and lower body\, improve functional strength and assist in injury prevention.  This class will get you results where it counts the most. \nAll levels welcome.  Options are body weight\, fitness bands\, weight plates or dumbbells.    
URL:https://pdop.org/event/core-strength-wednesday-42/
CATEGORIES:Fitness Dropin
END:VEVENT
BEGIN:VEVENT
DTSTART;TZID=America/Chicago:20260506T180000
DTEND;TZID=America/Chicago:20260506T200000
DTSTAMP:20260422T225206
CREATED:20260420T061957Z
LAST-MODIFIED:20260420T061957Z
UID:2363963-1778090400-1778097600@pdop.org
SUMMARY:Booked at the Park- Austin Gardens
DESCRIPTION:Join us for a relaxing\, community-centered partnership between the Park District of Oak Park and local bookstore\, The Book Loft. This free program invites residents to slow down\, unplug\, and enjoy the simple pleasure of reading outdoors\, spending two peaceful hours in one of the Park District’s beautiful green spaces. Bring a blanket\, a snack\, and settle in under the trees for quiet time surrounded by nature.
URL:https://pdop.org/event/booked-at-the-park-austin-gardens/
CATEGORIES:Youth Special Interest
END:VEVENT
BEGIN:VEVENT
DTSTART;TZID=America/Chicago:20260506T183000
DTEND;TZID=America/Chicago:20260506T193000
DTSTAMP:20260422T225206
CREATED:20260219T060616Z
LAST-MODIFIED:20260219T060616Z
UID:2311466-1778092200-1778095800@pdop.org
SUMMARY:Yoga Sculpt (Wednesday)
DESCRIPTION:This workout is great for all ages. It uses gentle and effective approach mobility\, flexibility\, strength\, and cardio. By using light weights\, blocks\, straps\, and other equipment the whole body will get a good workout. 
URL:https://pdop.org/event/yoga-sculpt-wednesday-17/
END:VEVENT
BEGIN:VEVENT
DTSTART;TZID=America/Chicago:20260506T183000
DTEND;TZID=America/Chicago:20260506T193000
DTSTAMP:20260422T225206
CREATED:20260420T061958Z
LAST-MODIFIED:20260420T061958Z
UID:2363964-1778092200-1778095800@pdop.org
SUMMARY:Adventures in STEAM - Spring 2026
DESCRIPTION:This exciting program brings together elements of science\, art\, and math in a hands-on\, action-packed environment! Join us to conduct experiments\, play games\, and unlock your creativity through building challenges and projects.
URL:https://pdop.org/event/adventures-in-steam-spring-2026-3/
CATEGORIES:Youth Special Interest,Nature Programs
END:VEVENT
BEGIN:VEVENT
DTSTART;TZID=America/Chicago:20260506T183000
DTEND;TZID=America/Chicago:20260506T193000
DTSTAMP:20260422T225206
CREATED:20260420T061958Z
LAST-MODIFIED:20260420T061958Z
UID:2363965-1778092200-1778095800@pdop.org
SUMMARY:Yoga Sculpt (Wednesday)
DESCRIPTION:This workout is great for all ages. It uses gentle and effective approach mobility\, flexibility\, strength\, and cardio. By using light weights\, blocks\, straps\, and other equipment the whole body will get a good workout. 
URL:https://pdop.org/event/yoga-sculpt-wednesday-40/
CATEGORIES:Fitness Dropin
END:VEVENT
BEGIN:VEVENT
DTSTART;TZID=America/Chicago:20260506T190000
DTEND;TZID=America/Chicago:20260506T200000
DTSTAMP:20260422T225206
CREATED:20260219T060616Z
LAST-MODIFIED:20260219T060616Z
UID:2311467-1778094000-1778097600@pdop.org
SUMMARY:Nia (Wednesday)
DESCRIPTION:This unique fitness class blends dance\, martial arts\, and healing to achieve your fitness goals and express yourself through movement and sensation. Come experience Nia in this barefoot\, aerobic\, movement based class. Appropriate for all fitness levels; no dance experience necessary.
URL:https://pdop.org/event/nia-wednesday-18/
END:VEVENT
BEGIN:VEVENT
DTSTART;TZID=America/Chicago:20260506T190000
DTEND;TZID=America/Chicago:20260506T200000
DTSTAMP:20260422T225206
CREATED:20260420T061958Z
LAST-MODIFIED:20260420T061958Z
UID:2363966-1778094000-1778097600@pdop.org
SUMMARY:Nia (Wednesday)
DESCRIPTION:This unique fitness class blends dance\, martial arts\, and healing to achieve your fitness goals and express yourself through movement and sensation. Come experience Nia in this barefoot\, aerobic\, movement based class. Appropriate for all fitness levels; no dance experience necessary.
URL:https://pdop.org/event/nia-wednesday-42/
CATEGORIES:Fitness Dropin
END:VEVENT
BEGIN:VEVENT
DTSTART;TZID=America/Chicago:20260507T061500
DTEND;TZID=America/Chicago:20260507T071500
DTSTAMP:20260422T225206
CREATED:20260219T060617Z
LAST-MODIFIED:20260219T060617Z
UID:2311468-1778134500-1778138100@pdop.org
SUMMARY:BODYPUMP (Thursday)
DESCRIPTION: LesMills BODYPUMP(TM) is the original barbell class that strengthens your entire body. This workout challenges all your major muscle groups by using the best weight room exercises\, like squats\, presses\, lifts and curls. Great music\, awesome instructors and your choice of weight inspires you to get the results you came for and fast! \n 
URL:https://pdop.org/event/bodypump-thursday-18/
END:VEVENT
BEGIN:VEVENT
DTSTART;TZID=America/Chicago:20260507T084500
DTEND;TZID=America/Chicago:20260507T100000
DTSTAMP:20260422T225206
CREATED:20260219T060617Z
LAST-MODIFIED:20260219T060617Z
UID:2311469-1778143500-1778148000@pdop.org
SUMMARY:Cycle + Foam Rolling (Thursday)
DESCRIPTION:Combine the heart pumping cardio from Cycle with exercises designed to strengthen your abs and low back and you have an exercise experience leaving you ready to conquer the day! This class is designed for all abilities\, especially those who need to work on stretching and/or strengthening your core muscles.
URL:https://pdop.org/event/cycle-foam-rolling-thursday-17/
END:VEVENT
BEGIN:VEVENT
DTSTART;TZID=America/Chicago:20260507T084500
DTEND;TZID=America/Chicago:20260507T100000
DTSTAMP:20260422T225206
CREATED:20260420T061959Z
LAST-MODIFIED:20260420T061959Z
UID:2363967-1778143500-1778148000@pdop.org
SUMMARY:Cycle + Foam Rolling (Thursday)
DESCRIPTION:Combine the heart pumping cardio from Cycle with exercises designed to strengthen your abs and low back and you have an exercise experience leaving you ready to conquer the day! This class is designed for all abilities\, especially those who need to work on stretching and/or strengthening your core muscles.
URL:https://pdop.org/event/cycle-foam-rolling-thursday-40/
CATEGORIES:Fitness Dropin
END:VEVENT
BEGIN:VEVENT
DTSTART;TZID=America/Chicago:20260507T090000
DTEND;TZID=America/Chicago:20260507T100000
DTSTAMP:20260422T225206
CREATED:20260219T060617Z
LAST-MODIFIED:20260219T060617Z
UID:2311470-1778144400-1778148000@pdop.org
SUMMARY:Nia (Thursday)
DESCRIPTION:This unique fitness class blends dance\, martial arts\, and healing to achieve your fitness goals and express yourself through movement and sensation. Come experience Nia in this barefoot\, aerobic\, movement based class. Appropriate for all fitness levels; no dance experience necessary.
URL:https://pdop.org/event/nia-thursday-18/
END:VEVENT
BEGIN:VEVENT
DTSTART;TZID=America/Chicago:20260507T090000
DTEND;TZID=America/Chicago:20260507T100000
DTSTAMP:20260422T225207
CREATED:20260420T061959Z
LAST-MODIFIED:20260420T061959Z
UID:2363968-1778144400-1778148000@pdop.org
SUMMARY:Nia (Thursday)
DESCRIPTION:This unique fitness class blends dance\, martial arts\, and healing to achieve your fitness goals and express yourself through movement and sensation. Come experience Nia in this barefoot\, aerobic\, movement based class. Appropriate for all fitness levels; no dance experience necessary.
URL:https://pdop.org/event/nia-thursday-42/
CATEGORIES:Fitness Dropin
END:VEVENT
BEGIN:VEVENT
DTSTART;TZID=America/Chicago:20260507T101500
DTEND;TZID=America/Chicago:20260507T114500
DTSTAMP:20260422T225207
CREATED:20260420T061959Z
LAST-MODIFIED:20260420T061959Z
UID:2363969-1778148900-1778154300@pdop.org
SUMMARY:Preschool Playtime (ages 1-6)
DESCRIPTION:$8 per visit\, or buy a prepaid 10-visit pass for $70. \nA favorite with all our preschoolers\, this is an open gym for children 1-6 years old. All children must be accompanied and supervised by an adult at all times. \nDrop-ins will not accepted after max registrations have been reached\, even if other participants leave. Registration opens 7 days before each Playtime\, and you have up to 24 hours before each Playtime to cancel your pre-registration.
URL:https://pdop.org/event/preschool-playtime-ages-1-6-83/
END:VEVENT
BEGIN:VEVENT
DTSTART;TZID=America/Chicago:20260507T113000
DTEND;TZID=America/Chicago:20260507T130000
DTSTAMP:20260422T225207
CREATED:20260420T062000Z
LAST-MODIFIED:20260420T062000Z
UID:2363970-1778153400-1778158800@pdop.org
SUMMARY:Noon Skate
DESCRIPTION:Noon Skate:$12 SKATES INCLUDED! \nMondays\, Wednesdays and Fridays ONLY! \nPre-Registration and Walk-Ins accepted. \nRink Membership are available under the "Membership/Passes" tab.
URL:https://pdop.org/event/noon-skate-70/
END:VEVENT
BEGIN:VEVENT
DTSTART;TZID=America/Chicago:20260507T120000
DTEND;TZID=America/Chicago:20260507T130000
DTSTAMP:20260422T225207
CREATED:20260420T062000Z
LAST-MODIFIED:20260420T062000Z
UID:2363972-1778155200-1778158800@pdop.org
SUMMARY:Canvas Power Hour: Advanced Tricks That Save You Time!
DESCRIPTION:Take your Canva skills to the next level with advanced techniques and hidden features that will streamline your design workflow. This one-hour workshop is perfect for users already familiar with Canva basics who want to discover time-saving shortcuts\, professional design hacks\, and tools that make creating stunning graphics effortless. Leave with insider tips that will transform how you approach design projects and cut your creation time in half.
URL:https://pdop.org/event/canvas-power-hour-advanced-tricks-that-save-you-time-2/
END:VEVENT
END:VCALENDAR