BEGIN:VCALENDAR
VERSION:2.0
PRODID:-//Park District of Oak Park - ECPv5.14.1//NONSGML v1.0//EN
CALSCALE:GREGORIAN
METHOD:PUBLISH
X-WR-CALNAME:Park District of Oak Park
X-ORIGINAL-URL:https://pdop.org
X-WR-CALDESC:Events for Park District of Oak Park
REFRESH-INTERVAL;VALUE=DURATION:PT1H
X-Robots-Tag:noindex
X-PUBLISHED-TTL:PT1H
BEGIN:VTIMEZONE
TZID:America/Chicago
BEGIN:DAYLIGHT
TZOFFSETFROM:-0600
TZOFFSETTO:-0500
TZNAME:CDT
DTSTART:20260308T080000
END:DAYLIGHT
BEGIN:STANDARD
TZOFFSETFROM:-0500
TZOFFSETTO:-0600
TZNAME:CST
DTSTART:20261101T070000
END:STANDARD
END:VTIMEZONE
BEGIN:VEVENT
DTSTART;TZID=America/Chicago:20260615T180000
DTEND;TZID=America/Chicago:20260615T190000
DTSTAMP:20260425T103812
CREATED:20260425T061057Z
LAST-MODIFIED:20260425T061057Z
UID:2370491-1781546400-1781550000@pdop.org
SUMMARY:Magic Academy! - Spring 2026
DESCRIPTION:Featuring the internationally recognized and award winning ‘Discover Magic’ curriculum\, professional magician Aaron Fasel will amaze you with new tricks and guide you in how to perform them yourself! Each week\, junior magicians will focus on one of the Eight Traits of a True Magician and leave class with a new prop and file folder for their magic dossier so they can perform at home.
URL:https://pdop.org/event/magic-academy-spring-2026/
CATEGORIES:Youth Special Interest,Nature Programs
END:VEVENT
BEGIN:VEVENT
DTSTART;TZID=America/Chicago:20260622T180000
DTEND;TZID=America/Chicago:20260622T190000
DTSTAMP:20260425T103812
CREATED:20260425T061116Z
LAST-MODIFIED:20260425T061116Z
UID:2370562-1782151200-1782154800@pdop.org
SUMMARY:Magic Academy! - Spring 2026
DESCRIPTION:Featuring the internationally recognized and award winning ‘Discover Magic’ curriculum\, professional magician Aaron Fasel will amaze you with new tricks and guide you in how to perform them yourself! Each week\, junior magicians will focus on one of the Eight Traits of a True Magician and leave class with a new prop and file folder for their magic dossier so they can perform at home.
URL:https://pdop.org/event/magic-academy-spring-2026-2/
CATEGORIES:Youth Special Interest,Nature Programs
END:VEVENT
BEGIN:VEVENT
DTSTART;TZID=America/Chicago:20260629T180000
DTEND;TZID=America/Chicago:20260629T190000
DTSTAMP:20260425T103812
CREATED:20260425T061135Z
LAST-MODIFIED:20260425T061135Z
UID:2370637-1782756000-1782759600@pdop.org
SUMMARY:Magic Academy! - Spring 2026
DESCRIPTION:Featuring the internationally recognized and award winning ‘Discover Magic’ curriculum\, professional magician Aaron Fasel will amaze you with new tricks and guide you in how to perform them yourself! Each week\, junior magicians will focus on one of the Eight Traits of a True Magician and leave class with a new prop and file folder for their magic dossier so they can perform at home.
URL:https://pdop.org/event/magic-academy-spring-2026-3/
CATEGORIES:Youth Special Interest,Nature Programs
END:VEVENT
END:VCALENDAR