BEGIN:VCALENDAR
VERSION:2.0
PRODID:-//Park District of Oak Park - ECPv5.14.1//NONSGML v1.0//EN
CALSCALE:GREGORIAN
METHOD:PUBLISH
X-WR-CALNAME:Park District of Oak Park
X-ORIGINAL-URL:https://pdop.org
X-WR-CALDESC:Events for Park District of Oak Park
REFRESH-INTERVAL;VALUE=DURATION:PT1H
X-Robots-Tag:noindex
X-PUBLISHED-TTL:PT1H
BEGIN:VTIMEZONE
TZID:America/Chicago
BEGIN:DAYLIGHT
TZOFFSETFROM:-0600
TZOFFSETTO:-0500
TZNAME:CDT
DTSTART:20260308T080000
END:DAYLIGHT
BEGIN:STANDARD
TZOFFSETFROM:-0500
TZOFFSETTO:-0600
TZNAME:CST
DTSTART:20261101T070000
END:STANDARD
END:VTIMEZONE
BEGIN:VEVENT
DTSTART;TZID=America/Chicago:20260820T084500
DTEND;TZID=America/Chicago:20260820T163000
DTSTAMP:20260425T153035
CREATED:20260425T061352Z
LAST-MODIFIED:20260425T061352Z
UID:2371201-1787215500-1787243400@pdop.org
SUMMARY:Horseback Riding at Forest View Farms - Teen Adventure Club 8/20/2026
DESCRIPTION:Saddle up\, Teen Adventure Club! We're spending the end of summer vacation on horseback! Join our friends at Forest View Farms for a equestrian adventure! No riding experience necessary. \nMeet at Fox Center. Closed-toed shoes are required for horseback riding\, and long pants are preferred – there is space to change into shorts once we're done riding. Please pack a water bottle\, a snack for the bus ride\, and a nut-free lunch.
URL:https://pdop.org/event/horseback-riding-at-forest-view-farms-teen-adventure-club-8-20-2026/
CATEGORIES:Teen Programs,Nature Programs
END:VEVENT
END:VCALENDAR