BEGIN:VCALENDAR
VERSION:2.0
PRODID:-//Park District of Oak Park - ECPv5.14.1//NONSGML v1.0//EN
CALSCALE:GREGORIAN
METHOD:PUBLISH
X-WR-CALNAME:Park District of Oak Park
X-ORIGINAL-URL:https://pdop.org
X-WR-CALDESC:Events for Park District of Oak Park
REFRESH-INTERVAL;VALUE=DURATION:PT1H
X-Robots-Tag:noindex
X-PUBLISHED-TTL:PT1H
BEGIN:VTIMEZONE
TZID:America/Chicago
BEGIN:DAYLIGHT
TZOFFSETFROM:-0600
TZOFFSETTO:-0500
TZNAME:CDT
DTSTART:20260308T080000
END:DAYLIGHT
BEGIN:STANDARD
TZOFFSETFROM:-0500
TZOFFSETTO:-0600
TZNAME:CST
DTSTART:20261101T070000
END:STANDARD
END:VTIMEZONE
BEGIN:VEVENT
DTSTART;TZID=America/Chicago:20260819T093000
DTEND;TZID=America/Chicago:20260819T160000
DTSTAMP:20260425T153112
CREATED:20260425T061350Z
LAST-MODIFIED:20260425T061350Z
UID:2371191-1787131800-1787155200@pdop.org
SUMMARY:Kayaking at the Forest Preserves - Teen Adventure Club 8/19/2026
DESCRIPTION:We’re taking some kayaks around the lake and enjoying a day out on the water at the Forest Preserves of DuPage County. After\, we’ll steady our sea legs by some hiking around the forest preserve. All ranges of ability are welcome\, from beginners to experienced boaters. \nTransportation\, boat rental\, and life jackets are provided. Please bring your own snack\, lunch\, and water bottle.
URL:https://pdop.org/event/kayaking-at-the-forest-preserves-teen-adventure-club-8-19-2026/
CATEGORIES:Teen Programs,Nature Programs
END:VEVENT
END:VCALENDAR