BEGIN:VCALENDAR
VERSION:2.0
PRODID:-//Park District of Oak Park - ECPv5.14.1//NONSGML v1.0//EN
CALSCALE:GREGORIAN
METHOD:PUBLISH
X-WR-CALNAME:Park District of Oak Park
X-ORIGINAL-URL:https://pdop.org
X-WR-CALDESC:Events for Park District of Oak Park
REFRESH-INTERVAL;VALUE=DURATION:PT1H
X-Robots-Tag:noindex
X-PUBLISHED-TTL:PT1H
BEGIN:VTIMEZONE
TZID:America/Chicago
BEGIN:DAYLIGHT
TZOFFSETFROM:-0600
TZOFFSETTO:-0500
TZNAME:CDT
DTSTART:20260308T080000
END:DAYLIGHT
BEGIN:STANDARD
TZOFFSETFROM:-0500
TZOFFSETTO:-0600
TZNAME:CST
DTSTART:20261101T070000
END:STANDARD
END:VTIMEZONE
BEGIN:VEVENT
DTSTART;TZID=America/Chicago:20260817T093000
DTEND;TZID=America/Chicago:20260817T160000
DTSTAMP:20260425T153040
CREATED:20260425T061345Z
LAST-MODIFIED:20260425T061345Z
UID:2371167-1786959000-1786982400@pdop.org
SUMMARY:Shoreline Hiking at Illinois Beach State Park - Teen Adventure Club 8/17/2026
DESCRIPTION:We’re spending our last days of summer with adventure on the brain! Join us for a trip to Illinois Beach State Park for a day of hiking and picnicking. Please note that\, while we may be spending time on the beach\, we will not be swimming – lifeguards are not present on the beaches and ripcurrents do occur on Lake Michigan. \nPlease bring your own snack\, lunch\, and water bottle.
URL:https://pdop.org/event/shoreline-hiking-at-illinois-beach-state-park-teen-adventure-club-8-17-2026/
CATEGORIES:Teen Programs,Nature Programs
END:VEVENT
END:VCALENDAR