BEGIN:VCALENDAR
VERSION:2.0
PRODID:-//Park District of Oak Park - ECPv5.14.1//NONSGML v1.0//EN
CALSCALE:GREGORIAN
METHOD:PUBLISH
X-WR-CALNAME:Park District of Oak Park
X-ORIGINAL-URL:https://pdop.org
X-WR-CALDESC:Events for Park District of Oak Park
REFRESH-INTERVAL;VALUE=DURATION:PT1H
X-Robots-Tag:noindex
X-PUBLISHED-TTL:PT1H
BEGIN:VTIMEZONE
TZID:America/Chicago
BEGIN:DAYLIGHT
TZOFFSETFROM:-0600
TZOFFSETTO:-0500
TZNAME:CDT
DTSTART:20260308T080000
END:DAYLIGHT
BEGIN:STANDARD
TZOFFSETFROM:-0500
TZOFFSETTO:-0600
TZNAME:CST
DTSTART:20261101T070000
END:STANDARD
END:VTIMEZONE
BEGIN:VEVENT
DTSTART;TZID=America/Chicago:20260510T100000
DTEND;TZID=America/Chicago:20260510T120000
DTSTAMP:20260422T131524
CREATED:20260420T062018Z
LAST-MODIFIED:20260420T062018Z
UID:2364006-1778407200-1778414400@pdop.org
SUMMARY:Ceramics Open Studio 2 Hours
DESCRIPTION:Come on in to finish pieces you worked on in our other classes like Family Ceramics\, Youth Ceramics\, Beginners Ceramics\, Beginners' Wheel\, and Partner Ceramics
URL:https://pdop.org/event/ceramics-open-studio-2-hours-22/
CATEGORIES:Arts & Crafts
END:VEVENT
BEGIN:VEVENT
DTSTART;TZID=America/Chicago:20260510T130000
DTEND;TZID=America/Chicago:20260510T143000
DTSTAMP:20260422T131524
CREATED:20260420T062019Z
LAST-MODIFIED:20260420T062019Z
UID:2364014-1778418000-1778423400@pdop.org
SUMMARY:Ceramics Open Studio 1.5 Hours
DESCRIPTION:Come on in to finish pieces you worked on in our other classes like Family Ceramics\, Youth Ceramics\, Beginners Ceramics\, Beginners' Wheel\, and Partner Ceramics
URL:https://pdop.org/event/ceramics-open-studio-1-5-hours-17/
CATEGORIES:Arts & Crafts
END:VEVENT
BEGIN:VEVENT
DTSTART;TZID=America/Chicago:20260510T130000
DTEND;TZID=America/Chicago:20260510T150000
DTSTAMP:20260422T131524
CREATED:20260420T062019Z
LAST-MODIFIED:20260420T062019Z
UID:2364013-1778418000-1778425200@pdop.org
SUMMARY:Family Portraits
DESCRIPTION:Celebrate the people you love most through art! In this fun and relaxed class\, participants will learn how to draw and paint expressive family portraits using a variety of materials such as pencil\, ink\, and watercolor. Our instructor will guide you step-by-step through proportion\, expression\, and composition to help capture the unique personalities that make your family special. Perfect for beginners or anyone looking to create a heartfelt keepsake.
URL:https://pdop.org/event/family-portraits/
CATEGORIES:Arts & Crafts
END:VEVENT
BEGIN:VEVENT
DTSTART;TZID=America/Chicago:20260510T150000
DTEND;TZID=America/Chicago:20260510T163000
DTSTAMP:20260422T131524
CREATED:20260420T062019Z
LAST-MODIFIED:20260420T062019Z
UID:2364015-1778425200-1778430600@pdop.org
SUMMARY:Ceramics Open Studio 1.5 Hours
DESCRIPTION:Come on in to finish pieces you worked on in our other classes like Family Ceramics\, Youth Ceramics\, Beginners Ceramics\, Beginners' Wheel\, and Partner Ceramics
URL:https://pdop.org/event/ceramics-open-studio-1-5-hours-18/
CATEGORIES:Arts & Crafts
END:VEVENT
BEGIN:VEVENT
DTSTART;TZID=America/Chicago:20260512T130000
DTEND;TZID=America/Chicago:20260512T143000
DTSTAMP:20260422T131524
CREATED:20260420T062022Z
LAST-MODIFIED:20260420T062022Z
UID:2364032-1778590800-1778596200@pdop.org
SUMMARY:Ceramics Open Studio 1.5 Hours
DESCRIPTION:Come on in to finish pieces you worked on in our other classes like Family Ceramics\, Youth Ceramics\, Beginners Ceramics\, Beginners' Wheel\, and Partner Ceramics
URL:https://pdop.org/event/ceramics-open-studio-1-5-hours-19/
CATEGORIES:Arts & Crafts
END:VEVENT
BEGIN:VEVENT
DTSTART;TZID=America/Chicago:20260512T163000
DTEND;TZID=America/Chicago:20260512T183000
DTSTAMP:20260422T131524
CREATED:20260420T062022Z
LAST-MODIFIED:20260420T062022Z
UID:2364033-1778603400-1778610600@pdop.org
SUMMARY:Ceramics Open Studio 2 Hours
DESCRIPTION:Come on in to finish pieces you worked on in our other classes like Family Ceramics\, Youth Ceramics\, Beginners Ceramics\, Beginners' Wheel\, and Partner Ceramics
URL:https://pdop.org/event/ceramics-open-studio-2-hours-23/
CATEGORIES:Arts & Crafts
END:VEVENT
BEGIN:VEVENT
DTSTART;TZID=America/Chicago:20260512T180000
DTEND;TZID=America/Chicago:20260512T200000
DTSTAMP:20260422T131524
CREATED:20260420T062023Z
LAST-MODIFIED:20260420T062023Z
UID:2364035-1778608800-1778616000@pdop.org
SUMMARY:Lapidary Open Studio
DESCRIPTION:Come in to work on lapidary projects independently\, with an instructor available to assist or answer questions. Space is limited\, but you are welcome to bring projects from home or start fresh here. experience is preferred
URL:https://pdop.org/event/lapidary-open-studio-5/
CATEGORIES:Arts & Crafts
END:VEVENT
BEGIN:VEVENT
DTSTART;TZID=America/Chicago:20260513T160000
DTEND;TZID=America/Chicago:20260513T180000
DTSTAMP:20260422T131524
CREATED:20260420T062025Z
LAST-MODIFIED:20260420T062025Z
UID:2364048-1778688000-1778695200@pdop.org
SUMMARY:Ceramics Open Studio 2 Hours
DESCRIPTION:Come on in to finish pieces you worked on in our other classes like Family Ceramics\, Youth Ceramics\, Beginners Ceramics\, Beginners' Wheel\, and Partner Ceramics
URL:https://pdop.org/event/ceramics-open-studio-2-hours-24/
CATEGORIES:Arts & Crafts
END:VEVENT
BEGIN:VEVENT
DTSTART;TZID=America/Chicago:20260514T130000
DTEND;TZID=America/Chicago:20260514T150000
DTSTAMP:20260422T131524
CREATED:20260420T062027Z
LAST-MODIFIED:20260420T062027Z
UID:2364061-1778763600-1778770800@pdop.org
SUMMARY:Ceramics Open Studio 2 Hours
DESCRIPTION:Come on in to finish pieces you worked on in our other classes like Family Ceramics\, Youth Ceramics\, Beginners Ceramics\, Beginners' Wheel\, and Partner Ceramics
URL:https://pdop.org/event/ceramics-open-studio-2-hours-25/
CATEGORIES:Arts & Crafts
END:VEVENT
BEGIN:VEVENT
DTSTART;TZID=America/Chicago:20260514T180000
DTEND;TZID=America/Chicago:20260514T193000
DTSTAMP:20260422T131525
CREATED:20260420T062029Z
LAST-MODIFIED:20260420T062029Z
UID:2364063-1778781600-1778787000@pdop.org
SUMMARY:Ceramics Open Studio 1.5 Hours
DESCRIPTION:Come on in to finish pieces you worked on in our other classes like Family Ceramics\, Youth Ceramics\, Beginners Ceramics\, Beginners' Wheel\, and Partner Ceramics
URL:https://pdop.org/event/ceramics-open-studio-1-5-hours-20/
CATEGORIES:Arts & Crafts
END:VEVENT
BEGIN:VEVENT
DTSTART;TZID=America/Chicago:20260515T160000
DTEND;TZID=America/Chicago:20260515T180000
DTSTAMP:20260422T131525
CREATED:20260420T062037Z
LAST-MODIFIED:20260420T062037Z
UID:2364077-1778860800-1778868000@pdop.org
SUMMARY:Orizomegami- Paper Marbling and Folding
DESCRIPTION:Orizomegami is the Japanese art of decorating papers by folding and dipping them into pools of natural dyes. By folding the paper in a variety of ways\, patterns emerge which are reminiscent of stained windows\, and depending on the number and placement of the folds\, you can create more complex patterns.
URL:https://pdop.org/event/orizomegami-paper-marbling-and-folding/
CATEGORIES:Arts & Crafts
END:VEVENT
BEGIN:VEVENT
DTSTART;TZID=America/Chicago:20260515T183000
DTEND;TZID=America/Chicago:20260515T203000
DTSTAMP:20260422T131525
CREATED:20260420T062039Z
LAST-MODIFIED:20260420T062039Z
UID:2364079-1778869800-1778877000@pdop.org
SUMMARY:Fire Painting & Brazing May 8-29
DESCRIPTION:In this class\, we will be flame painting on copper to create rainbow patina designs. We will then seal the finish with UV resin to keep it permanent. Also\, we will learn how to make braised copper twisted wire bangles\, rings\, and more.
URL:https://pdop.org/event/fire-painting-brazing-may-8-29-2/
CATEGORIES:Arts & Crafts
END:VEVENT
BEGIN:VEVENT
DTSTART;TZID=America/Chicago:20260516T100000
DTEND;TZID=America/Chicago:20260516T120000
DTSTAMP:20260422T131525
CREATED:20260420T062049Z
LAST-MODIFIED:20260420T062049Z
UID:2364089-1778925600-1778932800@pdop.org
SUMMARY:Pour Painting
DESCRIPTION:Those pour painting videos are totally addictive! Come make your very own\, and we’ll clean up the mess! 2 canvas boards per person can be used. We’ll also provide a large variety of colors and finishes to make your painting stand out.
URL:https://pdop.org/event/pour-painting-2/
CATEGORIES:Arts & Crafts
END:VEVENT
BEGIN:VEVENT
DTSTART;TZID=America/Chicago:20260517T100000
DTEND;TZID=America/Chicago:20260517T120000
DTSTAMP:20260422T131525
CREATED:20260420T062055Z
LAST-MODIFIED:20260420T062055Z
UID:2364097-1779012000-1779019200@pdop.org
SUMMARY:Ceramics Open Studio 2 Hours
DESCRIPTION:Come on in to finish pieces you worked on in our other classes like Family Ceramics\, Youth Ceramics\, Beginners Ceramics\, Beginners' Wheel\, and Partner Ceramics
URL:https://pdop.org/event/ceramics-open-studio-2-hours-26/
CATEGORIES:Arts & Crafts
END:VEVENT
BEGIN:VEVENT
DTSTART;TZID=America/Chicago:20260517T130000
DTEND;TZID=America/Chicago:20260517T143000
DTSTAMP:20260422T131525
CREATED:20260420T062057Z
LAST-MODIFIED:20260420T062057Z
UID:2364101-1779022800-1779028200@pdop.org
SUMMARY:Ceramics Open Studio 1.5 Hours
DESCRIPTION:Come on in to finish pieces you worked on in our other classes like Family Ceramics\, Youth Ceramics\, Beginners Ceramics\, Beginners' Wheel\, and Partner Ceramics
URL:https://pdop.org/event/ceramics-open-studio-1-5-hours-21/
CATEGORIES:Arts & Crafts
END:VEVENT
BEGIN:VEVENT
DTSTART;TZID=America/Chicago:20260517T150000
DTEND;TZID=America/Chicago:20260517T163000
DTSTAMP:20260422T131525
CREATED:20260420T062058Z
LAST-MODIFIED:20260420T062058Z
UID:2364102-1779030000-1779035400@pdop.org
SUMMARY:Ceramics Open Studio 1.5 Hours
DESCRIPTION:Come on in to finish pieces you worked on in our other classes like Family Ceramics\, Youth Ceramics\, Beginners Ceramics\, Beginners' Wheel\, and Partner Ceramics
URL:https://pdop.org/event/ceramics-open-studio-1-5-hours-22/
CATEGORIES:Arts & Crafts
END:VEVENT
BEGIN:VEVENT
DTSTART;TZID=America/Chicago:20260519T130000
DTEND;TZID=America/Chicago:20260519T143000
DTSTAMP:20260422T131525
CREATED:20260420T062108Z
LAST-MODIFIED:20260420T062108Z
UID:2364118-1779195600-1779201000@pdop.org
SUMMARY:Ceramics Open Studio 1.5 Hours
DESCRIPTION:Come on in to finish pieces you worked on in our other classes like Family Ceramics\, Youth Ceramics\, Beginners Ceramics\, Beginners' Wheel\, and Partner Ceramics
URL:https://pdop.org/event/ceramics-open-studio-1-5-hours-23/
CATEGORIES:Arts & Crafts
END:VEVENT
BEGIN:VEVENT
DTSTART;TZID=America/Chicago:20260519T163000
DTEND;TZID=America/Chicago:20260519T183000
DTSTAMP:20260422T131525
CREATED:20260420T062109Z
LAST-MODIFIED:20260420T062109Z
UID:2364120-1779208200-1779215400@pdop.org
SUMMARY:Ceramics Open Studio 2 Hours
DESCRIPTION:Come on in to finish pieces you worked on in our other classes like Family Ceramics\, Youth Ceramics\, Beginners Ceramics\, Beginners' Wheel\, and Partner Ceramics
URL:https://pdop.org/event/ceramics-open-studio-2-hours-27/
CATEGORIES:Arts & Crafts
END:VEVENT
BEGIN:VEVENT
DTSTART;TZID=America/Chicago:20260519T180000
DTEND;TZID=America/Chicago:20260519T200000
DTSTAMP:20260422T131525
CREATED:20260420T062111Z
LAST-MODIFIED:20260420T062111Z
UID:2364122-1779213600-1779220800@pdop.org
SUMMARY:Lapidary Open Studio
DESCRIPTION:Come in to work on lapidary projects independently\, with an instructor available to assist or answer questions. Space is limited\, but you are welcome to bring projects from home or start fresh here. experience is preferred
URL:https://pdop.org/event/lapidary-open-studio-6/
CATEGORIES:Arts & Crafts
END:VEVENT
BEGIN:VEVENT
DTSTART;TZID=America/Chicago:20260520T160000
DTEND;TZID=America/Chicago:20260520T180000
DTSTAMP:20260422T131525
CREATED:20260420T062119Z
LAST-MODIFIED:20260420T062119Z
UID:2364135-1779292800-1779300000@pdop.org
SUMMARY:Ceramics Open Studio 2 Hours
DESCRIPTION:Come on in to finish pieces you worked on in our other classes like Family Ceramics\, Youth Ceramics\, Beginners Ceramics\, Beginners' Wheel\, and Partner Ceramics
URL:https://pdop.org/event/ceramics-open-studio-2-hours-28/
CATEGORIES:Arts & Crafts
END:VEVENT
BEGIN:VEVENT
DTSTART;TZID=America/Chicago:20260521T180000
DTEND;TZID=America/Chicago:20260521T193000
DTSTAMP:20260422T131525
CREATED:20260420T062127Z
LAST-MODIFIED:20260420T062127Z
UID:2364148-1779386400-1779391800@pdop.org
SUMMARY:Ceramics Open Studio 1.5 Hours
DESCRIPTION:Come on in to finish pieces you worked on in our other classes like Family Ceramics\, Youth Ceramics\, Beginners Ceramics\, Beginners' Wheel\, and Partner Ceramics
URL:https://pdop.org/event/ceramics-open-studio-1-5-hours-24/
CATEGORIES:Arts & Crafts
END:VEVENT
BEGIN:VEVENT
DTSTART;TZID=America/Chicago:20260522T183000
DTEND;TZID=America/Chicago:20260522T203000
DTSTAMP:20260422T131525
CREATED:20260420T062132Z
LAST-MODIFIED:20260420T062132Z
UID:2364162-1779474600-1779481800@pdop.org
SUMMARY:Fire Painting & Brazing May 8-29
DESCRIPTION:In this class\, we will be flame painting on copper to create rainbow patina designs. We will then seal the finish with UV resin to keep it permanent. Also\, we will learn how to make braised copper twisted wire bangles\, rings\, and more.
URL:https://pdop.org/event/fire-painting-brazing-may-8-29-3/
CATEGORIES:Arts & Crafts
END:VEVENT
BEGIN:VEVENT
DTSTART;TZID=America/Chicago:20260524T100000
DTEND;TZID=America/Chicago:20260524T120000
DTSTAMP:20260422T131525
CREATED:20260420T062138Z
LAST-MODIFIED:20260420T062138Z
UID:2364176-1779616800-1779624000@pdop.org
SUMMARY:Ceramics Open Studio 2 Hours
DESCRIPTION:Come on in to finish pieces you worked on in our other classes like Family Ceramics\, Youth Ceramics\, Beginners Ceramics\, Beginners' Wheel\, and Partner Ceramics
URL:https://pdop.org/event/ceramics-open-studio-2-hours-29/
CATEGORIES:Arts & Crafts
END:VEVENT
BEGIN:VEVENT
DTSTART;TZID=America/Chicago:20260524T130000
DTEND;TZID=America/Chicago:20260524T143000
DTSTAMP:20260422T131525
CREATED:20260420T062140Z
LAST-MODIFIED:20260420T062140Z
UID:2364180-1779627600-1779633000@pdop.org
SUMMARY:Ceramics Open Studio 1.5 Hours
DESCRIPTION:Come on in to finish pieces you worked on in our other classes like Family Ceramics\, Youth Ceramics\, Beginners Ceramics\, Beginners' Wheel\, and Partner Ceramics
URL:https://pdop.org/event/ceramics-open-studio-1-5-hours-25/
CATEGORIES:Arts & Crafts
END:VEVENT
BEGIN:VEVENT
DTSTART;TZID=America/Chicago:20260524T150000
DTEND;TZID=America/Chicago:20260524T163000
DTSTAMP:20260422T131525
CREATED:20260420T062141Z
LAST-MODIFIED:20260420T062141Z
UID:2364181-1779634800-1779640200@pdop.org
SUMMARY:Ceramics Open Studio 1.5 Hours
DESCRIPTION:Come on in to finish pieces you worked on in our other classes like Family Ceramics\, Youth Ceramics\, Beginners Ceramics\, Beginners' Wheel\, and Partner Ceramics
URL:https://pdop.org/event/ceramics-open-studio-1-5-hours-26/
CATEGORIES:Arts & Crafts
END:VEVENT
BEGIN:VEVENT
DTSTART;TZID=America/Chicago:20260526T130000
DTEND;TZID=America/Chicago:20260526T143000
DTSTAMP:20260422T131525
CREATED:20260420T062145Z
LAST-MODIFIED:20260420T062145Z
UID:2364190-1779800400-1779805800@pdop.org
SUMMARY:Ceramics Open Studio 1.5 Hours
DESCRIPTION:Come on in to finish pieces you worked on in our other classes like Family Ceramics\, Youth Ceramics\, Beginners Ceramics\, Beginners' Wheel\, and Partner Ceramics
URL:https://pdop.org/event/ceramics-open-studio-1-5-hours-27/
CATEGORIES:Arts & Crafts
END:VEVENT
BEGIN:VEVENT
DTSTART;TZID=America/Chicago:20260526T163000
DTEND;TZID=America/Chicago:20260526T183000
DTSTAMP:20260422T131525
CREATED:20260420T062145Z
LAST-MODIFIED:20260420T062145Z
UID:2364191-1779813000-1779820200@pdop.org
SUMMARY:Ceramics Open Studio 2 Hours
DESCRIPTION:Come on in to finish pieces you worked on in our other classes like Family Ceramics\, Youth Ceramics\, Beginners Ceramics\, Beginners' Wheel\, and Partner Ceramics
URL:https://pdop.org/event/ceramics-open-studio-2-hours-30/
CATEGORIES:Arts & Crafts
END:VEVENT
BEGIN:VEVENT
DTSTART;TZID=America/Chicago:20260526T180000
DTEND;TZID=America/Chicago:20260526T200000
DTSTAMP:20260422T131525
CREATED:20260420T062146Z
LAST-MODIFIED:20260420T062146Z
UID:2364193-1779818400-1779825600@pdop.org
SUMMARY:Lapidary Open Studio
DESCRIPTION:Come in to work on lapidary projects independently\, with an instructor available to assist or answer questions. Space is limited\, but you are welcome to bring projects from home or start fresh here. experience is preferred
URL:https://pdop.org/event/lapidary-open-studio-7/
CATEGORIES:Arts & Crafts
END:VEVENT
BEGIN:VEVENT
DTSTART;TZID=America/Chicago:20260527T160000
DTEND;TZID=America/Chicago:20260527T180000
DTSTAMP:20260422T131525
CREATED:20260420T062153Z
LAST-MODIFIED:20260420T062153Z
UID:2364206-1779897600-1779904800@pdop.org
SUMMARY:Ceramics Open Studio 2 Hours
DESCRIPTION:Come on in to finish pieces you worked on in our other classes like Family Ceramics\, Youth Ceramics\, Beginners Ceramics\, Beginners' Wheel\, and Partner Ceramics
URL:https://pdop.org/event/ceramics-open-studio-2-hours-31/
CATEGORIES:Arts & Crafts
END:VEVENT
BEGIN:VEVENT
DTSTART;TZID=America/Chicago:20260528T130000
DTEND;TZID=America/Chicago:20260528T150000
DTSTAMP:20260422T131525
CREATED:20260420T062156Z
LAST-MODIFIED:20260420T062156Z
UID:2364216-1779973200-1779980400@pdop.org
SUMMARY:Try-It Printmaking
DESCRIPTION:Discover the art of printmaking in this fun\, hands-on workshop! Participants will explore simple techniques such as block printing and stamping to create bold\, expressive designs on paper. Our instructor will guide you through carving\, inking\, and printing your own unique works of art\, perfect for framing\, cards\, or gifts. This class is designed for beginners and anyone looking to experiment with a new creative medium.
URL:https://pdop.org/event/try-it-printmaking/
CATEGORIES:Arts & Crafts
END:VEVENT
END:VCALENDAR