BEGIN:VCALENDAR
VERSION:2.0
PRODID:-//Park District of Oak Park - ECPv5.14.1//NONSGML v1.0//EN
CALSCALE:GREGORIAN
METHOD:PUBLISH
X-WR-CALNAME:Park District of Oak Park
X-ORIGINAL-URL:https://pdop.org
X-WR-CALDESC:Events for Park District of Oak Park
REFRESH-INTERVAL;VALUE=DURATION:PT1H
X-Robots-Tag:noindex
X-PUBLISHED-TTL:PT1H
BEGIN:VTIMEZONE
TZID:America/Chicago
BEGIN:DAYLIGHT
TZOFFSETFROM:-0600
TZOFFSETTO:-0500
TZNAME:CDT
DTSTART:20260308T080000
END:DAYLIGHT
BEGIN:STANDARD
TZOFFSETFROM:-0500
TZOFFSETTO:-0600
TZNAME:CST
DTSTART:20261101T070000
END:STANDARD
END:VTIMEZONE
BEGIN:VEVENT
DTSTART;VALUE=DATE:20260303
DTEND;VALUE=DATE:20260518
DTSTAMP:20260422T123835
CREATED:20260106T152951Z
LAST-MODIFIED:20260106T152951Z
UID:2259922-1772496000-1779062399@pdop.org
SUMMARY:Shamrock Scavenger Hunt
DESCRIPTION:Head to the Oak Park Conservatory and find the hidden shamrocks! Prizes are awarded to this that find all seven scattered among our plants. \nLive shamrocks will also be available for purchase. \nThis is a free event\, no registration required. Please note that the Conservatory is closed on Mondays.
URL:https://pdop.org/event/shamrock-scavenger-hunt-2/
LOCATION:Oak Park Conservatory\, 615 Garfield St\, Oak Park\, IL\, 60304\, United States
ATTACH;FMTTYPE=image/png:https://pdop.org/wp-content/uploads/2024/01/Conservatory-Plant-Market-Pics-11.png
END:VEVENT
BEGIN:VEVENT
DTSTART;VALUE=DATE:20260501
DTEND;VALUE=DATE:20260531
DTSTAMP:20260422T123835
CREATED:20260302T213659Z
LAST-MODIFIED:20260302T213659Z
UID:2323365-1777593600-1780185599@pdop.org
SUMMARY:Perennial Pollinator Plant Sale
DESCRIPTION:June is National Perennial Gardening Month\, and our greenhouses are bursting with our top perennial choices for your garden! Increase your garden’s biodiversity with our favorite selection of perennial pollinator plants for your home garden\, including selections of natives\, native cultivars\, and heirloom perennials grown locally at the Conservatory greenhouses. \nOur experts will be on hand to answer your questions on plant selection. \nOrder online beginning May 1.\nShop in-person and pick up orders May 29-30\, 10:00A-4:00P.
URL:https://pdop.org/event/perennial-pollinator-plant-sale-3/
LOCATION:Oak Park Conservatory\, 615 Garfield St\, Oak Park\, IL\, 60304\, United States
ATTACH;FMTTYPE=image/jpeg:https://pdop.org/wp-content/uploads/2022/07/Allium-Purple-Sensation.jpg
END:VEVENT
BEGIN:VEVENT
DTSTART;TZID=America/Chicago:20260508T090000
DTEND;TZID=America/Chicago:20260508T100000
DTSTAMP:20260422T123835
CREATED:20260219T060618Z
LAST-MODIFIED:20260219T060618Z
UID:2311475-1778230800-1778234400@pdop.org
SUMMARY:Nia (Friday)
DESCRIPTION:This unique fitness class blends dance\, martial arts\, and healing to achieve your fitness goals and express yourself through movement and sensation. Come experience Nia in this barefoot\, aerobic\, movement based class. Appropriate for all fitness levels; no dance experience necessary.
URL:https://pdop.org/event/nia-friday-19/
LOCATION:IL
END:VEVENT
BEGIN:VEVENT
DTSTART;TZID=America/Chicago:20260508T090000
DTEND;TZID=America/Chicago:20260508T100000
DTSTAMP:20260422T123835
CREATED:20260219T060618Z
LAST-MODIFIED:20260219T060618Z
UID:2311476-1778230800-1778234400@pdop.org
SUMMARY:BODYPUMP (Friday)
DESCRIPTION: LesMills BODYPUMP(TM) is the original barbell class that strengthens your entire body. This workout challenges all your major muscle groups by using the best weight room exercises\, like squats\, presses\, lifts and curls. Great music\, awesome instructors and your choice of weight inspires you to get the results you came for and fast!
URL:https://pdop.org/event/bodypump-friday-19/
LOCATION:IL
END:VEVENT
BEGIN:VEVENT
DTSTART;TZID=America/Chicago:20260508T090000
DTEND;TZID=America/Chicago:20260508T100000
DTSTAMP:20260422T123835
CREATED:20260420T062004Z
LAST-MODIFIED:20260420T062004Z
UID:2363981-1778230800-1778234400@pdop.org
SUMMARY:Nia (Friday)
DESCRIPTION:This unique fitness class blends dance\, martial arts\, and healing to achieve your fitness goals and express yourself through movement and sensation. Come experience Nia in this barefoot\, aerobic\, movement based class. Appropriate for all fitness levels; no dance experience necessary.
URL:https://pdop.org/event/nia-friday-44/
LOCATION:IL
CATEGORIES:Fitness Dropin
END:VEVENT
BEGIN:VEVENT
DTSTART;TZID=America/Chicago:20260508T093000
DTEND;TZID=America/Chicago:20260508T101500
DTSTAMP:20260422T123835
CREATED:20260219T060618Z
LAST-MODIFIED:20260219T060618Z
UID:2311477-1778232600-1778235300@pdop.org
SUMMARY:Pilates (Friday)
DESCRIPTION:Experience a dynamic Pilates class designed to strengthen your core\, improve flexibility\, and enhance overall body awareness.
URL:https://pdop.org/event/pilates-friday-14/
LOCATION:IL
END:VEVENT
BEGIN:VEVENT
DTSTART;TZID=America/Chicago:20260508T093000
DTEND;TZID=America/Chicago:20260508T101500
DTSTAMP:20260422T123835
CREATED:20260420T062005Z
LAST-MODIFIED:20260420T062005Z
UID:2363982-1778232600-1778235300@pdop.org
SUMMARY:Pilates (Friday)
DESCRIPTION:Experience a dynamic Pilates class designed to strengthen your core\, improve flexibility\, and enhance overall body awareness.
URL:https://pdop.org/event/pilates-friday-30/
LOCATION:IL
CATEGORIES:Fitness Dropin
END:VEVENT
BEGIN:VEVENT
DTSTART;TZID=America/Chicago:20260508T113000
DTEND;TZID=America/Chicago:20260508T130000
DTSTAMP:20260422T123835
CREATED:20260420T062006Z
LAST-MODIFIED:20260420T062006Z
UID:2363983-1778239800-1778245200@pdop.org
SUMMARY:Noon Skate
DESCRIPTION:Noon Skate:$12 SKATES INCLUDED! \nMondays\, Wednesdays and Fridays ONLY! \nPre-Registration and Walk-Ins accepted. \nRink Membership are available under the "Membership/Passes" tab.
URL:https://pdop.org/event/noon-skate-71/
LOCATION:IL
END:VEVENT
BEGIN:VEVENT
DTSTART;TZID=America/Chicago:20260508T130000
DTEND;TZID=America/Chicago:20260508T143000
DTSTAMP:20260422T123835
CREATED:20260420T062007Z
LAST-MODIFIED:20260420T062007Z
UID:2363984-1778245200-1778250600@pdop.org
SUMMARY:Preschool Playtime (ages 1-6)
DESCRIPTION:$8 per visit\, or buy a prepaid 10-visit pass for $70. \nA favorite with all our preschoolers\, this is an open gym for children 1-6 years old. All children must be accompanied and supervised by an adult at all times. \nDrop-ins will not accepted after max registrations have been reached\, even if other participants leave. Registration opens 7 days before each Playtime\, and you have up to 24 hours before each Playtime to cancel your pre-registration.
URL:https://pdop.org/event/preschool-playtime-ages-1-6-84/
LOCATION:IL
END:VEVENT
BEGIN:VEVENT
DTSTART;TZID=America/Chicago:20260508T173000
DTEND;TZID=America/Chicago:20260508T183000
DTSTAMP:20260422T123835
CREATED:20260219T060618Z
LAST-MODIFIED:20260219T060618Z
UID:2311478-1778261400-1778265000@pdop.org
SUMMARY:Power Vinyasa (Friday)
DESCRIPTION:Improve your flexibility\, strength\, balance\, and mental stillness with this challenging yet accessible yoga class. Explore breath to movement and learn more about your personal yoga practice.
URL:https://pdop.org/event/power-vinyasa-friday-19/
LOCATION:IL
END:VEVENT
BEGIN:VEVENT
DTSTART;TZID=America/Chicago:20260508T173000
DTEND;TZID=America/Chicago:20260508T183000
DTSTAMP:20260422T123835
CREATED:20260420T062007Z
LAST-MODIFIED:20260420T062007Z
UID:2363985-1778261400-1778265000@pdop.org
SUMMARY:Power Vinyasa (Friday)
DESCRIPTION:Improve your flexibility\, strength\, balance\, and mental stillness with this challenging yet accessible yoga class. Explore breath to movement and learn more about your personal yoga practice.
URL:https://pdop.org/event/power-vinyasa-friday-44/
LOCATION:IL
CATEGORIES:Fitness Dropin
END:VEVENT
BEGIN:VEVENT
DTSTART;TZID=America/Chicago:20260508T183000
DTEND;TZID=America/Chicago:20260508T193000
DTSTAMP:20260422T123836
CREATED:20260420T062008Z
LAST-MODIFIED:20260420T062008Z
UID:2363986-1778265000-1778268600@pdop.org
SUMMARY:Adult-Child Archery Evening - 5/8/26
DESCRIPTION:Hey\, junior archers! Want to teach your adults a thing or two about shooting a bow and arrow? Our trained instructors will help you and your adult learn the ropes of this fun adventure sport. Registration is for one child and one adult. Please register your child archer only\, not their adult. \n  \nArchery is for everyone!  Our instructor is trained in adaptive archery and the elements used to make this sport accessible. Please contact us if there are any accommodations you may need!
URL:https://pdop.org/event/adult-child-archery-evening-5-8-26/
LOCATION:IL
CATEGORIES:Family Programs,Nature Programs,Youth Special Interest
END:VEVENT
BEGIN:VEVENT
DTSTART;TZID=America/Chicago:20260508T183000
DTEND;TZID=America/Chicago:20260508T201500
DTSTAMP:20260422T123836
CREATED:20260420T062009Z
LAST-MODIFIED:20260420T062009Z
UID:2363988-1778265000-1778271300@pdop.org
SUMMARY:Public Skate
DESCRIPTION:Public Skate:$12 SKATES INCLUDED \nPre-Registration and Walk-Ins accepted. \nRink Membership are available under the "Membership/Passes"  tab.
URL:https://pdop.org/event/public-skate-36/
LOCATION:IL
END:VEVENT
BEGIN:VEVENT
DTSTART;TZID=America/Chicago:20260508T183000
DTEND;TZID=America/Chicago:20260508T203000
DTSTAMP:20260422T123836
CREATED:20260420T062008Z
LAST-MODIFIED:20260420T062008Z
UID:2363987-1778265000-1778272200@pdop.org
SUMMARY:Fire Painting & Brazing May 8-29
DESCRIPTION:In this class\, we will be flame painting on copper to create rainbow patina designs. We will then seal the finish with UV resin to keep it permanent. Also\, we will learn how to make braised copper twisted wire bangles\, rings\, and more.
URL:https://pdop.org/event/fire-painting-brazing-may-8-29/
LOCATION:IL
CATEGORIES:Arts & Crafts
END:VEVENT
BEGIN:VEVENT
DTSTART;TZID=America/Chicago:20260508T190000
DTEND;TZID=America/Chicago:20260508T210000
DTSTAMP:20260422T123836
CREATED:20260420T062010Z
LAST-MODIFIED:20260420T062010Z
UID:2363989-1778266800-1778274000@pdop.org
SUMMARY:Handmade Defense: Bug Repellant Candle Making with Einnim Candle Bar
DESCRIPTION:This workshop is just right for anyone eager to enjoy the great outdoors without the hassle of pesky bugs. Our friendly and knowledgable instructors will be with you every step of the way\, helping you create the perfect blend of essential oils and delightful frangrances that ward off those annoying insects while you have fun. You'll leave with beautiful and functional soy wax candles that are sure to keep the bugs away. Each 9 oz candle provides 40-45 hours of burn time using 100% soy wax.  Light snacks and 2 drink tickets are included in your registration. Join us on the front porch of Pleasant Home\, and let's prepare for a summer free of bugs! Ages 21+
URL:https://pdop.org/event/handmade-defense-bug-repellant-candle-making-with-einnim-candle-bar/
LOCATION:IL
END:VEVENT
END:VCALENDAR