BEGIN:VCALENDAR
VERSION:2.0
PRODID:-//Park District of Oak Park - ECPv5.14.1//NONSGML v1.0//EN
CALSCALE:GREGORIAN
METHOD:PUBLISH
X-WR-CALNAME:Park District of Oak Park
X-ORIGINAL-URL:https://pdop.org
X-WR-CALDESC:Events for Park District of Oak Park
REFRESH-INTERVAL;VALUE=DURATION:PT1H
X-Robots-Tag:noindex
X-PUBLISHED-TTL:PT1H
BEGIN:VTIMEZONE
TZID:America/Chicago
BEGIN:DAYLIGHT
TZOFFSETFROM:-0600
TZOFFSETTO:-0500
TZNAME:CDT
DTSTART:20260308T080000
END:DAYLIGHT
BEGIN:STANDARD
TZOFFSETFROM:-0500
TZOFFSETTO:-0600
TZNAME:CST
DTSTART:20261101T070000
END:STANDARD
END:VTIMEZONE
BEGIN:VEVENT
DTSTART;VALUE=DATE:20260303
DTEND;VALUE=DATE:20260518
DTSTAMP:20260419T090452
CREATED:20260106T152951Z
LAST-MODIFIED:20260106T152951Z
UID:2259922-1772496000-1779062399@pdop.org
SUMMARY:Shamrock Scavenger Hunt
DESCRIPTION:Head to the Oak Park Conservatory and find the hidden shamrocks! Prizes are awarded to this that find all seven scattered among our plants. \nLive shamrocks will also be available for purchase. \nThis is a free event\, no registration required. Please note that the Conservatory is closed on Mondays.
URL:https://pdop.org/event/shamrock-scavenger-hunt-2/
LOCATION:Oak Park Conservatory\, 615 Garfield St\, Oak Park\, IL\, 60304\, United States
ATTACH;FMTTYPE=image/png:https://pdop.org/wp-content/uploads/2024/01/Conservatory-Plant-Market-Pics-11.png
END:VEVENT
BEGIN:VEVENT
DTSTART;TZID=America/Chicago:20260418T071500
DTEND;TZID=America/Chicago:20260418T081500
DTSTAMP:20260419T090452
CREATED:20260219T060553Z
LAST-MODIFIED:20260219T060553Z
UID:2311344-1776496500-1776500100@pdop.org
SUMMARY:BODYPUMP (Saturday)
DESCRIPTION: LesMills BODYPUMP(TM) is the original barbell class that strengthens your entire body. This workout challenges all your major muscle groups by using the best weight room exercises\, like squats\, presses\, lifts and curls. Great music\, awesome instructors and your choice of weight inspires you to get the results you came for and fast! \n 
URL:https://pdop.org/event/bodypump-saturday-16/
END:VEVENT
BEGIN:VEVENT
DTSTART;TZID=America/Chicago:20260418T071500
DTEND;TZID=America/Chicago:20260418T081500
DTSTAMP:20260419T090452
CREATED:20260412T061231Z
LAST-MODIFIED:20260412T061231Z
UID:2361816-1776496500-1776500100@pdop.org
SUMMARY:BODYPUMP (Saturday)
DESCRIPTION: LesMills BODYPUMP(TM) is the original barbell class that strengthens your entire body. This workout challenges all your major muscle groups by using the best weight room exercises\, like squats\, presses\, lifts and curls. Great music\, awesome instructors and your choice of weight inspires you to get the results you came for and fast! \n 
URL:https://pdop.org/event/bodypump-saturday-40/
CATEGORIES:Fitness Dropin
END:VEVENT
BEGIN:VEVENT
DTSTART;TZID=America/Chicago:20260418T080000
DTEND;TZID=America/Chicago:20260418T084500
DTSTAMP:20260419T090452
CREATED:20260219T060554Z
LAST-MODIFIED:20260219T060554Z
UID:2311345-1776499200-1776501900@pdop.org
SUMMARY:BOOTCAMP: Strength Training (Saturday)
DESCRIPTION:This strength training class will help to sculpt your physique\, build muscle\, and enhance overall strength through dynamic workouts that combine resistance training\, functional movements\, and high-intensity exercises in a motivating group setting!
URL:https://pdop.org/event/bootcamp-strength-training-saturday-14/
END:VEVENT
BEGIN:VEVENT
DTSTART;TZID=America/Chicago:20260418T080000
DTEND;TZID=America/Chicago:20260418T163000
DTSTAMP:20260419T090452
CREATED:20260412T061232Z
LAST-MODIFIED:20260412T061232Z
UID:2361817-1776499200-1776529800@pdop.org
SUMMARY:Matthiessen State Park Hiking Trip - 4/18/26
DESCRIPTION:We’re spending our springtime days with adventure on the brain! Join us for a trip to Matthiessen State Park for a day of hiking and picnicking.\nTransportation provided. Meet at Fox Center.\n  \nHikers under the age of 18 must be accompanied by a registered adult.
URL:https://pdop.org/event/matthiessen-state-park-hiking-trip-4-18-26/
CATEGORIES:Family Programs,Nature Programs,Youth Special Interest
END:VEVENT
BEGIN:VEVENT
DTSTART;TZID=America/Chicago:20260418T083000
DTEND;TZID=America/Chicago:20260418T093000
DTSTAMP:20260419T090452
CREATED:20260219T060554Z
LAST-MODIFIED:20260219T060554Z
UID:2311346-1776501000-1776504600@pdop.org
SUMMARY:Cycle (Saturday)
DESCRIPTION:There's something for everyone in these classes: Intervals\, rolling hills\, sprints\, climbs\, runs\, surges and jumps all to music hand-picked to motivate and inspire! This is a great workout if you want to burn calories and increase endurance. Come on in for the ride!
URL:https://pdop.org/event/cycle-saturday-15/
END:VEVENT
BEGIN:VEVENT
DTSTART;TZID=America/Chicago:20260418T083000
DTEND;TZID=America/Chicago:20260418T093000
DTSTAMP:20260419T090452
CREATED:20260412T061232Z
LAST-MODIFIED:20260412T061232Z
UID:2361818-1776501000-1776504600@pdop.org
SUMMARY:Cycle (Saturday)
DESCRIPTION:There's something for everyone in these classes: Intervals\, rolling hills\, sprints\, climbs\, runs\, surges and jumps all to music hand-picked to motivate and inspire! This is a great workout if you want to burn calories and increase endurance. Come on in for the ride!
URL:https://pdop.org/event/cycle-saturday-37/
CATEGORIES:Fitness Dropin
END:VEVENT
BEGIN:VEVENT
DTSTART;TZID=America/Chicago:20260418T090000
DTEND;TZID=America/Chicago:20260418T100000
DTSTAMP:20260419T090452
CREATED:20260412T061232Z
LAST-MODIFIED:20260412T061232Z
UID:2361819-1776502800-1776506400@pdop.org
SUMMARY:What's the Buzz? - 4/18/26
DESCRIPTION:Discover the world of bees and pollination through story and games! We're putting on our imagination hats and pretending to be bees so we can learn the importance of these amazing ecosystem heroes!
URL:https://pdop.org/event/whats-the-buzz-4-18-26/
CATEGORIES:Family Programs,Nature Programs,Youth Special Interest
END:VEVENT
BEGIN:VEVENT
DTSTART;TZID=America/Chicago:20260418T093000
DTEND;TZID=America/Chicago:20260418T100000
DTSTAMP:20260419T090452
CREATED:20260219T060554Z
LAST-MODIFIED:20260219T060554Z
UID:2311347-1776504600-1776506400@pdop.org
SUMMARY:Foam Rolling (Saturday)
DESCRIPTION:Using tools such as a lacrosse ball and a foam roller\, this class focuses on self massage techniques that relieve muscle tension and increase range of motion. Self myofascial release corrects postural imbalances and improves neck\, shoulder\, back\, and knee pain. Learn and practice techniques that is popular among athletes–from gymnasts to basketball players–to decrease post-exercise recovery time\, enhance performance\, and prevent injury. You'll also learn new core exercises to help stabilize your body during everyday movements. 
URL:https://pdop.org/event/foam-rolling-saturday-15/
END:VEVENT
BEGIN:VEVENT
DTSTART;TZID=America/Chicago:20260418T093000
DTEND;TZID=America/Chicago:20260418T100000
DTSTAMP:20260419T090452
CREATED:20260412T061234Z
LAST-MODIFIED:20260412T061234Z
UID:2361821-1776504600-1776506400@pdop.org
SUMMARY:Foam Rolling (Saturday)
DESCRIPTION:Using tools such as a lacrosse ball and a foam roller\, this class focuses on self massage techniques that relieve muscle tension and increase range of motion. Self myofascial release corrects postural imbalances and improves neck\, shoulder\, back\, and knee pain. Learn and practice techniques that is popular among athletes–from gymnasts to basketball players–to decrease post-exercise recovery time\, enhance performance\, and prevent injury. You'll also learn new core exercises to help stabilize your body during everyday movements. 
URL:https://pdop.org/event/foam-rolling-saturday-37/
CATEGORIES:Fitness Dropin
END:VEVENT
BEGIN:VEVENT
DTSTART;TZID=America/Chicago:20260418T093000
DTEND;TZID=America/Chicago:20260418T150000
DTSTAMP:20260419T090452
CREATED:20260412T061233Z
LAST-MODIFIED:20260412T061233Z
UID:2361820-1776504600-1776524400@pdop.org
SUMMARY:Safe Sitter: 4/18
DESCRIPTION:Safe Sitter prepares teens for any situation they may encounter while babysitting\, staying home alone\, or supervising younger siblings. Through the updated curriculum\, our certified instructors will help students develop their skills in safety\, childcare\, first aid\, and business through engaging activities. Safe Sitter lessons will also show students how to manage behavioral issues and emergency situations! Participants will go home with a helpful handbook and a certification card. \n  \nA pizza lunch will be provided. 
URL:https://pdop.org/event/safe-sitter-4-18/
CATEGORIES:Teen Programs
END:VEVENT
BEGIN:VEVENT
DTSTART;TZID=America/Chicago:20260418T100000
DTEND;TZID=America/Chicago:20260418T110000
DTSTAMP:20260419T090452
CREATED:20260412T061234Z
LAST-MODIFIED:20260412T061234Z
UID:2361823-1776506400-1776510000@pdop.org
SUMMARY:Bee & Butterfly Waterer Workshop - 4/18/26
DESCRIPTION:Today we’re making puddlers – a water source perfect for our pollinator insects that’s perfect for backyards and even apartment balconies. It gives them a place to rest their legs – and wings! – and take a nice long sip in the midday heat. All materials provided.
URL:https://pdop.org/event/bee-butterfly-waterer-workshop-4-18-26/
CATEGORIES:Family Programs,Nature Programs,Youth Special Interest
END:VEVENT
BEGIN:VEVENT
DTSTART;TZID=America/Chicago:20260418T100000
DTEND;TZID=America/Chicago:20260418T120000
DTSTAMP:20260419T090452
CREATED:20260412T061234Z
LAST-MODIFIED:20260412T061234Z
UID:2361822-1776506400-1776513600@pdop.org
SUMMARY:Pour Painting
DESCRIPTION:Those pour painting videos are totally addictive! Come make your very own\, and we’ll clean up the mess! 2 canvas boards per person can be used. We’ll also provide a large variety of colors and finishes to make your painting stand out.
URL:https://pdop.org/event/pour-painting/
CATEGORIES:Arts & Crafts
END:VEVENT
BEGIN:VEVENT
DTSTART;TZID=America/Chicago:20260418T103000
DTEND;TZID=America/Chicago:20260418T111500
DTSTAMP:20260419T090452
CREATED:20260219T060554Z
LAST-MODIFIED:20260219T060554Z
UID:2311348-1776508200-1776510900@pdop.org
SUMMARY:Werq Dance Fitness (Saturday)
DESCRIPTION:Build cardiovascular endurance and strengthen your heart muscle while dancing to today's hottest Top 40 Pop\, Rock and Hip Hop Music! \nWERQ® is the fiercely fun dance fitness class based on pop\, rock\, and hip hop music taught by Certified Fitness Professionals.
URL:https://pdop.org/event/werq-dance-fitness-saturday-14/
END:VEVENT
BEGIN:VEVENT
DTSTART;TZID=America/Chicago:20260418T103000
DTEND;TZID=America/Chicago:20260418T111500
DTSTAMP:20260419T090452
CREATED:20260412T061235Z
LAST-MODIFIED:20260412T061235Z
UID:2361824-1776508200-1776510900@pdop.org
SUMMARY:Werq Dance Fitness (Saturday)
DESCRIPTION:Build cardiovascular endurance and strengthen your heart muscle while dancing to today's hottest Top 40 Pop\, Rock and Hip Hop Music! \nWERQ® is the fiercely fun dance fitness class based on pop\, rock\, and hip hop music taught by Certified Fitness Professionals.
URL:https://pdop.org/event/werq-dance-fitness-saturday-35/
CATEGORIES:Fitness Dropin
END:VEVENT
BEGIN:VEVENT
DTSTART;TZID=America/Chicago:20260418T170000
DTEND;TZID=America/Chicago:20260418T190000
DTSTAMP:20260419T090452
CREATED:20260412T061236Z
LAST-MODIFIED:20260412T061236Z
UID:2361825-1776531600-1776538800@pdop.org
SUMMARY:Ceramics Open Studio 2 Hours
DESCRIPTION:Come on in to finish pieces you worked on in our other classes like Family Ceramics\, Youth Ceramics\, Beginners Ceramics\, Beginners' Wheel\, and Partner Ceramics
URL:https://pdop.org/event/ceramics-open-studio-2-hours-10/
CATEGORIES:Arts & Crafts
END:VEVENT
BEGIN:VEVENT
DTSTART;TZID=America/Chicago:20260418T183000
DTEND;TZID=America/Chicago:20260418T201500
DTSTAMP:20260419T090452
CREATED:20260412T061236Z
LAST-MODIFIED:20260412T061236Z
UID:2361826-1776537000-1776543300@pdop.org
SUMMARY:Public Skate
DESCRIPTION:Public Skate:$12 SKATES INCLUDED \nPre-Registration and Walk-Ins accepted. \nRink Membership are available under the "Membership/Passes"  tab.
URL:https://pdop.org/event/public-skate-29/
END:VEVENT
END:VCALENDAR