BEGIN:VCALENDAR
VERSION:2.0
PRODID:-//Park District of Oak Park - ECPv5.14.1//NONSGML v1.0//EN
CALSCALE:GREGORIAN
METHOD:PUBLISH
X-WR-CALNAME:Park District of Oak Park
X-ORIGINAL-URL:https://pdop.org
X-WR-CALDESC:Events for Park District of Oak Park
REFRESH-INTERVAL;VALUE=DURATION:PT1H
X-Robots-Tag:noindex
X-PUBLISHED-TTL:PT1H
BEGIN:VTIMEZONE
TZID:America/Chicago
BEGIN:DAYLIGHT
TZOFFSETFROM:-0600
TZOFFSETTO:-0500
TZNAME:CDT
DTSTART:20260308T080000
END:DAYLIGHT
BEGIN:STANDARD
TZOFFSETFROM:-0500
TZOFFSETTO:-0600
TZNAME:CST
DTSTART:20261101T070000
END:STANDARD
END:VTIMEZONE
BEGIN:VEVENT
DTSTART;TZID=America/Chicago:20260220T090000
DTEND;TZID=America/Chicago:20260220T100000
DTSTAMP:20260425T103027
CREATED:20260219T060433Z
LAST-MODIFIED:20260219T060433Z
UID:2310883-1771578000-1771581600@pdop.org
SUMMARY:Nia (Friday)
DESCRIPTION:This unique fitness class blends dance\, martial arts\, and healing to achieve your fitness goals and express yourself through movement and sensation. Come experience Nia in this barefoot\, aerobic\, movement based class. Appropriate for all fitness levels; no dance experience necessary.
URL:https://pdop.org/event/nia-friday-8/
END:VEVENT
BEGIN:VEVENT
DTSTART;TZID=America/Chicago:20260220T090000
DTEND;TZID=America/Chicago:20260220T100000
DTSTAMP:20260425T103027
CREATED:20260219T060433Z
LAST-MODIFIED:20260219T060433Z
UID:2310884-1771578000-1771581600@pdop.org
SUMMARY:BODYPUMP (Friday)
DESCRIPTION: LesMills BODYPUMP(TM) is the original barbell class that strengthens your entire body. This workout challenges all your major muscle groups by using the best weight room exercises\, like squats\, presses\, lifts and curls. Great music\, awesome instructors and your choice of weight inspires you to get the results you came for and fast!
URL:https://pdop.org/event/bodypump-friday-8/
END:VEVENT
BEGIN:VEVENT
DTSTART;TZID=America/Chicago:20260220T090000
DTEND;TZID=America/Chicago:20260220T100000
DTSTAMP:20260425T103027
CREATED:20260425T060710Z
LAST-MODIFIED:20260425T060710Z
UID:2369496-1771578000-1771581600@pdop.org
SUMMARY:Nia (Friday)
DESCRIPTION:This unique fitness class blends dance\, martial arts\, and healing to achieve your fitness goals and express yourself through movement and sensation. Come experience Nia in this barefoot\, aerobic\, movement based class. Appropriate for all fitness levels; no dance experience necessary.
URL:https://pdop.org/event/nia-friday-33/
CATEGORIES:Fitness Dropin
END:VEVENT
BEGIN:VEVENT
DTSTART;TZID=America/Chicago:20260220T090000
DTEND;TZID=America/Chicago:20260220T100000
DTSTAMP:20260425T103027
CREATED:20260425T060711Z
LAST-MODIFIED:20260425T060711Z
UID:2369497-1771578000-1771581600@pdop.org
SUMMARY:BODYPUMP (Friday)
DESCRIPTION: LesMills BODYPUMP(TM) is the original barbell class that strengthens your entire body. This workout challenges all your major muscle groups by using the best weight room exercises\, like squats\, presses\, lifts and curls. Great music\, awesome instructors and your choice of weight inspires you to get the results you came for and fast!
URL:https://pdop.org/event/bodypump-friday-34/
CATEGORIES:Fitness Dropin
END:VEVENT
BEGIN:VEVENT
DTSTART;TZID=America/Chicago:20260220T093000
DTEND;TZID=America/Chicago:20260220T101500
DTSTAMP:20260425T103027
CREATED:20260219T060434Z
LAST-MODIFIED:20260219T060434Z
UID:2310885-1771579800-1771582500@pdop.org
SUMMARY:Pilates (Friday)
DESCRIPTION:Experience a dynamic Pilates class designed to strengthen your core\, improve flexibility\, and enhance overall body awareness.
URL:https://pdop.org/event/pilates-friday-4/
END:VEVENT
BEGIN:VEVENT
DTSTART;TZID=America/Chicago:20260220T093000
DTEND;TZID=America/Chicago:20260220T101500
DTSTAMP:20260425T103027
CREATED:20260425T060711Z
LAST-MODIFIED:20260425T060711Z
UID:2369498-1771579800-1771582500@pdop.org
SUMMARY:Pilates (Friday)
DESCRIPTION:Experience a dynamic Pilates class designed to strengthen your core\, improve flexibility\, and enhance overall body awareness.
URL:https://pdop.org/event/pilates-friday-24/
CATEGORIES:Fitness Dropin
END:VEVENT
BEGIN:VEVENT
DTSTART;TZID=America/Chicago:20260220T113000
DTEND;TZID=America/Chicago:20260220T130000
DTSTAMP:20260425T103027
CREATED:20260219T060434Z
LAST-MODIFIED:20260219T060434Z
UID:2310886-1771587000-1771592400@pdop.org
SUMMARY:Noon Skate
DESCRIPTION:Noon Skate:$12 SKATES INCLUDED! \nMondays\, Wednesdays and Fridays ONLY! \nPre-Registration and Walk-Ins accepted. \nRink Membership are available under the "Membership/Passes" tab.
URL:https://pdop.org/event/noon-skate-36/
END:VEVENT
BEGIN:VEVENT
DTSTART;TZID=America/Chicago:20260220T130000
DTEND;TZID=America/Chicago:20260220T143000
DTSTAMP:20260425T103027
CREATED:20260219T060434Z
LAST-MODIFIED:20260219T060434Z
UID:2310887-1771592400-1771597800@pdop.org
SUMMARY:Preschool Playtime (ages 1-6)
DESCRIPTION:$7 per visit OR $6 a visit with a prepaid 10 visit pass for $60. \nA favorite with all our preschoolers\, this is an open gym for children 1-6 years old.  All children must be accompanied and supervised by an adult at all times. Snacks during playtime in the lobby are highly discouraged. Water fountains are not available for use\, so bring your own water bottle. Drop-ins not accepted once we receive max registrations.  \nMax pre-registrations per playtime/60. \nRegistration opens 7 days prior to each scheduled date and closes 1 hour prior to each scheduled date. You have up to 24 hours before the session starts to cancel your pre-registration.
URL:https://pdop.org/event/preschool-playtime-ages-1-6-34/
END:VEVENT
BEGIN:VEVENT
DTSTART;TZID=America/Chicago:20260220T173000
DTEND;TZID=America/Chicago:20260220T183000
DTSTAMP:20260425T103027
CREATED:20260219T060434Z
LAST-MODIFIED:20260219T060434Z
UID:2310888-1771608600-1771612200@pdop.org
SUMMARY:Power Vinyasa (Friday)
DESCRIPTION:Improve your flexibility\, strength\, balance\, and mental stillness with this challenging yet accessible yoga class. Explore breath to movement and learn more about your personal yoga practice.
URL:https://pdop.org/event/power-vinyasa-friday-8/
END:VEVENT
BEGIN:VEVENT
DTSTART;TZID=America/Chicago:20260220T173000
DTEND;TZID=America/Chicago:20260220T183000
DTSTAMP:20260425T103027
CREATED:20260425T060711Z
LAST-MODIFIED:20260425T060711Z
UID:2369499-1771608600-1771612200@pdop.org
SUMMARY:Power Vinyasa (Friday)
DESCRIPTION:Improve your flexibility\, strength\, balance\, and mental stillness with this challenging yet accessible yoga class. Explore breath to movement and learn more about your personal yoga practice.
URL:https://pdop.org/event/power-vinyasa-friday-33/
CATEGORIES:Fitness Dropin
END:VEVENT
BEGIN:VEVENT
DTSTART;TZID=America/Chicago:20260220T180000
DTEND;TZID=America/Chicago:20260220T200000
DTSTAMP:20260425T103027
CREATED:20260219T060434Z
LAST-MODIFIED:20260219T060434Z
UID:2310889-1771610400-1771617600@pdop.org
SUMMARY:Fancy Flower Bouquet
DESCRIPTION:Get ready to bloom with creativity in this delightful Fancy Flower Bouquet Art Class! Inspired by elegant arrangements and garden-fresh beauty\, you’ll design and create your own stunning floral bouquet using a variety of artistic techniques and materials.
URL:https://pdop.org/event/fancy-flower-bouquet/
END:VEVENT
BEGIN:VEVENT
DTSTART;TZID=America/Chicago:20260220T183000
DTEND;TZID=America/Chicago:20260220T201500
DTSTAMP:20260425T103027
CREATED:20260219T060434Z
LAST-MODIFIED:20260219T060434Z
UID:2310890-1771612200-1771618500@pdop.org
SUMMARY:Public Skate
DESCRIPTION:Public Skate:$12 SKATES INCLUDED \nPre-Registration and Walk-Ins accepted. \nRink Membership are available under the "Membership/Passes"  tab.
URL:https://pdop.org/event/public-skate-18/
END:VEVENT
END:VCALENDAR