BEGIN:VCALENDAR
VERSION:2.0
PRODID:-//Park District of Oak Park - ECPv5.14.1//NONSGML v1.0//EN
CALSCALE:GREGORIAN
METHOD:PUBLISH
X-WR-CALNAME:Park District of Oak Park
X-ORIGINAL-URL:https://pdop.org
X-WR-CALDESC:Events for Park District of Oak Park
REFRESH-INTERVAL;VALUE=DURATION:PT1H
X-Robots-Tag:noindex
X-PUBLISHED-TTL:PT1H
BEGIN:VTIMEZONE
TZID:America/Chicago
BEGIN:DAYLIGHT
TZOFFSETFROM:-0600
TZOFFSETTO:-0500
TZNAME:CDT
DTSTART:20260308T080000
END:DAYLIGHT
BEGIN:STANDARD
TZOFFSETFROM:-0500
TZOFFSETTO:-0600
TZNAME:CST
DTSTART:20261101T070000
END:STANDARD
END:VTIMEZONE
BEGIN:VEVENT
DTSTART;VALUE=DATE:20260201
DTEND;VALUE=DATE:20260216
DTSTAMP:20260425T103032
CREATED:20251030T193144Z
LAST-MODIFIED:20260113T180837Z
UID:2052284-1769904000-1771199999@pdop.org
SUMMARY:Valentine's Market
DESCRIPTION:Give your Valentine a gift that blooms! Locally grown and full of love\, choose from blooming plants\, succulents\, tropical houseplants\, fresh-cut bouquets\, and more. \nOrder online: February 1-10\nShop in-person: February 10-15 \nClick here to be redirected to the Oak Park Conservatory’s website to learn more!
URL:https://pdop.org/event/valentines-market-2/
LOCATION:Oak Park Conservatory\, 615 Garfield St\, Oak Park\, IL\, 60304\, United States
ATTACH;FMTTYPE=image/jpeg:https://pdop.org/wp-content/uploads/2024/01/Valentines-Market.jpg
END:VEVENT
BEGIN:VEVENT
DTSTART;TZID=America/Chicago:20260209T060000
DTEND;TZID=America/Chicago:20260209T064500
DTSTAMP:20260425T103032
CREATED:20260219T060418Z
LAST-MODIFIED:20260219T060418Z
UID:2310778-1770616800-1770619500@pdop.org
SUMMARY:Express BODYPUMP (Monday)
DESCRIPTION:LesMills BODYPUMP (TM) is the original barbell class that strengthens your entire body. This 45-minute workout challenges all your major muscle groups by using the best weight room exercises\, like squats\, presses\, lifts\, and curls.
URL:https://pdop.org/event/express-bodypump-monday-11/
END:VEVENT
BEGIN:VEVENT
DTSTART;TZID=America/Chicago:20260209T060000
DTEND;TZID=America/Chicago:20260209T064500
DTSTAMP:20260425T103032
CREATED:20260425T060658Z
LAST-MODIFIED:20260425T060658Z
UID:2369424-1770616800-1770619500@pdop.org
SUMMARY:Express BODYPUMP (Monday)
DESCRIPTION:LesMills BODYPUMP (TM) is the original barbell class that strengthens your entire body. This 45-minute workout challenges all your major muscle groups by using the best weight room exercises\, like squats\, presses\, lifts\, and curls.
URL:https://pdop.org/event/express-bodypump-monday-57/
CATEGORIES:Fitness Dropin
END:VEVENT
BEGIN:VEVENT
DTSTART;TZID=America/Chicago:20260209T090000
DTEND;TZID=America/Chicago:20260209T100000
DTSTAMP:20260425T103032
CREATED:20260219T060418Z
LAST-MODIFIED:20260219T060418Z
UID:2310779-1770627600-1770631200@pdop.org
SUMMARY:Nia (Monday)
DESCRIPTION:This unique fitness class blends dance\, martial arts\, and healing to achieve your fitness goals and express yourself through movement and sensation. Come experience Nia in this barefoot\, aerobic\, movement based class. Appropriate for all fitness levels; no dance experience necessary.
URL:https://pdop.org/event/nia-monday-6/
END:VEVENT
BEGIN:VEVENT
DTSTART;TZID=America/Chicago:20260209T090000
DTEND;TZID=America/Chicago:20260209T100000
DTSTAMP:20260425T103032
CREATED:20260425T060658Z
LAST-MODIFIED:20260425T060658Z
UID:2369425-1770627600-1770631200@pdop.org
SUMMARY:Nia (Monday)
DESCRIPTION:This unique fitness class blends dance\, martial arts\, and healing to achieve your fitness goals and express yourself through movement and sensation. Come experience Nia in this barefoot\, aerobic\, movement based class. Appropriate for all fitness levels; no dance experience necessary.
URL:https://pdop.org/event/nia-monday-29/
CATEGORIES:Fitness Dropin
END:VEVENT
BEGIN:VEVENT
DTSTART;TZID=America/Chicago:20260209T094500
DTEND;TZID=America/Chicago:20260209T111500
DTSTAMP:20260425T103032
CREATED:20260219T060418Z
LAST-MODIFIED:20260219T060418Z
UID:2310780-1770630300-1770635700@pdop.org
SUMMARY:All Ages Stick & Puck
DESCRIPTION:Starting Jan. 26th Mondays are 1/2 Ice ONLY! \nAll players must pre-register at least 1 hour prior to the session. \nGear Requirements 18 & Up: Helmet\, elbow pads\, gloves\, shin pads\, hockey skates \nGear Requirements 17 & Under: Full gear – helmet w/ full face shield\, chest pad\, elbow pads\, hockey gloves\, hockey pants\, shin pads\, skates \nStick & Puck is for open hockey and skill practice only. \nScrimmages of any sort are strictly prohibited.  \nCoaching and instruction of any sort is strictly prohibited during Skills & Drills sessions.
URL:https://pdop.org/event/all-ages-stick-puck-11/
END:VEVENT
BEGIN:VEVENT
DTSTART;TZID=America/Chicago:20260209T101500
DTEND;TZID=America/Chicago:20260209T114500
DTSTAMP:20260425T103032
CREATED:20260219T060418Z
LAST-MODIFIED:20260219T060418Z
UID:2310781-1770632100-1770637500@pdop.org
SUMMARY:Preschool Playtime (ages 1-6)
DESCRIPTION:$7 per visit OR $6 a visit with a prepaid 10 visit pass for $60. \nA favorite with all our preschoolers\, this is an open gym for children 1-6 years old.  All children must be accompanied and supervised by an adult at all times. Snacks during playtime in the lobby are highly discouraged. Water fountains are not available for use\, so bring your own water bottle. Drop-ins not accepted once we receive max registrations.  \nMax pre-registrations per playtime/60. \nRegistration opens 7 days prior to each scheduled date and closes 1 hour prior to each scheduled date. You have up to 24 hours before the session starts to cancel your pre-registration.
URL:https://pdop.org/event/preschool-playtime-ages-1-6-25/
END:VEVENT
BEGIN:VEVENT
DTSTART;TZID=America/Chicago:20260209T113000
DTEND;TZID=America/Chicago:20260209T130000
DTSTAMP:20260425T103032
CREATED:20260219T060418Z
LAST-MODIFIED:20260219T060418Z
UID:2310782-1770636600-1770642000@pdop.org
SUMMARY:Noon Skate
DESCRIPTION:Noon Skate:$12 SKATES INCLUDED! \nMondays\, Wednesdays and Fridays ONLY! \nPre-Registration and Walk-Ins accepted. \nRink Membership are available under the "Membership/Passes" tab.
URL:https://pdop.org/event/noon-skate-27/
END:VEVENT
BEGIN:VEVENT
DTSTART;TZID=America/Chicago:20260209T120000
DTEND;TZID=America/Chicago:20260209T124500
DTSTAMP:20260425T103032
CREATED:20260219T060418Z
LAST-MODIFIED:20260219T060418Z
UID:2310783-1770638400-1770641100@pdop.org
SUMMARY:Express BODYPUMP (Monday)
DESCRIPTION:LesMills BODYPUMP (TM) is the original barbell class that strengthens your entire body. This 45-minute workout challenges all your major muscle groups by using the best weight room exercises\, like squats\, presses\, lifts\, and curls.
URL:https://pdop.org/event/express-bodypump-monday-12/
END:VEVENT
BEGIN:VEVENT
DTSTART;TZID=America/Chicago:20260209T120000
DTEND;TZID=America/Chicago:20260209T124500
DTSTAMP:20260425T103032
CREATED:20260425T060658Z
LAST-MODIFIED:20260425T060658Z
UID:2369426-1770638400-1770641100@pdop.org
SUMMARY:Express BODYPUMP (Monday)
DESCRIPTION:LesMills BODYPUMP (TM) is the original barbell class that strengthens your entire body. This 45-minute workout challenges all your major muscle groups by using the best weight room exercises\, like squats\, presses\, lifts\, and curls.
URL:https://pdop.org/event/express-bodypump-monday-58/
CATEGORIES:Fitness Dropin
END:VEVENT
BEGIN:VEVENT
DTSTART;TZID=America/Chicago:20260209T133000
DTEND;TZID=America/Chicago:20260209T150000
DTSTAMP:20260425T103032
CREATED:20260219T060418Z
LAST-MODIFIED:20260219T060418Z
UID:2310784-1770643800-1770649200@pdop.org
SUMMARY:All Ages Stick & Puck
DESCRIPTION:Starting Jan. 26th Mondays are 1/2 Ice ONLY! \nAll players must pre-register at least 1 hour prior to the session. \nGear Requirements 18 & Up: Helmet\, elbow pads\, gloves\, shin pads\, hockey skates \nGear Requirements 17 & Under: Full gear – helmet w/ full face shield\, chest pad\, elbow pads\, hockey gloves\, hockey pants\, shin pads\, skates \nStick & Puck is for open hockey and skill practice only. \nScrimmages of any sort are strictly prohibited.  \nCoaching and instruction of any sort is strictly prohibited during Skills & Drills sessions.
URL:https://pdop.org/event/all-ages-stick-puck-12/
END:VEVENT
BEGIN:VEVENT
DTSTART;TZID=America/Chicago:20260209T174500
DTEND;TZID=America/Chicago:20260209T184500
DTSTAMP:20260425T103032
CREATED:20260219T060419Z
LAST-MODIFIED:20260219T060419Z
UID:2310785-1770659100-1770662700@pdop.org
SUMMARY:Zumba (Monday)
DESCRIPTION:Zumba fitness is like no other workout you will ever experience! It combines Latin rhythms and easy-to-follow dance moves to create a one-of-a-kind fitness program. You will fall in love with the infectious music and body-beautifying benefits.
URL:https://pdop.org/event/zumba-monday-6/
END:VEVENT
BEGIN:VEVENT
DTSTART;TZID=America/Chicago:20260209T174500
DTEND;TZID=America/Chicago:20260209T184500
DTSTAMP:20260425T103032
CREATED:20260425T060658Z
LAST-MODIFIED:20260425T060658Z
UID:2369427-1770659100-1770662700@pdop.org
SUMMARY:Zumba (Monday)
DESCRIPTION:Zumba fitness is like no other workout you will ever experience! It combines Latin rhythms and easy-to-follow dance moves to create a one-of-a-kind fitness program. You will fall in love with the infectious music and body-beautifying benefits.
URL:https://pdop.org/event/zumba-monday-29/
CATEGORIES:Fitness Dropin
END:VEVENT
BEGIN:VEVENT
DTSTART;TZID=America/Chicago:20260209T190000
DTEND;TZID=America/Chicago:20260209T194500
DTSTAMP:20260425T103032
CREATED:20260219T060419Z
LAST-MODIFIED:20260219T060419Z
UID:2310787-1770663600-1770666300@pdop.org
SUMMARY:PowerStrength (Monday)
DESCRIPTION:  \nProgressive strength training\, this 45-minute class focuses on building muscle\, improving technique and growing confidence while lifting weights in a slower tempo to generate hypertrophy.
URL:https://pdop.org/event/powerstrength-monday-2/
END:VEVENT
BEGIN:VEVENT
DTSTART;TZID=America/Chicago:20260209T190000
DTEND;TZID=America/Chicago:20260209T194500
DTSTAMP:20260425T103032
CREATED:20260425T060659Z
LAST-MODIFIED:20260425T060659Z
UID:2369429-1770663600-1770666300@pdop.org
SUMMARY:PowerStrength (Monday)
DESCRIPTION:  \nProgressive strength training\, this 45-minute class focuses on building muscle\, improving technique and growing confidence while lifting weights in a slower tempo to generate hypertrophy.
URL:https://pdop.org/event/powerstrength-monday-22/
CATEGORIES:Fitness Dropin
END:VEVENT
BEGIN:VEVENT
DTSTART;TZID=America/Chicago:20260209T190000
DTEND;TZID=America/Chicago:20260209T200000
DTSTAMP:20260425T103032
CREATED:20260219T060419Z
LAST-MODIFIED:20260219T060419Z
UID:2310786-1770663600-1770667200@pdop.org
SUMMARY:Power Vinyasa (Monday)
DESCRIPTION:Improve your flexibility\, strength\, balance\, and mental stillness with this challenging yet accessible yoga class. Explore breath to movement and learn more about your personal yoga practice.
URL:https://pdop.org/event/power-vinyasa-monday-6/
END:VEVENT
BEGIN:VEVENT
DTSTART;TZID=America/Chicago:20260209T190000
DTEND;TZID=America/Chicago:20260209T200000
DTSTAMP:20260425T103032
CREATED:20260425T060658Z
LAST-MODIFIED:20260425T060658Z
UID:2369428-1770663600-1770667200@pdop.org
SUMMARY:Power Vinyasa (Monday)
DESCRIPTION:Improve your flexibility\, strength\, balance\, and mental stillness with this challenging yet accessible yoga class. Explore breath to movement and learn more about your personal yoga practice.
URL:https://pdop.org/event/power-vinyasa-monday-28/
CATEGORIES:Fitness Dropin
END:VEVENT
END:VCALENDAR