BEGIN:VCALENDAR
VERSION:2.0
PRODID:-//Park District of Oak Park - ECPv5.14.1//NONSGML v1.0//EN
CALSCALE:GREGORIAN
METHOD:PUBLISH
X-WR-CALNAME:Park District of Oak Park
X-ORIGINAL-URL:https://pdop.org
X-WR-CALDESC:Events for Park District of Oak Park
REFRESH-INTERVAL;VALUE=DURATION:PT1H
X-Robots-Tag:noindex
X-PUBLISHED-TTL:PT1H
BEGIN:VTIMEZONE
TZID:America/Chicago
BEGIN:DAYLIGHT
TZOFFSETFROM:-0600
TZOFFSETTO:-0500
TZNAME:CDT
DTSTART:20260308T080000
END:DAYLIGHT
BEGIN:STANDARD
TZOFFSETFROM:-0500
TZOFFSETTO:-0600
TZNAME:CST
DTSTART:20261101T070000
END:STANDARD
END:VTIMEZONE
BEGIN:VEVENT
DTSTART;VALUE=DATE:20260201
DTEND;VALUE=DATE:20260216
DTSTAMP:20260425T103027
CREATED:20251030T193144Z
LAST-MODIFIED:20260113T180837Z
UID:2052284-1769904000-1771199999@pdop.org
SUMMARY:Valentine's Market
DESCRIPTION:Give your Valentine a gift that blooms! Locally grown and full of love\, choose from blooming plants\, succulents\, tropical houseplants\, fresh-cut bouquets\, and more. \nOrder online: February 1-10\nShop in-person: February 10-15 \nClick here to be redirected to the Oak Park Conservatory’s website to learn more!
URL:https://pdop.org/event/valentines-market-2/
LOCATION:Oak Park Conservatory\, 615 Garfield St\, Oak Park\, IL\, 60304\, United States
ATTACH;FMTTYPE=image/jpeg:https://pdop.org/wp-content/uploads/2024/01/Valentines-Market.jpg
END:VEVENT
BEGIN:VEVENT
DTSTART;TZID=America/Chicago:20260207T071500
DTEND;TZID=America/Chicago:20260207T081500
DTSTAMP:20260425T103027
CREATED:20260219T060416Z
LAST-MODIFIED:20260219T060416Z
UID:2310765-1770448500-1770452100@pdop.org
SUMMARY:BODYPUMP (Saturday)
DESCRIPTION: LesMills BODYPUMP(TM) is the original barbell class that strengthens your entire body. This workout challenges all your major muscle groups by using the best weight room exercises\, like squats\, presses\, lifts and curls. Great music\, awesome instructors and your choice of weight inspires you to get the results you came for and fast! \n 
URL:https://pdop.org/event/bodypump-saturday-6/
END:VEVENT
BEGIN:VEVENT
DTSTART;TZID=America/Chicago:20260207T071500
DTEND;TZID=America/Chicago:20260207T081500
DTSTAMP:20260425T103027
CREATED:20260425T060656Z
LAST-MODIFIED:20260425T060656Z
UID:2369415-1770448500-1770452100@pdop.org
SUMMARY:BODYPUMP (Saturday)
DESCRIPTION: LesMills BODYPUMP(TM) is the original barbell class that strengthens your entire body. This workout challenges all your major muscle groups by using the best weight room exercises\, like squats\, presses\, lifts and curls. Great music\, awesome instructors and your choice of weight inspires you to get the results you came for and fast! \n 
URL:https://pdop.org/event/bodypump-saturday-30/
CATEGORIES:Fitness Dropin
END:VEVENT
BEGIN:VEVENT
DTSTART;TZID=America/Chicago:20260207T080000
DTEND;TZID=America/Chicago:20260207T084500
DTSTAMP:20260425T103027
CREATED:20260219T060416Z
LAST-MODIFIED:20260219T060416Z
UID:2310766-1770451200-1770453900@pdop.org
SUMMARY:BOOTCAMP: Strength Training (Saturday)
DESCRIPTION:This strength training class will help to sculpt your physique\, build muscle\, and enhance overall strength through dynamic workouts that combine resistance training\, functional movements\, and high-intensity exercises in a motivating group setting!
URL:https://pdop.org/event/bootcamp-strength-training-saturday-5/
END:VEVENT
BEGIN:VEVENT
DTSTART;TZID=America/Chicago:20260207T080000
DTEND;TZID=America/Chicago:20260207T084500
DTSTAMP:20260425T103027
CREATED:20260425T060656Z
LAST-MODIFIED:20260425T060656Z
UID:2369416-1770451200-1770453900@pdop.org
SUMMARY:BOOTCAMP: Strength Training (Saturday)
DESCRIPTION:This strength training class will help to sculpt your physique\, build muscle\, and enhance overall strength through dynamic workouts that combine resistance training\, functional movements\, and high-intensity exercises in a motivating group setting!
URL:https://pdop.org/event/bootcamp-strength-training-saturday-27/
CATEGORIES:Fitness Dropin
END:VEVENT
BEGIN:VEVENT
DTSTART;TZID=America/Chicago:20260207T083000
DTEND;TZID=America/Chicago:20260207T093000
DTSTAMP:20260425T103027
CREATED:20260219T060416Z
LAST-MODIFIED:20260219T060416Z
UID:2310767-1770453000-1770456600@pdop.org
SUMMARY:Cycle (Saturday)
DESCRIPTION:There's something for everyone in these classes: Intervals\, rolling hills\, sprints\, climbs\, runs\, surges and jumps all to music hand-picked to motivate and inspire! This is a great workout if you want to burn calories and increase endurance. Come on in for the ride!
URL:https://pdop.org/event/cycle-saturday-6/
END:VEVENT
BEGIN:VEVENT
DTSTART;TZID=America/Chicago:20260207T083000
DTEND;TZID=America/Chicago:20260207T093000
DTSTAMP:20260425T103027
CREATED:20260425T060656Z
LAST-MODIFIED:20260425T060656Z
UID:2369417-1770453000-1770456600@pdop.org
SUMMARY:Cycle (Saturday)
DESCRIPTION:There's something for everyone in these classes: Intervals\, rolling hills\, sprints\, climbs\, runs\, surges and jumps all to music hand-picked to motivate and inspire! This is a great workout if you want to burn calories and increase endurance. Come on in for the ride!
URL:https://pdop.org/event/cycle-saturday-29/
CATEGORIES:Fitness Dropin
END:VEVENT
BEGIN:VEVENT
DTSTART;TZID=America/Chicago:20260207T093000
DTEND;TZID=America/Chicago:20260207T100000
DTSTAMP:20260425T103027
CREATED:20260219T060416Z
LAST-MODIFIED:20260219T060416Z
UID:2310768-1770456600-1770458400@pdop.org
SUMMARY:Foam Rolling (Saturday)
DESCRIPTION:Using tools such as a lacrosse ball and a foam roller\, this class focuses on self massage techniques that relieve muscle tension and increase range of motion. Self myofascial release corrects postural imbalances and improves neck\, shoulder\, back\, and knee pain. Learn and practice techniques that is popular among athletes–from gymnasts to basketball players–to decrease post-exercise recovery time\, enhance performance\, and prevent injury. You'll also learn new core exercises to help stabilize your body during everyday movements. 
URL:https://pdop.org/event/foam-rolling-saturday-6/
END:VEVENT
BEGIN:VEVENT
DTSTART;TZID=America/Chicago:20260207T093000
DTEND;TZID=America/Chicago:20260207T100000
DTSTAMP:20260425T103027
CREATED:20260425T060656Z
LAST-MODIFIED:20260425T060656Z
UID:2369418-1770456600-1770458400@pdop.org
SUMMARY:Foam Rolling (Saturday)
DESCRIPTION:Using tools such as a lacrosse ball and a foam roller\, this class focuses on self massage techniques that relieve muscle tension and increase range of motion. Self myofascial release corrects postural imbalances and improves neck\, shoulder\, back\, and knee pain. Learn and practice techniques that is popular among athletes–from gymnasts to basketball players–to decrease post-exercise recovery time\, enhance performance\, and prevent injury. You'll also learn new core exercises to help stabilize your body during everyday movements. 
URL:https://pdop.org/event/foam-rolling-saturday-29/
CATEGORIES:Fitness Dropin
END:VEVENT
BEGIN:VEVENT
DTSTART;TZID=America/Chicago:20260207T100000
DTEND;TZID=America/Chicago:20260207T133000
DTSTAMP:20260425T103027
CREATED:20260106T154527Z
LAST-MODIFIED:20260106T154527Z
UID:2259928-1770458400-1770471000@pdop.org
SUMMARY:Repair Cafe
DESCRIPTION:Open the first Saturday of every month\, 10:00A-1:30P at Fox Center (624 S Oak Park Ave)\n\n\n\nToss it? No way! The Oak Park Repair Café meets the first Saturday of the month at Fox Center. Repair coaches will be available to help you fix anything from small appliances to torn clothing. \nThe Oak Park Repair Café is free and open to the public; since we started in 2013 we’ve kept over 700 items out of the landfill! \nGiven the increase in volume we request each guest bring one item for repair. \nThank you\, and looking forward to seeing you there! \nTo learn more about the international Repair Café movement\, please go to www.repaircafe.org. The Oak Park Repair Café can be found at www.repaircafeoakparkil.org.
URL:https://pdop.org/event/repair-cafe-4/
LOCATION:Fox Center\, 624 S. Oak Park Avenue\, Oak Park\, IL\, United States
ATTACH;FMTTYPE=image/png:https://pdop.org/wp-content/uploads/2025/06/repair-cafe.png
END:VEVENT
BEGIN:VEVENT
DTSTART;TZID=America/Chicago:20260207T103000
DTEND;TZID=America/Chicago:20260207T111500
DTSTAMP:20260425T103027
CREATED:20260219T060417Z
LAST-MODIFIED:20260219T060417Z
UID:2310769-1770460200-1770462900@pdop.org
SUMMARY:Werq Dance Fitness (Saturday)
DESCRIPTION:Build cardiovascular endurance and strengthen your heart muscle while dancing to today's hottest Top 40 Pop\, Rock and Hip Hop Music! \nWERQ® is the fiercely fun dance fitness class based on pop\, rock\, and hip hop music taught by Certified Fitness Professionals.
URL:https://pdop.org/event/werq-dance-fitness-saturday-5/
END:VEVENT
BEGIN:VEVENT
DTSTART;TZID=America/Chicago:20260207T103000
DTEND;TZID=America/Chicago:20260207T111500
DTSTAMP:20260425T103027
CREATED:20260425T060656Z
LAST-MODIFIED:20260425T060656Z
UID:2369419-1770460200-1770462900@pdop.org
SUMMARY:Werq Dance Fitness (Saturday)
DESCRIPTION:Build cardiovascular endurance and strengthen your heart muscle while dancing to today's hottest Top 40 Pop\, Rock and Hip Hop Music! \nWERQ® is the fiercely fun dance fitness class based on pop\, rock\, and hip hop music taught by Certified Fitness Professionals.
URL:https://pdop.org/event/werq-dance-fitness-saturday-27/
CATEGORIES:Fitness Dropin
END:VEVENT
BEGIN:VEVENT
DTSTART;TZID=America/Chicago:20260207T140000
DTEND;TZID=America/Chicago:20260207T160000
DTSTAMP:20260425T103027
CREATED:20260219T060417Z
LAST-MODIFIED:20260219T060417Z
UID:2310770-1770472800-1770480000@pdop.org
SUMMARY:Try-It Lapidary
DESCRIPTION:Explore the art of stone cutting and polishing in this monthly hands-on introductory session!  You’ll learn the basics of shaping\, grinding\, and polishing stones to reveal their natural beauty.  Our skilled instructor will guide you through each step.  Using diamond grit grinding wheels to shape and polish a small stone.  Time permitting\, we can even wire wrap or set the stone with a bail so it’s ready to wear.  Perfect for jewelry and rock lovers\, and those interested in exploring the world of stonework.  Materials and safety gear are provided. 
URL:https://pdop.org/event/try-it-lapidary/
END:VEVENT
BEGIN:VEVENT
DTSTART;TZID=America/Chicago:20260207T160000
DTEND;TZID=America/Chicago:20260207T173000
DTSTAMP:20260425T103027
CREATED:20260219T060417Z
LAST-MODIFIED:20260219T060417Z
UID:2310771-1770480000-1770485400@pdop.org
SUMMARY:All Ages Stick & Puck
DESCRIPTION:Starting Jan. 26th Mondays are 1/2 Ice ONLY! \nAll players must pre-register at least 1 hour prior to the session. \nGear Requirements 18 & Up: Helmet\, elbow pads\, gloves\, shin pads\, hockey skates \nGear Requirements 17 & Under: Full gear – helmet w/ full face shield\, chest pad\, elbow pads\, hockey gloves\, hockey pants\, shin pads\, skates \nStick & Puck is for open hockey and skill practice only. \nScrimmages of any sort are strictly prohibited.  \nCoaching and instruction of any sort is strictly prohibited during Skills & Drills sessions.
URL:https://pdop.org/event/all-ages-stick-puck-10/
END:VEVENT
BEGIN:VEVENT
DTSTART;TZID=America/Chicago:20260207T183000
DTEND;TZID=America/Chicago:20260207T201500
DTSTAMP:20260425T103027
CREATED:20260219T060417Z
LAST-MODIFIED:20260219T060417Z
UID:2310772-1770489000-1770495300@pdop.org
SUMMARY:Public Skate
DESCRIPTION:Public Skate:$12 SKATES INCLUDED \nPre-Registration and Walk-Ins accepted. \nRink Membership are available under the "Membership/Passes"  tab.
URL:https://pdop.org/event/public-skate-14/
END:VEVENT
END:VCALENDAR